BEGIN:VCALENDAR
VERSION:2.0
PRODID:-//New South Wales Secondary Principals&#039; Council - ECPv6.15.5//NONSGML v1.0//EN
CALSCALE:GREGORIAN
METHOD:PUBLISH
X-ORIGINAL-URL:https://nswspc.org.au
X-WR-CALDESC:Events for New South Wales Secondary Principals&#039; Council
REFRESH-INTERVAL;VALUE=DURATION:PT1H
X-Robots-Tag:noindex
X-PUBLISHED-TTL:PT1H
BEGIN:VTIMEZONE
TZID:Australia/Adelaide
BEGIN:STANDARD
TZOFFSETFROM:+1030
TZOFFSETTO:+0930
TZNAME:ACST
DTSTART:20250405T163000
END:STANDARD
BEGIN:DAYLIGHT
TZOFFSETFROM:+0930
TZOFFSETTO:+1030
TZNAME:ACDT
DTSTART:20251004T163000
END:DAYLIGHT
BEGIN:STANDARD
TZOFFSETFROM:+1030
TZOFFSETTO:+0930
TZNAME:ACST
DTSTART:20260404T163000
END:STANDARD
BEGIN:DAYLIGHT
TZOFFSETFROM:+0930
TZOFFSETTO:+1030
TZNAME:ACDT
DTSTART:20261003T163000
END:DAYLIGHT
END:VTIMEZONE
BEGIN:VTIMEZONE
TZID:Australia/Sydney
BEGIN:STANDARD
TZOFFSETFROM:+1100
TZOFFSETTO:+1000
TZNAME:AEST
DTSTART:20230401T160000
END:STANDARD
BEGIN:DAYLIGHT
TZOFFSETFROM:+1000
TZOFFSETTO:+1100
TZNAME:AEDT
DTSTART:20230930T160000
END:DAYLIGHT
BEGIN:STANDARD
TZOFFSETFROM:+1100
TZOFFSETTO:+1000
TZNAME:AEST
DTSTART:20240406T160000
END:STANDARD
BEGIN:DAYLIGHT
TZOFFSETFROM:+1000
TZOFFSETTO:+1100
TZNAME:AEDT
DTSTART:20241005T160000
END:DAYLIGHT
BEGIN:STANDARD
TZOFFSETFROM:+1100
TZOFFSETTO:+1000
TZNAME:AEST
DTSTART:20250405T160000
END:STANDARD
BEGIN:DAYLIGHT
TZOFFSETFROM:+1000
TZOFFSETTO:+1100
TZNAME:AEDT
DTSTART:20251004T160000
END:DAYLIGHT
END:VTIMEZONE
BEGIN:VEVENT
DTSTART;TZID=Australia/Adelaide:20260213T083000
DTEND;TZID=Australia/Adelaide:20260213T150000
DTSTAMP:20260421T192413
CREATED:20251015T011500Z
LAST-MODIFIED:20251015T012457Z
UID:10000956-1770971400-1770994800@nswspc.org.au
SUMMARY:Western Sydney Regional Meeting
DESCRIPTION:
URL:https://nswspc.org.au/event/spc-executive-meeting-38/
LOCATION:Tradewynds\, Nirimba Education Precinct\, Quakers Hill\, New South Wales\, 2763\, Australia
CATEGORIES:Regional meetings
ORGANIZER;CN="Sally Smithard":MAILTO:Sally.M.Smithard@det.nsw.edu.au
END:VEVENT
BEGIN:VEVENT
DTSTART;TZID=Australia/Sydney:20251024T083000
DTEND;TZID=Australia/Sydney:20251024T153000
DTSTAMP:20260421T192413
CREATED:20250211T031719Z
LAST-MODIFIED:20250211T031719Z
UID:10000929-1761294600-1761319800@nswspc.org.au
SUMMARY:Western Sydney Regional Meeting
DESCRIPTION:
URL:https://nswspc.org.au/event/western-sydney-regional-meeting-6/
LOCATION:Tradewynds\, Nirimba Education Precinct\, Quakers Hill\, New South Wales\, 2763\, Australia
CATEGORIES:Regional meetings
ORGANIZER;CN="Sally Smithard":MAILTO:Sally.M.Smithard@det.nsw.edu.au
END:VEVENT
BEGIN:VEVENT
DTSTART;TZID=Australia/Adelaide:20251016T080000
DTEND;TZID=Australia/Adelaide:20251016T170000
DTSTAMP:20260421T192413
CREATED:20251016T010120Z
LAST-MODIFIED:20251016T010120Z
UID:10000983-1760601600-1760634000@nswspc.org.au
SUMMARY:Western Sydney Regional Meeting
DESCRIPTION:
URL:https://nswspc.org.au/event/western-sydney-regional-meeting-8/
LOCATION:Tradewynds\, Nirimba Education Precinct\, Quakers Hill\, New South Wales\, 2763\, Australia
CATEGORIES:Regional meetings
ORGANIZER;CN="Sally Smithard":MAILTO:Sally.M.Smithard@det.nsw.edu.au
END:VEVENT
BEGIN:VEVENT
DTSTART;TZID=Australia/Sydney:20250801T083000
DTEND;TZID=Australia/Sydney:20250801T153000
DTSTAMP:20260421T192413
CREATED:20250211T031716Z
LAST-MODIFIED:20250211T031716Z
UID:10000893-1754037000-1754062200@nswspc.org.au
SUMMARY:Western Sydney Regional Meeting
DESCRIPTION:
URL:https://nswspc.org.au/event/western-sydney-regional-meeting-5/
LOCATION:Tradewynds\, Nirimba Education Precinct\, Quakers Hill\, New South Wales\, 2763\, Australia
CATEGORIES:Regional meetings
ORGANIZER;CN="Sally Smithard":MAILTO:Sally.M.Smithard@det.nsw.edu.au
END:VEVENT
BEGIN:VEVENT
DTSTART;TZID=Australia/Sydney:20250214T080000
DTEND;TZID=Australia/Sydney:20250214T170000
DTSTAMP:20260421T192413
CREATED:20250211T031551Z
LAST-MODIFIED:20250211T031551Z
UID:10000819-1739520000-1739552400@nswspc.org.au
SUMMARY:Western Sydney Regional Meeting
DESCRIPTION:
URL:https://nswspc.org.au/event/western-sydney-regional-meeting-3/
LOCATION:Tradewynds\, Nirimba Education Precinct\, Quakers Hill\, New South Wales\, 2763\, Australia
CATEGORIES:Regional meetings
ORGANIZER;CN="Sally Smithard":MAILTO:Sally.M.Smithard@det.nsw.edu.au
END:VEVENT
BEGIN:VEVENT
DTSTART;TZID=Australia/Sydney:20241025T000000
DTEND;TZID=Australia/Sydney:20241025T000000
DTSTAMP:20260421T192413
CREATED:20250211T031431Z
LAST-MODIFIED:20250211T031431Z
UID:10000793-1729814400-1729814400@nswspc.org.au
SUMMARY:Western Sydney Regional Group Meeting
DESCRIPTION:
URL:https://nswspc.org.au/event/western-sydney-regional-group-meeting-8/
LOCATION:Tradewynds\, Nirimba Education Precinct\, Quakers Hill\, New South Wales\, 2763\, Australia
CATEGORIES:Regional meetings
ORGANIZER;CN="Sally Smithard":MAILTO:Sally.M.Smithard@det.nsw.edu.au
END:VEVENT
BEGIN:VEVENT
DTSTART;TZID=Australia/Sydney:20240802T000000
DTEND;TZID=Australia/Sydney:20240802T000000
DTSTAMP:20260421T192413
CREATED:20250211T031429Z
LAST-MODIFIED:20250211T031429Z
UID:10000769-1722556800-1722556800@nswspc.org.au
SUMMARY:Western Sydney Regional Group Meeting
DESCRIPTION:
URL:https://nswspc.org.au/event/western-sydney-regional-group-meeting-7/
LOCATION:Tradewynds\, Nirimba Education Precinct\, Quakers Hill\, New South Wales\, 2763\, Australia
CATEGORIES:Regional meetings
ORGANIZER;CN="Sally Smithard":MAILTO:Sally.M.Smithard@det.nsw.edu.au
END:VEVENT
BEGIN:VEVENT
DTSTART;TZID=Australia/Sydney:20240510T000000
DTEND;TZID=Australia/Sydney:20240510T000000
DTSTAMP:20260421T192413
CREATED:20250211T031338Z
LAST-MODIFIED:20250211T031338Z
UID:10000743-1715299200-1715299200@nswspc.org.au
SUMMARY:Western Sydney Regional Group Meeting
DESCRIPTION:
URL:https://nswspc.org.au/event/western-sydney-regional-group-meeting-6/
LOCATION:Tradewynds\, Nirimba Education Precinct\, Quakers Hill\, New South Wales\, 2763\, Australia
CATEGORIES:Regional meetings
ORGANIZER;CN="Sally Smithard":MAILTO:Sally.M.Smithard@det.nsw.edu.au
END:VEVENT
BEGIN:VEVENT
DTSTART;TZID=Australia/Sydney:20240216T000000
DTEND;TZID=Australia/Sydney:20240216T000000
DTSTAMP:20260421T192413
CREATED:20250211T031254Z
LAST-MODIFIED:20250211T031254Z
UID:10000716-1708041600-1708041600@nswspc.org.au
SUMMARY:Western Sydney Regional Group Meeting
DESCRIPTION:
URL:https://nswspc.org.au/event/western-sydney-regional-group-meeting-5/
LOCATION:Tradewynds\, Nirimba Education Precinct\, Quakers Hill\, New South Wales\, 2763\, Australia
CATEGORIES:Regional meetings
ORGANIZER;CN="Sally Smithard":MAILTO:Sally.M.Smithard@det.nsw.edu.au
END:VEVENT
BEGIN:VEVENT
DTSTART;TZID=Australia/Sydney:20231020T000000
DTEND;TZID=Australia/Sydney:20231020T000000
DTSTAMP:20260421T192413
CREATED:20250211T031136Z
LAST-MODIFIED:20250211T031136Z
UID:10000675-1697760000-1697760000@nswspc.org.au
SUMMARY:Western Sydney Regional Meeting
DESCRIPTION:
URL:https://nswspc.org.au/event/western-sydney-regional-meeting-2/
LOCATION:Tradewynds\, Nirimba Education Precinct\, Quakers Hill\, New South Wales\, 2763\, Australia
CATEGORIES:Regional meetings
ORGANIZER;CN="Sally Smithard":MAILTO:Sally.M.Smithard@det.nsw.edu.au
END:VEVENT
BEGIN:VEVENT
DTSTART;TZID=Australia/Sydney:20230504T000000
DTEND;TZID=Australia/Sydney:20230504T000000
DTSTAMP:20260421T192413
CREATED:20250211T031042Z
LAST-MODIFIED:20250211T031042Z
UID:10000606-1683158400-1683158400@nswspc.org.au
SUMMARY:Western Sydney SPC Regional Meeting
DESCRIPTION:
URL:https://nswspc.org.au/event/western-sydney-spc-regional-meeting-2/
LOCATION:Tradewynds\, Nirimba Education Precinct\, Quakers Hill\, New South Wales\, 2763\, Australia
CATEGORIES:Regional meetings
ORGANIZER;CN="Sally Smithard":MAILTO:Sally.M.Smithard@det.nsw.edu.au
END:VEVENT
END:VCALENDAR