BEGIN:VCALENDAR
VERSION:2.0
PRODID:-//New South Wales Secondary Principals&#039; Council - ECPv6.15.5//NONSGML v1.0//EN
CALSCALE:GREGORIAN
METHOD:PUBLISH
X-ORIGINAL-URL:https://nswspc.org.au
X-WR-CALDESC:Events for New South Wales Secondary Principals&#039; Council
REFRESH-INTERVAL;VALUE=DURATION:PT1H
X-Robots-Tag:noindex
X-PUBLISHED-TTL:PT1H
BEGIN:VTIMEZONE
TZID:Australia/Sydney
BEGIN:STANDARD
TZOFFSETFROM:+1100
TZOFFSETTO:+1000
TZNAME:AEST
DTSTART:20240406T160000
END:STANDARD
BEGIN:DAYLIGHT
TZOFFSETFROM:+1000
TZOFFSETTO:+1100
TZNAME:AEDT
DTSTART:20241005T160000
END:DAYLIGHT
END:VTIMEZONE
BEGIN:VEVENT
DTSTART;TZID=Australia/Sydney:20241108T000000
DTEND;TZID=Australia/Sydney:20241108T000000
DTSTAMP:20260421T203955
CREATED:20250211T031507Z
LAST-MODIFIED:20250211T031507Z
UID:10000802-1731024000-1731024000@nswspc.org.au
SUMMARY:Illawarra & Southeast Combined Regional Network Meeting
DESCRIPTION:
URL:https://nswspc.org.au/event/illawarra-southeast-combined-regional-network-meeting-3/
LOCATION:Ulladulla High School\, 55 South Street\, Ulladulla\, NSW\, 2539\, Australia
CATEGORIES:Network Meeting
ORGANIZER;CN="Stephen Goodley":MAILTO:Stephen.Goodley@det.nsw.edu.au
END:VEVENT
BEGIN:VEVENT
DTSTART;TZID=Australia/Sydney:20240816T000000
DTEND;TZID=Australia/Sydney:20240816T000000
DTSTAMP:20260421T203955
CREATED:20250211T031430Z
LAST-MODIFIED:20250211T031430Z
UID:10000779-1723766400-1723766400@nswspc.org.au
SUMMARY:Illawarra & Southeast Combined Regional Network Meeting
DESCRIPTION:
URL:https://nswspc.org.au/event/illawarra-southeast-combined-regional-network-meeting-2/
LOCATION:Corrimal High School\, 45 Murray Road\, East Corrimal\, NSW\, 2518\, Australia
CATEGORIES:Network Meeting
ORGANIZER;CN="Stephen Goodley":MAILTO:Stephen.Goodley@det.nsw.edu.au
END:VEVENT
BEGIN:VEVENT
DTSTART;TZID=Australia/Sydney:20240524T000000
DTEND;TZID=Australia/Sydney:20240524T000000
DTSTAMP:20260421T203955
CREATED:20250211T031339Z
LAST-MODIFIED:20250211T031339Z
UID:10000757-1716508800-1716508800@nswspc.org.au
SUMMARY:Illawarra & Southeast Regional Group Meeting
DESCRIPTION:
URL:https://nswspc.org.au/event/illawarra-southeast-regional-group-meeting/
LOCATION:Jerrabomberra High School\, 101 Environa Dr\, Jerrabomberra\, NSW\, 2619\, Australia
CATEGORIES:Regional meetings
ORGANIZER;CN="Stephen Goodley":MAILTO:Stephen.Goodley@det.nsw.edu.au
END:VEVENT
BEGIN:VEVENT
DTSTART;TZID=Australia/Sydney:20240223T000000
DTEND;TZID=Australia/Sydney:20240223T000000
DTSTAMP:20260421T203955
CREATED:20250211T031255Z
LAST-MODIFIED:20250211T031255Z
UID:10000723-1708646400-1708646400@nswspc.org.au
SUMMARY:Illawarra & Southeast Combined Regional Network Meeting
DESCRIPTION:
URL:https://nswspc.org.au/event/illawarra-southeast-combined-regional-network-meeting/
LOCATION:Wollongong University\, Northfields Avenue\, Wollongong\, NSW\, 2522\, Australia
CATEGORIES:Network Meeting
ORGANIZER;CN="Stephen Goodley":MAILTO:Stephen.Goodley@det.nsw.edu.au
END:VEVENT
END:VCALENDAR