BEGIN:VCALENDAR
VERSION:2.0
PRODID:-//New South Wales Secondary Principals&#039; Council - ECPv6.15.5//NONSGML v1.0//EN
CALSCALE:GREGORIAN
METHOD:PUBLISH
X-ORIGINAL-URL:https://nswspc.org.au
X-WR-CALDESC:Events for New South Wales Secondary Principals&#039; Council
REFRESH-INTERVAL;VALUE=DURATION:PT1H
X-Robots-Tag:noindex
X-PUBLISHED-TTL:PT1H
BEGIN:VTIMEZONE
TZID:Australia/Sydney
BEGIN:STANDARD
TZOFFSETFROM:+1100
TZOFFSETTO:+1000
TZNAME:AEST
DTSTART:20200404T160000
END:STANDARD
BEGIN:DAYLIGHT
TZOFFSETFROM:+1000
TZOFFSETTO:+1100
TZNAME:AEDT
DTSTART:20201003T160000
END:DAYLIGHT
END:VTIMEZONE
BEGIN:VEVENT
DTSTART;VALUE=DATE:20200210
DTEND;VALUE=DATE:20200211
DTSTAMP:20260420T030420
CREATED:20250211T013122Z
LAST-MODIFIED:20250211T013122Z
UID:10000281-1581292800-1581379199@nswspc.org.au
SUMMARY:Sutherland SPC Regional Meeting
DESCRIPTION:
URL:https://nswspc.org.au/event/sutherland-spc-regional-meeting/
CATEGORIES:Regional meetings
ORGANIZER;CN="James Kozlowski":MAILTO:james.kozlowski@det.nsw.edu.au
END:VEVENT
BEGIN:VEVENT
DTSTART;VALUE=DATE:20200212
DTEND;VALUE=DATE:20200213
DTSTAMP:20260420T030420
CREATED:20250211T013122Z
LAST-MODIFIED:20250211T013122Z
UID:10000282-1581465600-1581551999@nswspc.org.au
SUMMARY:South West Sydney SPC Regional Meeting
DESCRIPTION:
URL:https://nswspc.org.au/event/south-west-sydney-spc-regional-meeting/
CATEGORIES:Regional meetings
ORGANIZER;CN="Kylie Hedger":MAILTO:KYLIE.HEDGER@det.nsw.edu.au
END:VEVENT
BEGIN:VEVENT
DTSTART;VALUE=DATE:20200213
DTEND;VALUE=DATE:20200215
DTSTAMP:20260420T030420
CREATED:20250211T013122Z
LAST-MODIFIED:20250211T013122Z
UID:10000283-1581552000-1581724799@nswspc.org.au
SUMMARY:Western NSW SPC Regional Meeting
DESCRIPTION:
URL:https://nswspc.org.au/event/western-nsw-spc-regional-meeting/
CATEGORIES:Regional meetings
ORGANIZER;CN="Michael Spora":MAILTO:michael.spora@det.nsw.edu.au
END:VEVENT
BEGIN:VEVENT
DTSTART;VALUE=DATE:20200214
DTEND;VALUE=DATE:20200215
DTSTAMP:20260420T030420
CREATED:20250211T013122Z
LAST-MODIFIED:20250211T013122Z
UID:10000285-1581638400-1581724799@nswspc.org.au
SUMMARY:Sydney Port Jackson SPC Regional Meeting
DESCRIPTION:
URL:https://nswspc.org.au/event/sydney-port-jackson-spc-regional-meeting/
CATEGORIES:Regional meetings
END:VEVENT
BEGIN:VEVENT
DTSTART;VALUE=DATE:20200214
DTEND;VALUE=DATE:20200215
DTSTAMP:20260420T030420
CREATED:20250211T013122Z
LAST-MODIFIED:20250211T013122Z
UID:10000284-1581638400-1581724799@nswspc.org.au
SUMMARY:Hunter SPC Regional Meeting
DESCRIPTION:
URL:https://nswspc.org.au/event/hunter-spc-regional-meeting/
CATEGORIES:Regional meetings
END:VEVENT
END:VCALENDAR