BEGIN:VCALENDAR
VERSION:2.0
PRODID:-//New South Wales Secondary Principals&#039; Council - ECPv6.15.5//NONSGML v1.0//EN
CALSCALE:GREGORIAN
METHOD:PUBLISH
X-ORIGINAL-URL:https://nswspc.org.au
X-WR-CALDESC:Events for New South Wales Secondary Principals&#039; Council
REFRESH-INTERVAL;VALUE=DURATION:PT1H
X-Robots-Tag:noindex
X-PUBLISHED-TTL:PT1H
BEGIN:VTIMEZONE
TZID:Australia/Sydney
BEGIN:STANDARD
TZOFFSETFROM:+1100
TZOFFSETTO:+1000
TZNAME:AEST
DTSTART:20190406T160000
END:STANDARD
BEGIN:DAYLIGHT
TZOFFSETFROM:+1000
TZOFFSETTO:+1100
TZNAME:AEDT
DTSTART:20191005T160000
END:DAYLIGHT
END:VTIMEZONE
BEGIN:VEVENT
DTSTART;TZID=Australia/Sydney:20191127T153000
DTEND;TZID=Australia/Sydney:20191127T173000
DTSTAMP:20260420T083426
CREATED:20250211T013009Z
LAST-MODIFIED:20250211T013009Z
UID:10000277-1574868600-1574875800@nswspc.org.au
SUMMARY:SPC Assets Reference Group Meeting
DESCRIPTION:
URL:https://nswspc.org.au/event/spc-assets-reference-group-meeting-3/
CATEGORIES:Ref. & Int. Group meetings
ORGANIZER;CN="Tony Fahey (SPC Assets Reference Group Leader)":MAILTO:anthony.fahey@det.nsw.edu.au
END:VEVENT
BEGIN:VEVENT
DTSTART;TZID=Australia/Sydney:20191129T080000
DTEND;TZID=Australia/Sydney:20191129T170000
DTSTAMP:20260420T083426
CREATED:20250211T013009Z
LAST-MODIFIED:20250211T013009Z
UID:10000278-1575014400-1575046800@nswspc.org.au
SUMMARY:SPC Professional Learning Reference Group Meeting
DESCRIPTION:
URL:https://nswspc.org.au/event/spc-professional-learning-reference-group-meeting-7/
CATEGORIES:Ref. & Int. Group meetings
END:VEVENT
END:VCALENDAR