BEGIN:VCALENDAR
VERSION:2.0
PRODID:-//New South Wales Secondary Principals&#039; Council - ECPv6.15.5//NONSGML v1.0//EN
CALSCALE:GREGORIAN
METHOD:PUBLISH
X-WR-CALNAME:New South Wales Secondary Principals&#039; Council
X-ORIGINAL-URL:https://nswspc.org.au
X-WR-CALDESC:Events for New South Wales Secondary Principals&#039; Council
REFRESH-INTERVAL;VALUE=DURATION:PT1H
X-Robots-Tag:noindex
X-PUBLISHED-TTL:PT1H
BEGIN:VTIMEZONE
TZID:Australia/Sydney
BEGIN:STANDARD
TZOFFSETFROM:+1100
TZOFFSETTO:+1000
TZNAME:AEST
DTSTART:20190406T160000
END:STANDARD
BEGIN:DAYLIGHT
TZOFFSETFROM:+1000
TZOFFSETTO:+1100
TZNAME:AEDT
DTSTART:20191005T160000
END:DAYLIGHT
END:VTIMEZONE
BEGIN:VEVENT
DTSTART;TZID=Australia/Sydney:20191118T080000
DTEND;TZID=Australia/Sydney:20191118T170000
DTSTAMP:20260420T084231
CREATED:20250211T013009Z
LAST-MODIFIED:20250211T013009Z
UID:10000272-1574064000-1574096400@nswspc.org.au
SUMMARY:SPC EPAC Reference Group Meeting
DESCRIPTION:
URL:https://nswspc.org.au/event/spc-epac-reference-group-meeting-5/
LOCATION:NSW Department of Education (Oxford St)
CATEGORIES:Ref. & Int. Group meetings
ORGANIZER;CN="Hannah Barnes":MAILTO:Hannah.Barnes@det.nsw.edu.au
END:VEVENT
BEGIN:VEVENT
DTSTART;TZID=Australia/Sydney:20191120T080000
DTEND;TZID=Australia/Sydney:20191120T170000
DTSTAMP:20260420T084231
CREATED:20250211T013009Z
LAST-MODIFIED:20250211T013009Z
UID:10000273-1574236800-1574269200@nswspc.org.au
SUMMARY:SPC Executive Meeting
DESCRIPTION:
URL:https://nswspc.org.au/event/spc-executive-meeting-7/
LOCATION:UTS Aerial Function Centre\, Level 7\, Building 10\, 235 Jones Street\, Ultimo\, NSW\, 2007\, Australia
CATEGORIES:Executive Meetings
ORGANIZER;CN="Amy McKeown":MAILTO:execofficer@nswspc.org.au
END:VEVENT
BEGIN:VEVENT
DTSTART;VALUE=DATE:20191121
DTEND;VALUE=DATE:20191122
DTSTAMP:20260420T084231
CREATED:20250211T013009Z
LAST-MODIFIED:20250211T013009Z
UID:10000274-1574294400-1574380799@nswspc.org.au
SUMMARY:SPC Staffing Reference Group Meeting
DESCRIPTION:
URL:https://nswspc.org.au/event/spc-staffing-reference-group-meeting-7/
CATEGORIES:Ref. & Int. Group meetings
END:VEVENT
BEGIN:VEVENT
DTSTART;TZID=Australia/Sydney:20191121T080000
DTEND;TZID=Australia/Sydney:20191121T170000
DTSTAMP:20260420T084231
CREATED:20250211T013009Z
LAST-MODIFIED:20250211T013009Z
UID:10000275-1574323200-1574355600@nswspc.org.au
SUMMARY:SPC State Assembly
DESCRIPTION:
URL:https://nswspc.org.au/event/spc-state-assembly-4/
LOCATION:UTS Aerial Function Centre\, Level 7\, Building 10\, 235 Jones Street\, Ultimo\, NSW\, 2007\, Australia
CATEGORIES:State Assembly
END:VEVENT
BEGIN:VEVENT
DTSTART;TZID=Australia/Sydney:20191122T080000
DTEND;TZID=Australia/Sydney:20191122T170000
DTSTAMP:20260420T084231
CREATED:20250211T013009Z
LAST-MODIFIED:20250211T013009Z
UID:10000276-1574409600-1574442000@nswspc.org.au
SUMMARY:SPC Professional Learning Day
DESCRIPTION:
URL:https://nswspc.org.au/event/spc-professional-learning-day-3/
LOCATION:UTS Aerial Function Centre\, Level 7\, Building 10\, 235 Jones Street\, Ultimo\, NSW\, 2007\, Australia
CATEGORIES:Professional Learning
END:VEVENT
END:VCALENDAR