BEGIN:VCALENDAR
VERSION:2.0
PRODID:-//New South Wales Secondary Principals&#039; Council - ECPv6.15.5//NONSGML v1.0//EN
CALSCALE:GREGORIAN
METHOD:PUBLISH
X-WR-CALNAME:New South Wales Secondary Principals&#039; Council
X-ORIGINAL-URL:https://nswspc.org.au
X-WR-CALDESC:Events for New South Wales Secondary Principals&#039; Council
REFRESH-INTERVAL;VALUE=DURATION:PT1H
X-Robots-Tag:noindex
X-PUBLISHED-TTL:PT1H
BEGIN:VTIMEZONE
TZID:Australia/Sydney
BEGIN:STANDARD
TZOFFSETFROM:+1100
TZOFFSETTO:+1000
TZNAME:AEST
DTSTART:20190406T160000
END:STANDARD
BEGIN:DAYLIGHT
TZOFFSETFROM:+1000
TZOFFSETTO:+1100
TZNAME:AEDT
DTSTART:20191005T160000
END:DAYLIGHT
END:VTIMEZONE
BEGIN:VEVENT
DTSTART;TZID=Australia/Sydney:20191028T080000
DTEND;TZID=Australia/Sydney:20191028T170000
DTSTAMP:20260420T084231
CREATED:20250211T012932Z
LAST-MODIFIED:20250211T012932Z
UID:10000262-1572249600-1572282000@nswspc.org.au
SUMMARY:Aboriginal Education Reference Group Meeting
DESCRIPTION:
URL:https://nswspc.org.au/event/aboriginal-education-reference-group-meeting/
LOCATION:NSW Department of Education (Parramatta)\, Room 103 / 105 Phillip St\, Parramatta\, NSW\, 2150\, Australia
CATEGORIES:Ref. & Int. Group meetings
ORGANIZER;CN="Adrian Bell":MAILTO:adrian.l.bell@det.nsw.edu.au
END:VEVENT
BEGIN:VEVENT
DTSTART;TZID=Australia/Sydney:20191028T090000
DTEND;TZID=Australia/Sydney:20191028T170000
DTSTAMP:20260420T084231
CREATED:20250211T012932Z
LAST-MODIFIED:20250211T012932Z
UID:10000263-1572253200-1572282000@nswspc.org.au
SUMMARY:Sutherland Regional SPC Meeting
DESCRIPTION:
URL:https://nswspc.org.au/event/sutherland-regional-spc-meeting-4/
LOCATION:Western Sydney University
CATEGORIES:Regional meetings
ORGANIZER;CN="James Kozlowski":MAILTO:james.kozlowski@det.nsw.edu.au
END:VEVENT
BEGIN:VEVENT
DTSTART;TZID=Australia/Sydney:20191028T130000
DTEND;TZID=Australia/Sydney:20191028T170000
DTSTAMP:20260420T084231
CREATED:20250211T012932Z
LAST-MODIFIED:20250211T012932Z
UID:10000264-1572267600-1572282000@nswspc.org.au
SUMMARY:St George Regional SPC Meeting
DESCRIPTION:
URL:https://nswspc.org.au/event/st-george-regional-spc-meeting-8/
LOCATION:Venue TBC
CATEGORIES:Regional meetings
END:VEVENT
BEGIN:VEVENT
DTSTART;TZID=Australia/Sydney:20191030T080000
DTEND;TZID=Australia/Sydney:20191030T170000
DTSTAMP:20260420T084231
CREATED:20250211T012932Z
LAST-MODIFIED:20250211T012932Z
UID:10000265-1572422400-1572454800@nswspc.org.au
SUMMARY:South West Sydney Regional SPC Meeting
DESCRIPTION:
URL:https://nswspc.org.au/event/south-west-sydney-regional-spc-meeting-4/
CATEGORIES:Regional meetings
ORGANIZER;CN="Kylie Hedger":MAILTO:KYLIE.HEDGER@det.nsw.edu.au
END:VEVENT
BEGIN:VEVENT
DTSTART;TZID=Australia/Sydney:20191101T080000
DTEND;TZID=Australia/Sydney:20191101T170000
DTSTAMP:20260420T084231
CREATED:20250211T013008Z
LAST-MODIFIED:20250211T013008Z
UID:10000266-1572595200-1572627600@nswspc.org.au
SUMMARY:Combined Central Coast/Hunter SPC Regional Meeting
DESCRIPTION:
URL:https://nswspc.org.au/event/combined-central-coast-hunter-spc-regional-meeting-2/
LOCATION:Caves Beach Resoirt\, 27 Mawson Cl\, Caves Beach\, Australia
CATEGORIES:Regional meetings
END:VEVENT
BEGIN:VEVENT
DTSTART;TZID=Australia/Sydney:20191101T080000
DTEND;TZID=Australia/Sydney:20191101T170000
DTSTAMP:20260420T084231
CREATED:20250211T013008Z
LAST-MODIFIED:20250211T013008Z
UID:10000267-1572595200-1572627600@nswspc.org.au
SUMMARY:North Sydney Regional SPC Meeting
DESCRIPTION:
URL:https://nswspc.org.au/event/north-sydney-regional-spc-meeting-5/
CATEGORIES:Regional meetings
ORGANIZER;CN="Christine Del Gallo":MAILTO:Christine.DelGallo@det.nsw.edu.au
END:VEVENT
END:VCALENDAR