BEGIN:VCALENDAR
VERSION:2.0
PRODID:-//New South Wales Secondary Principals&#039; Council - ECPv6.15.5//NONSGML v1.0//EN
CALSCALE:GREGORIAN
METHOD:PUBLISH
X-WR-CALNAME:New South Wales Secondary Principals&#039; Council
X-ORIGINAL-URL:https://nswspc.org.au
X-WR-CALDESC:Events for New South Wales Secondary Principals&#039; Council
REFRESH-INTERVAL;VALUE=DURATION:PT1H
X-Robots-Tag:noindex
X-PUBLISHED-TTL:PT1H
BEGIN:VTIMEZONE
TZID:Australia/Sydney
BEGIN:STANDARD
TZOFFSETFROM:+1100
TZOFFSETTO:+1000
TZNAME:AEST
DTSTART:20190406T160000
END:STANDARD
BEGIN:DAYLIGHT
TZOFFSETFROM:+1000
TZOFFSETTO:+1100
TZNAME:AEDT
DTSTART:20191005T160000
END:DAYLIGHT
END:VTIMEZONE
BEGIN:VEVENT
DTSTART;VALUE=DATE:20191025
DTEND;VALUE=DATE:20191026
DTSTAMP:20260420T133257
CREATED:20250211T012932Z
LAST-MODIFIED:20250211T012932Z
UID:10000260-1571961600-1572047999@nswspc.org.au
SUMMARY:Western Sydney Regional SPC Meeting
DESCRIPTION:
URL:https://nswspc.org.au/event/western-sydney-regional-spc-meeting-8/
LOCATION:The Nirimba Tradewynds Cafe
CATEGORIES:Regional meetings
ORGANIZER;CN="Kim Chapman (Western Sydney Regional President)":MAILTO:KIM.CHAPMAN2@det.nsw.edu.au
END:VEVENT
BEGIN:VEVENT
DTSTART;TZID=Australia/Sydney:20191025T130000
DTEND;TZID=Australia/Sydney:20191025T170000
DTSTAMP:20260420T133257
CREATED:20250211T012932Z
LAST-MODIFIED:20250211T012932Z
UID:10000261-1572008400-1572022800@nswspc.org.au
SUMMARY:Sydney Eastern Suburbs Regional SPC Sydney
DESCRIPTION:
URL:https://nswspc.org.au/event/sydney-eastern-suburbs-regional-spc-sydney/
CATEGORIES:Regional meetings
END:VEVENT
END:VCALENDAR