BEGIN:VCALENDAR
VERSION:2.0
PRODID:-//New South Wales Secondary Principals&#039; Council - ECPv6.15.5//NONSGML v1.0//EN
CALSCALE:GREGORIAN
METHOD:PUBLISH
X-ORIGINAL-URL:https://nswspc.org.au
X-WR-CALDESC:Events for New South Wales Secondary Principals&#039; Council
REFRESH-INTERVAL;VALUE=DURATION:PT1H
X-Robots-Tag:noindex
X-PUBLISHED-TTL:PT1H
BEGIN:VTIMEZONE
TZID:Australia/Sydney
BEGIN:STANDARD
TZOFFSETFROM:+1100
TZOFFSETTO:+1000
TZNAME:AEST
DTSTART:20190406T160000
END:STANDARD
BEGIN:DAYLIGHT
TZOFFSETFROM:+1000
TZOFFSETTO:+1100
TZNAME:AEDT
DTSTART:20191005T160000
END:DAYLIGHT
END:VTIMEZONE
BEGIN:VEVENT
DTSTART;VALUE=DATE:20190805
DTEND;VALUE=DATE:20190806
DTSTAMP:20260423T025745
CREATED:20250211T012930Z
LAST-MODIFIED:20250211T012930Z
UID:10000239-1564963200-1565049599@nswspc.org.au
SUMMARY:SPC Aboriginal Education Reference Group Meeting
DESCRIPTION:
URL:https://nswspc.org.au/event/spc-aboriginal-education-reference-group-meeting/
LOCATION:UTS Short Courses Venue\, UTS Building 10\, Level 7\, Room 101\, 235 Jones Street\, Ultimo\, NSW\, 2007\, Australia
CATEGORIES:Ref. & Int. Group meetings
ORGANIZER;CN="Adrian Bell":MAILTO:adrian.l.bell@det.nsw.edu.au
END:VEVENT
BEGIN:VEVENT
DTSTART;TZID=Australia/Sydney:20190805T090000
DTEND;TZID=Australia/Sydney:20190805T170000
DTSTAMP:20260423T025745
CREATED:20250211T012930Z
LAST-MODIFIED:20250211T012930Z
UID:10000240-1564995600-1565024400@nswspc.org.au
SUMMARY:Sutherland Regional SPC Meeting
DESCRIPTION:
URL:https://nswspc.org.au/event/sutherland-regional-spc-meeting-3/
LOCATION:Caringbah High School
CATEGORIES:Regional meetings
ORGANIZER;CN="James Kozlowski":MAILTO:james.kozlowski@det.nsw.edu.au
END:VEVENT
BEGIN:VEVENT
DTSTART;TZID=Australia/Sydney:20190805T130000
DTEND;TZID=Australia/Sydney:20190805T170000
DTSTAMP:20260423T025745
CREATED:20250211T012930Z
LAST-MODIFIED:20250211T012930Z
UID:10000241-1565010000-1565024400@nswspc.org.au
SUMMARY:St George Regional SPC Meeting
DESCRIPTION:
URL:https://nswspc.org.au/event/st-george-regional-spc-meeting-7/
LOCATION:Venue TBC
CATEGORIES:Regional meetings
END:VEVENT
BEGIN:VEVENT
DTSTART;TZID=Australia/Sydney:20190808T080000
DTEND;TZID=Australia/Sydney:20190809T170000
DTSTAMP:20260423T025745
CREATED:20250211T012930Z
LAST-MODIFIED:20250211T012930Z
UID:10000242-1565251200-1565370000@nswspc.org.au
SUMMARY:Central West Regional SPC Meeting
DESCRIPTION:
URL:https://nswspc.org.au/event/central-west-regional-spc-meeting-3/
LOCATION:Forbes High School
CATEGORIES:Regional meetings
ORGANIZER;CN="Ann Caro (Central West Regional President)":MAILTO:ann.caroi@det.nsw.edu.au
END:VEVENT
BEGIN:VEVENT
DTSTART;TZID=Australia/Sydney:20190809T080000
DTEND;TZID=Australia/Sydney:20190809T170000
DTSTAMP:20260423T025745
CREATED:20250211T012930Z
LAST-MODIFIED:20250211T012930Z
UID:10000243-1565337600-1565370000@nswspc.org.au
SUMMARY:Hunter Regional SPC Meeting
DESCRIPTION:
URL:https://nswspc.org.au/event/hunter-regional-spc-meeting-3/
LOCATION:Hunter School of the Performing Arts
CATEGORIES:Regional meetings
END:VEVENT
END:VCALENDAR