BEGIN:VCALENDAR
VERSION:2.0
PRODID:-//New South Wales Secondary Principals&#039; Council - ECPv6.15.5//NONSGML v1.0//EN
CALSCALE:GREGORIAN
METHOD:PUBLISH
X-WR-CALNAME:New South Wales Secondary Principals&#039; Council
X-ORIGINAL-URL:https://nswspc.org.au
X-WR-CALDESC:Events for New South Wales Secondary Principals&#039; Council
REFRESH-INTERVAL;VALUE=DURATION:PT1H
X-Robots-Tag:noindex
X-PUBLISHED-TTL:PT1H
BEGIN:VTIMEZONE
TZID:Australia/Sydney
BEGIN:STANDARD
TZOFFSETFROM:+1100
TZOFFSETTO:+1000
TZNAME:AEST
DTSTART:20180331T160000
END:STANDARD
BEGIN:DAYLIGHT
TZOFFSETFROM:+1000
TZOFFSETTO:+1100
TZNAME:AEDT
DTSTART:20181006T160000
END:DAYLIGHT
END:VTIMEZONE
BEGIN:VEVENT
DTSTART;VALUE=DATE:20181120
DTEND;VALUE=DATE:20181121
DTSTAMP:20260424T043448
CREATED:20250211T012503Z
LAST-MODIFIED:20250211T012503Z
UID:10000190-1542672000-1542758399@nswspc.org.au
SUMMARY:SPC Staffing Reference Group Meeting
DESCRIPTION:
URL:https://nswspc.org.au/event/spc-staffing-reference-group-meeting-4/
CATEGORIES:Ref. & Int. Group meetings
END:VEVENT
BEGIN:VEVENT
DTSTART;VALUE=DATE:20181121
DTEND;VALUE=DATE:20181122
DTSTAMP:20260424T043448
CREATED:20250211T012503Z
LAST-MODIFIED:20250211T012503Z
UID:10000192-1542758400-1542844799@nswspc.org.au
SUMMARY:SPC Executive Meeting
DESCRIPTION:
URL:https://nswspc.org.au/event/spc-executive-meeting/
LOCATION:UTS Aerial Function Centre\, Level 7\, Building 10\, 235 Jones Street\, Ultimo\, NSW\, 2007\, Australia
CATEGORIES:Executive Meetings
END:VEVENT
BEGIN:VEVENT
DTSTART;VALUE=DATE:20181121
DTEND;VALUE=DATE:20181122
DTSTAMP:20260424T043448
CREATED:20250211T012503Z
LAST-MODIFIED:20250211T012503Z
UID:10000191-1542758400-1542844799@nswspc.org.au
SUMMARY:Executive Meeting
DESCRIPTION:
URL:https://nswspc.org.au/event/executive-meeting-12/
LOCATION:UTS Aerial Function Centre\, Level 7\, Building 10\, 235 Jones Street\, Ultimo\, NSW\, 2007\, Australia
CATEGORIES:Executive Meetings
END:VEVENT
BEGIN:VEVENT
DTSTART;TZID=Australia/Sydney:20181121T080000
DTEND;TZID=Australia/Sydney:20181121T170000
DTSTAMP:20260424T043448
CREATED:20250211T012503Z
LAST-MODIFIED:20250211T012503Z
UID:10000193-1542787200-1542819600@nswspc.org.au
SUMMARY:SPC Student Wellbeing Reference Group Meeting
DESCRIPTION:
URL:https://nswspc.org.au/event/spc-student-wellbeing-reference-group-meeting/
LOCATION:UTS
CATEGORIES:Ref. & Int. Group meetings
END:VEVENT
BEGIN:VEVENT
DTSTART;VALUE=DATE:20181122
DTEND;VALUE=DATE:20181123
DTSTAMP:20260424T043448
CREATED:20250211T012503Z
LAST-MODIFIED:20250211T012503Z
UID:10000194-1542844800-1542931199@nswspc.org.au
SUMMARY:State Assembly
DESCRIPTION:
URL:https://nswspc.org.au/event/state-assembly-6/
LOCATION:UTS Aerial Function Centre\, Level 7\, Building 10\, 235 Jones Street\, Ultimo\, NSW\, 2007\, Australia
CATEGORIES:State Assembly
END:VEVENT
BEGIN:VEVENT
DTSTART;VALUE=DATE:20181123
DTEND;VALUE=DATE:20181124
DTSTAMP:20260424T043448
CREATED:20250211T012503Z
LAST-MODIFIED:20250211T012503Z
UID:10000195-1542931200-1543017599@nswspc.org.au
SUMMARY:NSWSPC Professional Learning Day
DESCRIPTION:
URL:https://nswspc.org.au/event/nswspc-professional-learning-day-5/
LOCATION:UTS Aerial Function Centre\, Level 7\, Building 10\, 235 Jones Street\, Ultimo\, NSW\, 2007\, Australia
CATEGORIES:Professional Learning
ORGANIZER;CN="Director of PL":MAILTO:pldirector@nswspc.org.au
END:VEVENT
END:VCALENDAR