BEGIN:VCALENDAR
VERSION:2.0
PRODID:-//New South Wales Secondary Principals&#039; Council - ECPv6.15.5//NONSGML v1.0//EN
CALSCALE:GREGORIAN
METHOD:PUBLISH
X-WR-CALNAME:New South Wales Secondary Principals&#039; Council
X-ORIGINAL-URL:https://nswspc.org.au
X-WR-CALDESC:Events for New South Wales Secondary Principals&#039; Council
REFRESH-INTERVAL;VALUE=DURATION:PT1H
X-Robots-Tag:noindex
X-PUBLISHED-TTL:PT1H
BEGIN:VTIMEZONE
TZID:Australia/Sydney
BEGIN:STANDARD
TZOFFSETFROM:+1100
TZOFFSETTO:+1000
TZNAME:AEST
DTSTART:20180331T160000
END:STANDARD
BEGIN:DAYLIGHT
TZOFFSETFROM:+1000
TZOFFSETTO:+1100
TZNAME:AEDT
DTSTART:20181006T160000
END:DAYLIGHT
END:VTIMEZONE
BEGIN:VEVENT
DTSTART;VALUE=DATE:20181112
DTEND;VALUE=DATE:20181113
DTSTAMP:20260424T073047
CREATED:20250211T012502Z
LAST-MODIFIED:20250211T012502Z
UID:10000186-1541980800-1542067199@nswspc.org.au
SUMMARY:SPC Professional Standards and Accreditation Reference Group Meeting
DESCRIPTION:
URL:https://nswspc.org.au/event/spc-professional-standards-and-accreditation-reference-group-meeting-4/
CATEGORIES:Ref. & Int. Group meetings
END:VEVENT
BEGIN:VEVENT
DTSTART;TZID=Australia/Sydney:20181112T080000
DTEND;TZID=Australia/Sydney:20181112T170000
DTSTAMP:20260424T073047
CREATED:20250211T012502Z
LAST-MODIFIED:20250211T012502Z
UID:10000187-1542009600-1542042000@nswspc.org.au
SUMMARY:SPC Professional Standards and Accreditation Reference Group Meeting
DESCRIPTION:
URL:https://nswspc.org.au/event/spc-professional-standards-and-accreditation-reference-group-meeting-5/
LOCATION:NSW Department of Education (Oxford St)
CATEGORIES:Ref. & Int. Group meetings
ORGANIZER;CN="Anna Tsoutsa":MAILTO:Anna.Tsoutsa@det.nsw.edu.au
END:VEVENT
BEGIN:VEVENT
DTSTART;TZID=Australia/Sydney:20181115T080000
DTEND;TZID=Australia/Sydney:20181115T170000
DTSTAMP:20260424T073047
CREATED:20250211T012503Z
LAST-MODIFIED:20250211T012503Z
UID:10000188-1542268800-1542301200@nswspc.org.au
SUMMARY:SPC Learning Now for the Future Reference Group Meeting
DESCRIPTION:
URL:https://nswspc.org.au/event/spc-learning-now-for-the-future-reference-group-meeting/
LOCATION:UTS
CATEGORIES:Ref. & Int. Group meetings
END:VEVENT
BEGIN:VEVENT
DTSTART;TZID=Australia/Sydney:20181115T100000
DTEND;TZID=Australia/Sydney:20181115T140000
DTSTAMP:20260424T073047
CREATED:20250211T012503Z
LAST-MODIFIED:20250211T012503Z
UID:10000189-1542276000-1542290400@nswspc.org.au
SUMMARY:Retired Principals’ meeting
DESCRIPTION:
URL:https://nswspc.org.au/event/retired-principals-meeting-5/
LOCATION:Sydney Room\, Level 2\, City Tattersalls Club\, 194-204 Pitt Street\, Sydney\, Australia
CATEGORIES:Retired Principals' meeting
ORGANIZER;CN="Brian Ralph":MAILTO:brian.ralph@yahoo.com.au
END:VEVENT
END:VCALENDAR