BEGIN:VCALENDAR
VERSION:2.0
PRODID:-//New South Wales Secondary Principals&#039; Council - ECPv6.15.5//NONSGML v1.0//EN
CALSCALE:GREGORIAN
METHOD:PUBLISH
X-ORIGINAL-URL:https://nswspc.org.au
X-WR-CALDESC:Events for New South Wales Secondary Principals&#039; Council
REFRESH-INTERVAL;VALUE=DURATION:PT1H
X-Robots-Tag:noindex
X-PUBLISHED-TTL:PT1H
BEGIN:VTIMEZONE
TZID:Australia/Sydney
BEGIN:STANDARD
TZOFFSETFROM:+1100
TZOFFSETTO:+1000
TZNAME:AEST
DTSTART:20180331T160000
END:STANDARD
BEGIN:DAYLIGHT
TZOFFSETFROM:+1000
TZOFFSETTO:+1100
TZNAME:AEDT
DTSTART:20181006T160000
END:DAYLIGHT
END:VTIMEZONE
BEGIN:VEVENT
DTSTART;VALUE=DATE:20181022
DTEND;VALUE=DATE:20181023
DTSTAMP:20260424T090940
CREATED:20250211T012419Z
LAST-MODIFIED:20250211T012419Z
UID:10000171-1540166400-1540252799@nswspc.org.au
SUMMARY:Executive Meeting
DESCRIPTION:
URL:https://nswspc.org.au/event/executive-meeting-11/
LOCATION:UTS Aerial Function Centre\, Level 7\, Building 10\, 235 Jones Street\, Ultimo\, NSW\, 2007\, Australia
CATEGORIES:Executive Meetings
END:VEVENT
BEGIN:VEVENT
DTSTART;VALUE=DATE:20181026
DTEND;VALUE=DATE:20181027
DTSTAMP:20260424T090940
CREATED:20250211T012419Z
LAST-MODIFIED:20250211T012419Z
UID:10000172-1540512000-1540598399@nswspc.org.au
SUMMARY:Sydney (Eastern Suburbs) Regional SPC Meeting
DESCRIPTION:
URL:https://nswspc.org.au/event/sydney-eastern-suburbs-regional-spc-meeting-6/
CATEGORIES:Regional meetings
END:VEVENT
BEGIN:VEVENT
DTSTART;VALUE=DATE:20181026
DTEND;VALUE=DATE:20181027
DTSTAMP:20260424T090940
CREATED:20250211T012419Z
LAST-MODIFIED:20250211T012419Z
UID:10000173-1540512000-1540598399@nswspc.org.au
SUMMARY:Sydney (Eastern Suburbs) Regional SPC Meeting
DESCRIPTION:
URL:https://nswspc.org.au/event/sydney-eastern-suburbs-regional-spc-meeting-7/
LOCATION:South Sydney Graphic Arts Club\, 182 Coward Street\, Mascot\, NSW\, 2020\, Australia
CATEGORIES:Regional meetings
ORGANIZER;CN="Robyn Matthews (Eastern Suburbs Regional President)":MAILTO:robyn.g.matthews@det.nsw.edu.au
END:VEVENT
BEGIN:VEVENT
DTSTART;VALUE=DATE:20181026
DTEND;VALUE=DATE:20181027
DTSTAMP:20260424T090940
CREATED:20250211T012420Z
LAST-MODIFIED:20250211T012420Z
UID:10000174-1540512000-1540598399@nswspc.org.au
SUMMARY:Western Sydney Regional SPC Meeting
DESCRIPTION:
URL:https://nswspc.org.au/event/western-sydney-regional-spc-meeting-4/
CATEGORIES:Regional meetings
END:VEVENT
END:VCALENDAR