BEGIN:VCALENDAR
VERSION:2.0
PRODID:-//New South Wales Secondary Principals&#039; Council - ECPv6.15.5//NONSGML v1.0//EN
CALSCALE:GREGORIAN
METHOD:PUBLISH
X-ORIGINAL-URL:https://nswspc.org.au
X-WR-CALDESC:Events for New South Wales Secondary Principals&#039; Council
REFRESH-INTERVAL;VALUE=DURATION:PT1H
X-Robots-Tag:noindex
X-PUBLISHED-TTL:PT1H
BEGIN:VTIMEZONE
TZID:Australia/Sydney
BEGIN:STANDARD
TZOFFSETFROM:+1100
TZOFFSETTO:+1000
TZNAME:AEST
DTSTART:20180331T160000
END:STANDARD
BEGIN:DAYLIGHT
TZOFFSETFROM:+1000
TZOFFSETTO:+1100
TZNAME:AEDT
DTSTART:20181006T160000
END:DAYLIGHT
END:VTIMEZONE
BEGIN:VEVENT
DTSTART;TZID=Australia/Sydney:20180129T080000
DTEND;TZID=Australia/Sydney:20180129T170000
DTSTAMP:20260425T131933
CREATED:20250211T012056Z
LAST-MODIFIED:20250211T012056Z
UID:10000069-1517212800-1517245200@nswspc.org.au
SUMMARY:School Development Day (Eastern)
DESCRIPTION:
URL:https://nswspc.org.au/event/school-development-day-eastern/
CATEGORIES:Professional Learning
END:VEVENT
BEGIN:VEVENT
DTSTART;VALUE=DATE:20180130
DTEND;VALUE=DATE:20180131
DTSTAMP:20260425T131933
CREATED:20250211T012056Z
LAST-MODIFIED:20250211T012056Z
UID:10000070-1517270400-1517356799@nswspc.org.au
SUMMARY:Term 1 starts (Eastern)
DESCRIPTION:
URL:https://nswspc.org.au/event/term-1-starts-eastern/
CATEGORIES:Term Dates
END:VEVENT
END:VCALENDAR