BEGIN:VCALENDAR
VERSION:2.0
PRODID:-//New South Wales Secondary Principals&#039; Council - ECPv6.15.5//NONSGML v1.0//EN
CALSCALE:GREGORIAN
METHOD:PUBLISH
X-ORIGINAL-URL:https://nswspc.org.au
X-WR-CALDESC:Events for New South Wales Secondary Principals&#039; Council
REFRESH-INTERVAL;VALUE=DURATION:PT1H
X-Robots-Tag:noindex
X-PUBLISHED-TTL:PT1H
BEGIN:VTIMEZONE
TZID:Australia/Sydney
BEGIN:STANDARD
TZOFFSETFROM:+1100
TZOFFSETTO:+1000
TZNAME:AEST
DTSTART:20170401T160000
END:STANDARD
BEGIN:DAYLIGHT
TZOFFSETFROM:+1000
TZOFFSETTO:+1100
TZNAME:AEDT
DTSTART:20170930T160000
END:DAYLIGHT
END:VTIMEZONE
BEGIN:VEVENT
DTSTART;VALUE=DATE:20170822
DTEND;VALUE=DATE:20170823
DTSTAMP:20260425T231449
CREATED:20250211T012007Z
LAST-MODIFIED:20250211T012007Z
UID:10000025-1503360000-1503446399@nswspc.org.au
SUMMARY:Staffing Reference Group meeting
DESCRIPTION:
URL:https://nswspc.org.au/event/staffing-reference-group-meeting/
CATEGORIES:Ref. & Int. Group meetings
END:VEVENT
BEGIN:VEVENT
DTSTART;VALUE=DATE:20170823
DTEND;VALUE=DATE:20170824
DTSTAMP:20260425T231449
CREATED:20250211T012007Z
LAST-MODIFIED:20250211T012007Z
UID:10000026-1503446400-1503532799@nswspc.org.au
SUMMARY:Executive meeting
DESCRIPTION:
URL:https://nswspc.org.au/event/executive-meeting-3/
LOCATION:UTS Aerial Function Centre\, Level 7\, Building 10\, 235 Jones Street\, Ultimo\, NSW\, 2007\, Australia
CATEGORIES:Executive Meetings
END:VEVENT
BEGIN:VEVENT
DTSTART;VALUE=DATE:20170824
DTEND;VALUE=DATE:20170825
DTSTAMP:20260425T231449
CREATED:20250211T012007Z
LAST-MODIFIED:20250211T012007Z
UID:10000027-1503532800-1503619199@nswspc.org.au
SUMMARY:State Assembly
DESCRIPTION:
URL:https://nswspc.org.au/event/state-assembly/
LOCATION:UTS Aerial Function Centre\, Level 7\, Building 10\, 235 Jones Street\, Ultimo\, NSW\, 2007\, Australia
CATEGORIES:State Assembly
END:VEVENT
BEGIN:VEVENT
DTSTART;VALUE=DATE:20170825
DTEND;VALUE=DATE:20170826
DTSTAMP:20260425T231449
CREATED:20250211T012007Z
LAST-MODIFIED:20250211T012007Z
UID:10000028-1503619200-1503705599@nswspc.org.au
SUMMARY:NSWSPC Professional Learning Day
DESCRIPTION:
URL:https://nswspc.org.au/event/nswspc-professional-learning-day/
LOCATION:UTS Aerial Function Centre\, Level 7\, Building 10\, 235 Jones Street\, Ultimo\, NSW\, 2007\, Australia
CATEGORIES:Professional Learning
ORGANIZER;CN="Director of PL":MAILTO:pldirector@nswspc.org.au
END:VEVENT
END:VCALENDAR