BEGIN:VCALENDAR
VERSION:2.0
PRODID:-//New South Wales Secondary Principals&#039; Council - ECPv6.15.5//NONSGML v1.0//EN
CALSCALE:GREGORIAN
METHOD:PUBLISH
X-WR-CALNAME:New South Wales Secondary Principals&#039; Council
X-ORIGINAL-URL:https://nswspc.org.au
X-WR-CALDESC:Events for New South Wales Secondary Principals&#039; Council
REFRESH-INTERVAL;VALUE=DURATION:PT1H
X-Robots-Tag:noindex
X-PUBLISHED-TTL:PT1H
BEGIN:VTIMEZONE
TZID:Australia/Sydney
BEGIN:STANDARD
TZOFFSETFROM:+1100
TZOFFSETTO:+1000
TZNAME:AEST
DTSTART:20170401T160000
END:STANDARD
BEGIN:DAYLIGHT
TZOFFSETFROM:+1000
TZOFFSETTO:+1100
TZNAME:AEDT
DTSTART:20170930T160000
END:DAYLIGHT
END:VTIMEZONE
BEGIN:VEVENT
DTSTART;VALUE=DATE:20170724
DTEND;VALUE=DATE:20170725
DTSTAMP:20260425T231406
CREATED:20250211T011827Z
LAST-MODIFIED:20250211T011827Z
UID:10000010-1500854400-1500940799@nswspc.org.au
SUMMARY:Executive meeting
DESCRIPTION:
URL:https://nswspc.org.au/event/executive-meeting-2/
LOCATION:UTS Aerial Function Centre\, Level 7\, Building 10\, 235 Jones Street\, Ultimo\, NSW\, 2007\, Australia
CATEGORIES:Executive Meetings
END:VEVENT
BEGIN:VEVENT
DTSTART;VALUE=DATE:20170724
DTEND;VALUE=DATE:20170725
DTSTAMP:20260425T231406
CREATED:20250211T011827Z
LAST-MODIFIED:20250211T011827Z
UID:10000011-1500854400-1500940799@nswspc.org.au
SUMMARY:Sutherland SPC meeting
DESCRIPTION:
URL:https://nswspc.org.au/event/sutherland-spc-meeting/
CATEGORIES:Ref. & Int. Group meetings,Regional meetings
END:VEVENT
BEGIN:VEVENT
DTSTART;VALUE=DATE:20170728
DTEND;VALUE=DATE:20170729
DTSTAMP:20260425T231406
CREATED:20250211T011827Z
LAST-MODIFIED:20250211T011827Z
UID:10000012-1501200000-1501286399@nswspc.org.au
SUMMARY:Western Sydney SPC meeting
DESCRIPTION:
URL:https://nswspc.org.au/event/western-sydney-spc-meeting/
CATEGORIES:Ref. & Int. Group meetings,Regional meetings
END:VEVENT
END:VCALENDAR