BEGIN:VCALENDAR
VERSION:2.0
PRODID:-//New South Wales Secondary Principals&#039; Council - ECPv6.15.5//NONSGML v1.0//EN
CALSCALE:GREGORIAN
METHOD:PUBLISH
X-ORIGINAL-URL:https://nswspc.org.au
X-WR-CALDESC:Events for New South Wales Secondary Principals&#039; Council
REFRESH-INTERVAL;VALUE=DURATION:PT1H
X-Robots-Tag:noindex
X-PUBLISHED-TTL:PT1H
BEGIN:VTIMEZONE
TZID:Australia/Sydney
BEGIN:STANDARD
TZOFFSETFROM:+1100
TZOFFSETTO:+1000
TZNAME:AEST
DTSTART:20190406T160000
END:STANDARD
BEGIN:DAYLIGHT
TZOFFSETFROM:+1000
TZOFFSETTO:+1100
TZNAME:AEDT
DTSTART:20191005T160000
END:DAYLIGHT
END:VTIMEZONE
BEGIN:VEVENT
DTSTART;TZID=Australia/Sydney:20190301T080000
DTEND;TZID=Australia/Sydney:20190301T170000
DTSTAMP:20260423T080123
CREATED:20250211T012635Z
LAST-MODIFIED:20250211T012635Z
UID:10000213-1551427200-1551459600@nswspc.org.au
SUMMARY:SPC Professional Learning Day
DESCRIPTION:
URL:https://nswspc.org.au/event/spc-professional-learning-day/
LOCATION:UTS Aerial Function Centre\, Level 7\, Building 10\, 235 Jones Street\, Ultimo\, NSW\, 2007\, Australia
CATEGORIES:Professional Learning
END:VEVENT
BEGIN:VEVENT
DTSTART;TZID=Australia/Sydney:20190304T080000
DTEND;TZID=Australia/Sydney:20190304T170000
DTSTAMP:20260423T080123
CREATED:20250211T012635Z
LAST-MODIFIED:20250211T012635Z
UID:10000214-1551686400-1551718800@nswspc.org.au
SUMMARY:SPC EPAC Reference Group Meeting
DESCRIPTION:
URL:https://nswspc.org.au/event/spc-epac-reference-group-meeting-2/
LOCATION:NSW Department of Education (Oxford St)
CATEGORIES:Ref. & Int. Group meetings
ORGANIZER;CN="Hannah Barnes":MAILTO:Hannah.Barnes@det.nsw.edu.au
END:VEVENT
BEGIN:VEVENT
DTSTART;TZID=Australia/Sydney:20190313T153000
DTEND;TZID=Australia/Sydney:20190313T173000
DTSTAMP:20260423T080123
CREATED:20250211T012635Z
LAST-MODIFIED:20250211T012635Z
UID:10000215-1552491000-1552498200@nswspc.org.au
SUMMARY:SPC Assets Reference Group Meeting
DESCRIPTION:
URL:https://nswspc.org.au/event/spc-assets-reference-group-meeting/
CATEGORIES:Ref. & Int. Group meetings
ORGANIZER;CN="Tony Fahey (SPC Assets Reference Group Leader)":MAILTO:anthony.fahey@det.nsw.edu.au
END:VEVENT
BEGIN:VEVENT
DTSTART;TZID=Australia/Sydney:20190315T080000
DTEND;TZID=Australia/Sydney:20190315T170000
DTSTAMP:20260423T080123
CREATED:20250211T012635Z
LAST-MODIFIED:20250211T012635Z
UID:10000216-1552636800-1552669200@nswspc.org.au
SUMMARY:SPC Professional Learning Reference Group Meeting
DESCRIPTION:
URL:https://nswspc.org.au/event/spc-professional-learning-reference-group-meeting-4/
CATEGORIES:Ref. & Int. Group meetings
END:VEVENT
END:VCALENDAR