BEGIN:VCALENDAR
VERSION:2.0
PRODID:-//New South Wales Secondary Principals&#039; Council - ECPv6.15.5//NONSGML v1.0//EN
CALSCALE:GREGORIAN
METHOD:PUBLISH
X-WR-CALNAME:New South Wales Secondary Principals&#039; Council
X-ORIGINAL-URL:https://nswspc.org.au
X-WR-CALDESC:Events for New South Wales Secondary Principals&#039; Council
REFRESH-INTERVAL;VALUE=DURATION:PT1H
X-Robots-Tag:noindex
X-PUBLISHED-TTL:PT1H
BEGIN:VTIMEZONE
TZID:Australia/Sydney
BEGIN:STANDARD
TZOFFSETFROM:+1100
TZOFFSETTO:+1000
TZNAME:AEST
DTSTART:20180331T160000
END:STANDARD
BEGIN:DAYLIGHT
TZOFFSETFROM:+1000
TZOFFSETTO:+1100
TZNAME:AEDT
DTSTART:20181006T160000
END:DAYLIGHT
END:VTIMEZONE
BEGIN:VEVENT
DTSTART;VALUE=DATE:20180409
DTEND;VALUE=DATE:20180410
DTSTAMP:20260424T233013
CREATED:20250211T012233Z
LAST-MODIFIED:20250211T012233Z
UID:10000106-1523232000-1523318399@nswspc.org.au
SUMMARY:SPC Professional Learning Event ‘Financial leadership for schools in the new world’ (Coffs Harbour)
DESCRIPTION:
URL:https://nswspc.org.au/event/spc-professional-learning-event-financial-leadership-for-schools-in-the-new-world-coffs-harbour/
CATEGORIES:Professional Learning
END:VEVENT
BEGIN:VEVENT
DTSTART;VALUE=DATE:20180413
DTEND;VALUE=DATE:20180414
DTSTAMP:20260424T233013
CREATED:20250211T012233Z
LAST-MODIFIED:20250211T012233Z
UID:10000107-1523577600-1523663999@nswspc.org.au
SUMMARY:Term 1 ends
DESCRIPTION:
URL:https://nswspc.org.au/event/term-1-ends/
CATEGORIES:Term Dates
END:VEVENT
BEGIN:VEVENT
DTSTART;VALUE=DATE:20180414
DTEND;VALUE=DATE:20180430
DTSTAMP:20260424T233013
CREATED:20250211T012233Z
LAST-MODIFIED:20250211T012233Z
UID:10000108-1523664000-1525046399@nswspc.org.au
SUMMARY:School Holidays
DESCRIPTION:
URL:https://nswspc.org.au/event/school-holidays-5/
CATEGORIES:School Holidays
END:VEVENT
BEGIN:VEVENT
DTSTART;VALUE=DATE:20180430
DTEND;VALUE=DATE:20180501
DTSTAMP:20260424T233013
CREATED:20250211T012233Z
LAST-MODIFIED:20250211T012233Z
UID:10000109-1525046400-1525132799@nswspc.org.au
SUMMARY:School Development Day
DESCRIPTION:
URL:https://nswspc.org.au/event/school-development-day-4/
CATEGORIES:Professional Learning
END:VEVENT
END:VCALENDAR