BEGIN:VCALENDAR
VERSION:2.0
PRODID:-//New South Wales Secondary Principals&#039; Council - ECPv6.15.5//NONSGML v1.0//EN
CALSCALE:GREGORIAN
METHOD:PUBLISH
X-WR-CALNAME:New South Wales Secondary Principals&#039; Council
X-ORIGINAL-URL:https://nswspc.org.au
X-WR-CALDESC:Events for New South Wales Secondary Principals&#039; Council
REFRESH-INTERVAL;VALUE=DURATION:PT1H
X-Robots-Tag:noindex
X-PUBLISHED-TTL:PT1H
BEGIN:VTIMEZONE
TZID:Australia/Sydney
BEGIN:STANDARD
TZOFFSETFROM:+1100
TZOFFSETTO:+1000
TZNAME:AEST
DTSTART:20180331T160000
END:STANDARD
BEGIN:DAYLIGHT
TZOFFSETFROM:+1000
TZOFFSETTO:+1100
TZNAME:AEDT
DTSTART:20181006T160000
END:DAYLIGHT
END:VTIMEZONE
BEGIN:VEVENT
DTSTART;VALUE=DATE:20180301
DTEND;VALUE=DATE:20180302
DTSTAMP:20260425T011655
CREATED:20250211T012232Z
LAST-MODIFIED:20250211T012232Z
UID:10000096-1519862400-1519948799@nswspc.org.au
SUMMARY:State Assembly
DESCRIPTION:
URL:https://nswspc.org.au/event/state-assembly-3/
LOCATION:Mecure Sydney\, 818 - 820 George Street\,\, Chippendale\, Sydney\, 2008
CATEGORIES:State Assembly
END:VEVENT
BEGIN:VEVENT
DTSTART;VALUE=DATE:20180302
DTEND;VALUE=DATE:20180303
DTSTAMP:20260425T011655
CREATED:20250211T012232Z
LAST-MODIFIED:20250211T012232Z
UID:10000097-1519948800-1520035199@nswspc.org.au
SUMMARY:NSWSPC Professional Learning Day
DESCRIPTION:
URL:https://nswspc.org.au/event/nswspc-professional-learning-day-3/
LOCATION:Mecure Sydney\, 818 - 820 George Street\,\, Chippendale\, Sydney\, 2008
CATEGORIES:Professional Learning
ORGANIZER;CN="Director of PL":MAILTO:pldirector@nswspc.org.au
END:VEVENT
BEGIN:VEVENT
DTSTART;VALUE=DATE:20180305
DTEND;VALUE=DATE:20180306
DTSTAMP:20260425T011655
CREATED:20250211T012232Z
LAST-MODIFIED:20250211T012232Z
UID:10000098-1520208000-1520294399@nswspc.org.au
SUMMARY:SPC EPAC Reference Group Meeting
DESCRIPTION:
URL:https://nswspc.org.au/event/spc-epac-reference-group-meeting/
CATEGORIES:Ref. & Int. Group meetings
END:VEVENT
BEGIN:VEVENT
DTSTART;VALUE=DATE:20180308
DTEND;VALUE=DATE:20180309
DTSTAMP:20260425T011655
CREATED:20250211T012232Z
LAST-MODIFIED:20250211T012232Z
UID:10000099-1520467200-1520553599@nswspc.org.au
SUMMARY:SPC Professional Learning Event: ‘Financial leadership for schools in the new world’ (Sydney)
DESCRIPTION:
URL:https://nswspc.org.au/event/spc-professional-learning-event-financial-leadership-for-schools-in-the-new-world-sydney/
CATEGORIES:Professional Learning
END:VEVENT
BEGIN:VEVENT
DTSTART;VALUE=DATE:20180312
DTEND;VALUE=DATE:20180313
DTSTAMP:20260425T011655
CREATED:20250211T012232Z
LAST-MODIFIED:20250211T012232Z
UID:10000100-1520812800-1520899199@nswspc.org.au
SUMMARY:SPC Professional Learning Reference Group Meeting
DESCRIPTION:
URL:https://nswspc.org.au/event/spc-professional-learning-reference-group-meeting/
CATEGORIES:Ref. & Int. Group meetings
END:VEVENT
BEGIN:VEVENT
DTSTART;VALUE=DATE:20180316
DTEND;VALUE=DATE:20180317
DTSTAMP:20260425T011655
CREATED:20250211T012232Z
LAST-MODIFIED:20250211T012232Z
UID:10000101-1521158400-1521244799@nswspc.org.au
SUMMARY:Central Coast Regional SPC Meeting
DESCRIPTION:
URL:https://nswspc.org.au/event/central-coast-regional-spc-meeting-2/
CATEGORIES:Regional meetings
END:VEVENT
BEGIN:VEVENT
DTSTART;VALUE=DATE:20180319
DTEND;VALUE=DATE:20180320
DTSTAMP:20260425T011655
CREATED:20250211T012232Z
LAST-MODIFIED:20250211T012232Z
UID:10000102-1521417600-1521503999@nswspc.org.au
SUMMARY:SPC Professional Learning Event: ‘Financial leadership for schools in the new world’ (Sydney)
DESCRIPTION:
URL:https://nswspc.org.au/event/spc-professional-learning-event-financial-leadership-for-schools-in-the-new-world-sydney-2/
CATEGORIES:Professional Learning
END:VEVENT
BEGIN:VEVENT
DTSTART;VALUE=DATE:20180322
DTEND;VALUE=DATE:20180323
DTSTAMP:20260425T011655
CREATED:20250211T012232Z
LAST-MODIFIED:20250211T012232Z
UID:10000103-1521676800-1521763199@nswspc.org.au
SUMMARY:SPC Colleges Interest Group Meeting
DESCRIPTION:
URL:https://nswspc.org.au/event/spc-colleges-interest-group-meeting/
CATEGORIES:Ref. & Int. Group meetings
END:VEVENT
BEGIN:VEVENT
DTSTART;VALUE=DATE:20180323
DTEND;VALUE=DATE:20180324
DTSTAMP:20260425T011655
CREATED:20250211T012232Z
LAST-MODIFIED:20250211T012232Z
UID:10000104-1521763200-1521849599@nswspc.org.au
SUMMARY:SPC Principal Futures Reference Group meeting
DESCRIPTION:
URL:https://nswspc.org.au/event/spc-principal-futures-reference-group-meeting/
LOCATION:UTS
CATEGORIES:Ref. & Int. Group meetings
ORGANIZER;CN="Brian Ralph":MAILTO:brian.ralph@yahoo.com.au
END:VEVENT
BEGIN:VEVENT
DTSTART;VALUE=DATE:20180326
DTEND;VALUE=DATE:20180327
DTSTAMP:20260425T011655
CREATED:20250211T012233Z
LAST-MODIFIED:20250211T012233Z
UID:10000105-1522022400-1522108799@nswspc.org.au
SUMMARY:SPC Professional Learning Event ‘Financial leadership for schools in the new world’ (Dubbo)
DESCRIPTION:
URL:https://nswspc.org.au/event/spc-professional-learning-event-financial-leadership-for-schools-in-the-new-world-dubbo/
CATEGORIES:Professional Learning
END:VEVENT
END:VCALENDAR