BEGIN:VCALENDAR
VERSION:2.0
PRODID:-//New South Wales Secondary Principals&#039; Council - ECPv6.15.5//NONSGML v1.0//EN
CALSCALE:GREGORIAN
METHOD:PUBLISH
X-WR-CALNAME:New South Wales Secondary Principals&#039; Council
X-ORIGINAL-URL:https://nswspc.org.au
X-WR-CALDESC:Events for New South Wales Secondary Principals&#039; Council
REFRESH-INTERVAL;VALUE=DURATION:PT1H
X-Robots-Tag:noindex
X-PUBLISHED-TTL:PT1H
BEGIN:VTIMEZONE
TZID:Australia/Adelaide
BEGIN:STANDARD
TZOFFSETFROM:+1030
TZOFFSETTO:+0930
TZNAME:ACST
DTSTART:20250405T163000
END:STANDARD
BEGIN:DAYLIGHT
TZOFFSETFROM:+0930
TZOFFSETTO:+1030
TZNAME:ACDT
DTSTART:20251004T163000
END:DAYLIGHT
BEGIN:STANDARD
TZOFFSETFROM:+1030
TZOFFSETTO:+0930
TZNAME:ACST
DTSTART:20260404T163000
END:STANDARD
BEGIN:DAYLIGHT
TZOFFSETFROM:+0930
TZOFFSETTO:+1030
TZNAME:ACDT
DTSTART:20261003T163000
END:DAYLIGHT
END:VTIMEZONE
BEGIN:VTIMEZONE
TZID:Australia/Sydney
BEGIN:STANDARD
TZOFFSETFROM:+1100
TZOFFSETTO:+1000
TZNAME:AEST
DTSTART:20170401T160000
END:STANDARD
BEGIN:DAYLIGHT
TZOFFSETFROM:+1000
TZOFFSETTO:+1100
TZNAME:AEDT
DTSTART:20170930T160000
END:DAYLIGHT
BEGIN:STANDARD
TZOFFSETFROM:+1100
TZOFFSETTO:+1000
TZNAME:AEST
DTSTART:20180331T160000
END:STANDARD
BEGIN:DAYLIGHT
TZOFFSETFROM:+1000
TZOFFSETTO:+1100
TZNAME:AEDT
DTSTART:20181006T160000
END:DAYLIGHT
BEGIN:STANDARD
TZOFFSETFROM:+1100
TZOFFSETTO:+1000
TZNAME:AEST
DTSTART:20190406T160000
END:STANDARD
BEGIN:DAYLIGHT
TZOFFSETFROM:+1000
TZOFFSETTO:+1100
TZNAME:AEDT
DTSTART:20191005T160000
END:DAYLIGHT
BEGIN:STANDARD
TZOFFSETFROM:+1100
TZOFFSETTO:+1000
TZNAME:AEST
DTSTART:20200404T160000
END:STANDARD
BEGIN:DAYLIGHT
TZOFFSETFROM:+1000
TZOFFSETTO:+1100
TZNAME:AEDT
DTSTART:20201003T160000
END:DAYLIGHT
BEGIN:STANDARD
TZOFFSETFROM:+1100
TZOFFSETTO:+1000
TZNAME:AEST
DTSTART:20210403T160000
END:STANDARD
BEGIN:DAYLIGHT
TZOFFSETFROM:+1000
TZOFFSETTO:+1100
TZNAME:AEDT
DTSTART:20211002T160000
END:DAYLIGHT
BEGIN:STANDARD
TZOFFSETFROM:+1100
TZOFFSETTO:+1000
TZNAME:AEST
DTSTART:20220402T160000
END:STANDARD
BEGIN:DAYLIGHT
TZOFFSETFROM:+1000
TZOFFSETTO:+1100
TZNAME:AEDT
DTSTART:20221001T160000
END:DAYLIGHT
END:VTIMEZONE
BEGIN:VEVENT
DTSTART;TZID=Australia/Adelaide:20260403T080000
DTEND;TZID=Australia/Adelaide:20260403T170000
DTSTAMP:20260425T011929
CREATED:20251015T031118Z
LAST-MODIFIED:20251015T031118Z
UID:10000965-1775203200-1775235600@nswspc.org.au
SUMMARY:Last day of Term
DESCRIPTION:
URL:https://nswspc.org.au/event/last-day-of-term/
CATEGORIES:Term Dates
END:VEVENT
BEGIN:VEVENT
DTSTART;TZID=Australia/Adelaide:20251219T080000
DTEND;TZID=Australia/Adelaide:20251219T170000
DTSTAMP:20260425T011929
CREATED:20251016T005940Z
LAST-MODIFIED:20251016T005940Z
UID:10000981-1766131200-1766163600@nswspc.org.au
SUMMARY:Last day of Term
DESCRIPTION:
URL:https://nswspc.org.au/event/last-day-of-term-6/
CATEGORIES:Term Dates
END:VEVENT
BEGIN:VEVENT
DTSTART;TZID=Australia/Sydney:20221220T080000
DTEND;TZID=Australia/Sydney:20221220T153000
DTSTAMP:20260425T011929
CREATED:20250211T030811Z
LAST-MODIFIED:20250211T030811Z
UID:10000565-1671523200-1671550200@nswspc.org.au
SUMMARY:Last Day of Term 4
DESCRIPTION:
URL:https://nswspc.org.au/event/last-day-of-term-4-2/
CATEGORIES:Term Dates
END:VEVENT
BEGIN:VEVENT
DTSTART;TZID=Australia/Sydney:20221010T080000
DTEND;TZID=Australia/Sydney:20221010T153000
DTSTAMP:20260425T011929
CREATED:20250211T030715Z
LAST-MODIFIED:20250211T030715Z
UID:10000531-1665388800-1665415800@nswspc.org.au
SUMMARY:Term 4 commences
DESCRIPTION:
URL:https://nswspc.org.au/event/term-4-commences/
CATEGORIES:Term Dates
END:VEVENT
BEGIN:VEVENT
DTSTART;TZID=Australia/Sydney:20220923T080000
DTEND;TZID=Australia/Sydney:20220923T153000
DTSTAMP:20260425T011929
CREATED:20250211T030715Z
LAST-MODIFIED:20250211T030715Z
UID:10000530-1663920000-1663947000@nswspc.org.au
SUMMARY:Last Day of Term 3
DESCRIPTION:
URL:https://nswspc.org.au/event/last-day-of-term-3-2/
CATEGORIES:Term Dates
END:VEVENT
BEGIN:VEVENT
DTSTART;TZID=Australia/Sydney:20220718T080000
DTEND;TZID=Australia/Sydney:20220718T153000
DTSTAMP:20260425T011930
CREATED:20250211T030507Z
LAST-MODIFIED:20250211T030507Z
UID:10000491-1658131200-1658158200@nswspc.org.au
SUMMARY:Term 3 commences
DESCRIPTION:
URL:https://nswspc.org.au/event/term-3-commences/
CATEGORIES:Term Dates
END:VEVENT
BEGIN:VEVENT
DTSTART;TZID=Australia/Sydney:20220701T080000
DTEND;TZID=Australia/Sydney:20220701T153000
DTSTAMP:20260425T011930
CREATED:20250211T030507Z
LAST-MODIFIED:20250211T030507Z
UID:10000490-1656662400-1656689400@nswspc.org.au
SUMMARY:Last Day of Term 2
DESCRIPTION:
URL:https://nswspc.org.au/event/last-day-of-term-2-2/
CATEGORIES:Term Dates
END:VEVENT
BEGIN:VEVENT
DTSTART;TZID=Australia/Sydney:20220426T080000
DTEND;TZID=Australia/Sydney:20220426T153000
DTSTAMP:20260425T011930
CREATED:20250211T014359Z
LAST-MODIFIED:20250211T014359Z
UID:10000457-1650960000-1650987000@nswspc.org.au
SUMMARY:Term 2 commences
DESCRIPTION:
URL:https://nswspc.org.au/event/term-2-commences/
CATEGORIES:Term Dates
END:VEVENT
BEGIN:VEVENT
DTSTART;TZID=Australia/Sydney:20220408T080000
DTEND;TZID=Australia/Sydney:20220408T153000
DTSTAMP:20260425T011930
CREATED:20250211T014359Z
LAST-MODIFIED:20250211T014359Z
UID:10000456-1649404800-1649431800@nswspc.org.au
SUMMARY:Last Day of Term 1
DESCRIPTION:
URL:https://nswspc.org.au/event/last-day-of-term-1/
CATEGORIES:Term Dates
END:VEVENT
BEGIN:VEVENT
DTSTART;TZID=Australia/Sydney:20220128T080000
DTEND;TZID=Australia/Sydney:20220128T153000
DTSTAMP:20260425T011930
CREATED:20250211T014319Z
LAST-MODIFIED:20250211T014319Z
UID:10000421-1643356800-1643383800@nswspc.org.au
SUMMARY:Term 1 commences
DESCRIPTION:
URL:https://nswspc.org.au/event/term-1-commences/
CATEGORIES:Term Dates
END:VEVENT
BEGIN:VEVENT
DTSTART;TZID=Australia/Sydney:20211217T000000
DTEND;TZID=Australia/Sydney:20211217T000000
DTSTAMP:20260425T011930
CREATED:20250211T014318Z
LAST-MODIFIED:20250211T014318Z
UID:10000420-1639699200-1639699200@nswspc.org.au
SUMMARY:Last Day of Term 4
DESCRIPTION:
URL:https://nswspc.org.au/event/last-day-of-term-4/
CATEGORIES:Term Dates
END:VEVENT
BEGIN:VEVENT
DTSTART;TZID=Australia/Sydney:20211005T000000
DTEND;TZID=Australia/Sydney:20211005T000000
DTSTAMP:20260425T011930
CREATED:20250211T013939Z
LAST-MODIFIED:20250211T013939Z
UID:10000394-1633392000-1633392000@nswspc.org.au
SUMMARY:First Day of Term 4
DESCRIPTION:
URL:https://nswspc.org.au/event/first-day-of-term-4/
CATEGORIES:Term Dates
END:VEVENT
BEGIN:VEVENT
DTSTART;TZID=Australia/Sydney:20210917T000000
DTEND;TZID=Australia/Sydney:20210917T000000
DTSTAMP:20260425T011930
CREATED:20250211T013939Z
LAST-MODIFIED:20250211T013939Z
UID:10000393-1631836800-1631836800@nswspc.org.au
SUMMARY:Last Day of Term 3
DESCRIPTION:
URL:https://nswspc.org.au/event/last-day-of-term-3/
CATEGORIES:Term Dates
END:VEVENT
BEGIN:VEVENT
DTSTART;TZID=Australia/Sydney:20210712T000000
DTEND;TZID=Australia/Sydney:20210712T000000
DTSTAMP:20260425T011930
CREATED:20250211T013901Z
LAST-MODIFIED:20250211T013901Z
UID:10000366-1626048000-1626048000@nswspc.org.au
SUMMARY:First Day of Term 3
DESCRIPTION:
URL:https://nswspc.org.au/event/first-day-of-term-3/
CATEGORIES:Term Dates
END:VEVENT
BEGIN:VEVENT
DTSTART;TZID=Australia/Sydney:20210625T000000
DTEND;TZID=Australia/Sydney:20210625T000000
DTSTAMP:20260425T011930
CREATED:20250211T013901Z
LAST-MODIFIED:20250211T013901Z
UID:10000365-1624579200-1624579200@nswspc.org.au
SUMMARY:Last Day of Term 2
DESCRIPTION:
URL:https://nswspc.org.au/event/last-day-of-term-2/
CATEGORIES:Term Dates
END:VEVENT
BEGIN:VEVENT
DTSTART;TZID=Australia/Sydney:20210419T000000
DTEND;TZID=Australia/Sydney:20210419T000000
DTSTAMP:20260425T011930
CREATED:20250211T013812Z
LAST-MODIFIED:20250211T013812Z
UID:10000336-1618790400-1618790400@nswspc.org.au
SUMMARY:First Day of Term 2
DESCRIPTION:
URL:https://nswspc.org.au/event/first-day-of-term-2/
CATEGORIES:Term Dates
END:VEVENT
BEGIN:VEVENT
DTSTART;VALUE=DATE:20181219
DTEND;VALUE=DATE:20181220
DTSTAMP:20260425T011930
CREATED:20250211T012503Z
LAST-MODIFIED:20250211T012503Z
UID:10000196-1545177600-1545263999@nswspc.org.au
SUMMARY:Term 4 ends
DESCRIPTION:
URL:https://nswspc.org.au/event/term-4-ends/
CATEGORIES:Term Dates
END:VEVENT
BEGIN:VEVENT
DTSTART;VALUE=DATE:20181015
DTEND;VALUE=DATE:20181016
DTSTAMP:20260425T011930
CREATED:20250211T012419Z
LAST-MODIFIED:20250211T012419Z
UID:10000168-1539561600-1539647999@nswspc.org.au
SUMMARY:Term 4 starts
DESCRIPTION:
URL:https://nswspc.org.au/event/term-4-starts/
CATEGORIES:Term Dates
END:VEVENT
BEGIN:VEVENT
DTSTART;VALUE=DATE:20180928
DTEND;VALUE=DATE:20180929
DTSTAMP:20260425T011930
CREATED:20250211T012419Z
LAST-MODIFIED:20250211T012419Z
UID:10000165-1538092800-1538179199@nswspc.org.au
SUMMARY:Term 3 ends
DESCRIPTION:
URL:https://nswspc.org.au/event/term-3-ends-2/
CATEGORIES:Term Dates
END:VEVENT
BEGIN:VEVENT
DTSTART;VALUE=DATE:20180724
DTEND;VALUE=DATE:20180725
DTSTAMP:20260425T011930
CREATED:20250211T012341Z
LAST-MODIFIED:20250211T012341Z
UID:10000143-1532390400-1532476799@nswspc.org.au
SUMMARY:Term 3 starts
DESCRIPTION:
URL:https://nswspc.org.au/event/term-3-starts-2/
CATEGORIES:Term Dates
END:VEVENT
BEGIN:VEVENT
DTSTART;VALUE=DATE:20180706
DTEND;VALUE=DATE:20180707
DTSTAMP:20260425T011930
CREATED:20250211T012340Z
LAST-MODIFIED:20250211T012340Z
UID:10000140-1530835200-1530921599@nswspc.org.au
SUMMARY:Term 2 ends
DESCRIPTION:
URL:https://nswspc.org.au/event/term-2-ends-2/
CATEGORIES:Term Dates
END:VEVENT
BEGIN:VEVENT
DTSTART;VALUE=DATE:20180501
DTEND;VALUE=DATE:20180502
DTSTAMP:20260425T011930
CREATED:20250211T012233Z
LAST-MODIFIED:20250211T012338Z
UID:10000110-1525132800-1525219199@nswspc.org.au
SUMMARY:Term 2 starts
DESCRIPTION:
URL:https://nswspc.org.au/event/term-2-starts/
CATEGORIES:Term Dates
END:VEVENT
BEGIN:VEVENT
DTSTART;VALUE=DATE:20180413
DTEND;VALUE=DATE:20180414
DTSTAMP:20260425T011930
CREATED:20250211T012233Z
LAST-MODIFIED:20250211T012233Z
UID:10000107-1523577600-1523663999@nswspc.org.au
SUMMARY:Term 1 ends
DESCRIPTION:
URL:https://nswspc.org.au/event/term-1-ends/
CATEGORIES:Term Dates
END:VEVENT
BEGIN:VEVENT
DTSTART;VALUE=DATE:20180206
DTEND;VALUE=DATE:20180207
DTSTAMP:20260425T011930
CREATED:20250211T012230Z
LAST-MODIFIED:20250211T012230Z
UID:10000072-1517875200-1517961599@nswspc.org.au
SUMMARY:Term 1 starts (Western)
DESCRIPTION:
URL:https://nswspc.org.au/event/term-1-starts-western/
CATEGORIES:Term Dates
END:VEVENT
BEGIN:VEVENT
DTSTART;VALUE=DATE:20180130
DTEND;VALUE=DATE:20180131
DTSTAMP:20260425T011930
CREATED:20250211T012056Z
LAST-MODIFIED:20250211T012056Z
UID:10000070-1517270400-1517356799@nswspc.org.au
SUMMARY:Term 1 starts (Eastern)
DESCRIPTION:
URL:https://nswspc.org.au/event/term-1-starts-eastern/
CATEGORIES:Term Dates
END:VEVENT
BEGIN:VEVENT
DTSTART;VALUE=DATE:20171215
DTEND;VALUE=DATE:20171216
DTSTAMP:20260425T011930
CREATED:20250211T012056Z
LAST-MODIFIED:20250211T012056Z
UID:10000064-1513296000-1513382399@nswspc.org.au
SUMMARY:Term 4 ends for students
DESCRIPTION:
URL:https://nswspc.org.au/event/term-4-ends-for-students/
CATEGORIES:Term Dates
END:VEVENT
BEGIN:VEVENT
DTSTART;VALUE=DATE:20171009
DTEND;VALUE=DATE:20171010
DTSTAMP:20260425T011930
CREATED:20250211T012008Z
LAST-MODIFIED:20250211T012008Z
UID:10000036-1507507200-1507593599@nswspc.org.au
SUMMARY:Term 4 Begins
DESCRIPTION:
URL:https://nswspc.org.au/event/term-4-begins/
CATEGORIES:Term Dates
END:VEVENT
BEGIN:VEVENT
DTSTART;VALUE=DATE:20170922
DTEND;VALUE=DATE:20170923
DTSTAMP:20260425T011930
CREATED:20250211T012007Z
LAST-MODIFIED:20250211T012007Z
UID:10000034-1506038400-1506124799@nswspc.org.au
SUMMARY:Term 3 ends
DESCRIPTION:
URL:https://nswspc.org.au/event/term-3-ends/
CATEGORIES:Term Dates
END:VEVENT
BEGIN:VEVENT
DTSTART;VALUE=DATE:20170718
DTEND;VALUE=DATE:20170719
DTSTAMP:20260425T011930
CREATED:20250211T011826Z
LAST-MODIFIED:20250211T011826Z
UID:10000009-1500336000-1500422399@nswspc.org.au
SUMMARY:Term 3 starts
DESCRIPTION:
URL:https://nswspc.org.au/event/term-3-starts/
CATEGORIES:Term Dates
ATTACH;FMTTYPE=image/jpeg:https://nswspc.org.au/wp-content/uploads/2025/02/2014AC_072-Ln6ztQ.tmp_.jpg
END:VEVENT
BEGIN:VEVENT
DTSTART;VALUE=DATE:20170630
DTEND;VALUE=DATE:20170701
DTSTAMP:20260425T011930
CREATED:20250211T011826Z
LAST-MODIFIED:20250211T011826Z
UID:10000006-1498780800-1498867199@nswspc.org.au
SUMMARY:Term 2 ends
DESCRIPTION:
URL:https://nswspc.org.au/event/term-2-ends/
CATEGORIES:Term Dates
END:VEVENT
END:VCALENDAR