BEGIN:VCALENDAR
VERSION:2.0
PRODID:-//New South Wales Secondary Principals&#039; Council - ECPv6.15.5//NONSGML v1.0//EN
CALSCALE:GREGORIAN
METHOD:PUBLISH
X-ORIGINAL-URL:https://nswspc.org.au
X-WR-CALDESC:Events for New South Wales Secondary Principals&#039; Council
REFRESH-INTERVAL;VALUE=DURATION:PT1H
X-Robots-Tag:noindex
X-PUBLISHED-TTL:PT1H
BEGIN:VTIMEZONE
TZID:Australia/Sydney
BEGIN:STANDARD
TZOFFSETFROM:+1100
TZOFFSETTO:+1000
TZNAME:AEST
DTSTART:20250405T160000
END:STANDARD
BEGIN:DAYLIGHT
TZOFFSETFROM:+1000
TZOFFSETTO:+1100
TZNAME:AEDT
DTSTART:20251004T160000
END:DAYLIGHT
END:VTIMEZONE
BEGIN:VTIMEZONE
TZID:Australia/Adelaide
BEGIN:STANDARD
TZOFFSETFROM:+1030
TZOFFSETTO:+0930
TZNAME:ACST
DTSTART:20260404T163000
END:STANDARD
BEGIN:DAYLIGHT
TZOFFSETFROM:+0930
TZOFFSETTO:+1030
TZNAME:ACDT
DTSTART:20261003T163000
END:DAYLIGHT
END:VTIMEZONE
BEGIN:VEVENT
DTSTART;VALUE=DATE:20251106
DTEND;VALUE=DATE:20251108
DTSTAMP:20260425T205441
CREATED:20250211T031759Z
LAST-MODIFIED:20250211T031759Z
UID:10000940-1762387200-1762559999@nswspc.org.au
SUMMARY:SPC North Coast Regional Conference
DESCRIPTION:
URL:https://nswspc.org.au/event/spc-north-coast-regional-conference/
CATEGORIES:Regional meetings
END:VEVENT
BEGIN:VEVENT
DTSTART;TZID=Australia/Sydney:20251106T083000
DTEND;TZID=Australia/Sydney:20251107T153000
DTSTAMP:20260425T205441
CREATED:20250211T031759Z
LAST-MODIFIED:20250211T031759Z
UID:10000941-1762417800-1762529400@nswspc.org.au
SUMMARY:Riverina Regional Group Meeting
DESCRIPTION:
URL:https://nswspc.org.au/event/riverina-regional-group-meeting-10/
CATEGORIES:Regional meetings
END:VEVENT
BEGIN:VEVENT
DTSTART;TZID=Australia/Sydney:20251106T083000
DTEND;TZID=Australia/Sydney:20251107T153000
DTSTAMP:20260425T205441
CREATED:20250211T031759Z
LAST-MODIFIED:20250211T031759Z
UID:10000942-1762417800-1762529400@nswspc.org.au
SUMMARY:Illawarra and South East Regional Group Meeting
DESCRIPTION:
URL:https://nswspc.org.au/event/illawarra-and-south-east-regional-group-meeting-4/
LOCATION:Woonona High School
CATEGORIES:Regional meetings
ORGANIZER;CN="Catherine Glover":MAILTO:catherine.glover@det.nsw.edu.au
END:VEVENT
BEGIN:VEVENT
DTSTART;TZID=Australia/Adelaide:20260213T083000
DTEND;TZID=Australia/Adelaide:20260213T150000
DTSTAMP:20260425T205441
CREATED:20251015T011500Z
LAST-MODIFIED:20251015T012457Z
UID:10000956-1770971400-1770994800@nswspc.org.au
SUMMARY:Western Sydney Regional Meeting
DESCRIPTION:
URL:https://nswspc.org.au/event/spc-executive-meeting-38/
LOCATION:Tradewynds\, Nirimba Education Precinct\, Quakers Hill\, New South Wales\, 2763\, Australia
CATEGORIES:Regional meetings
ORGANIZER;CN="Sally Smithard":MAILTO:Sally.M.Smithard@det.nsw.edu.au
END:VEVENT
BEGIN:VEVENT
DTSTART;TZID=Australia/Adelaide:20260213T083000
DTEND;TZID=Australia/Adelaide:20260213T150000
DTSTAMP:20260425T205441
CREATED:20251026T222320Z
LAST-MODIFIED:20251026T222320Z
UID:10001008-1770971400-1770994800@nswspc.org.au
SUMMARY:Hunter Regional Meeting
DESCRIPTION:
URL:https://nswspc.org.au/event/hunter-regional-meeting-4/
CATEGORIES:Regional meetings
END:VEVENT
BEGIN:VEVENT
DTSTART;TZID=Australia/Adelaide:20260213T083000
DTEND;TZID=Australia/Adelaide:20260213T150000
DTSTAMP:20260425T205441
CREATED:20251125T234646Z
LAST-MODIFIED:20251125T234728Z
UID:10001056-1770971400-1770994800@nswspc.org.au
SUMMARY:North Sydney Regional Meeting
DESCRIPTION:
URL:https://nswspc.org.au/event/north-sydney-regional-meeting-10/
LOCATION:Hornsby Girl HS
CATEGORIES:Regional meetings
ORGANIZER;CN="Cassy Norris":MAILTO:carol.norris@det.nsw.edu.au
END:VEVENT
BEGIN:VEVENT
DTSTART;TZID=Australia/Adelaide:20260213T083000
DTEND;TZID=Australia/Adelaide:20260213T150000
DTSTAMP:20260425T205441
CREATED:20251125T234812Z
LAST-MODIFIED:20251125T234812Z
UID:10001057-1770971400-1770994800@nswspc.org.au
SUMMARY:Central Coast Regional Meeting
DESCRIPTION:
URL:https://nswspc.org.au/event/central-coast-regional-meeting-11/
CATEGORIES:Regional meetings
ORGANIZER;CN="Andrew Backhouse":MAILTO:Andrew.Backhouse@det.nsw.edu.au
END:VEVENT
BEGIN:VEVENT
DTSTART;TZID=Australia/Adelaide:20260216T083000
DTEND;TZID=Australia/Adelaide:20260216T150000
DTSTAMP:20260425T205441
CREATED:20251015T013812Z
LAST-MODIFIED:20251015T013812Z
UID:10000959-1771230600-1771254000@nswspc.org.au
SUMMARY:St George Regional Meeting
DESCRIPTION:
URL:https://nswspc.org.au/event/st-george-regional-meeting-2/
CATEGORIES:Regional meetings
ORGANIZER;CN="Anna Girginis":MAILTO:Anna.Girginis@det.nsw.edu.au
END:VEVENT
BEGIN:VEVENT
DTSTART;TZID=Australia/Adelaide:20260216T103000
DTEND;TZID=Australia/Adelaide:20260216T140000
DTSTAMP:20260425T205441
CREATED:20251120T215531Z
LAST-MODIFIED:20251120T215531Z
UID:10001048-1771237800-1771250400@nswspc.org.au
SUMMARY:Sutherland Regional Meeting
DESCRIPTION:
URL:https://nswspc.org.au/event/sutherland-regional-meeting-5/
CATEGORIES:Regional meetings
END:VEVENT
BEGIN:VEVENT
DTSTART;TZID=Australia/Adelaide:20260218T083000
DTEND;TZID=Australia/Adelaide:20260218T150000
DTSTAMP:20260425T205441
CREATED:20251026T221307Z
LAST-MODIFIED:20251026T221307Z
UID:10001004-1771403400-1771426800@nswspc.org.au
SUMMARY:South Western Sydney Regional Meeting
DESCRIPTION:
URL:https://nswspc.org.au/event/south-western-sydney-regional-meeting-5/
CATEGORIES:Regional meetings
ORGANIZER;CN="Kylie Hedger":MAILTO:KYLIE.HEDGER@det.nsw.edu.au
END:VEVENT
BEGIN:VEVENT
DTSTART;TZID=Australia/Adelaide:20260219T083000
DTEND;TZID=Australia/Adelaide:20260220T150000
DTSTAMP:20260425T205441
CREATED:20251015T013914Z
LAST-MODIFIED:20251015T013914Z
UID:10000960-1771489800-1771599600@nswspc.org.au
SUMMARY:New England Regional Meeting
DESCRIPTION:
URL:https://nswspc.org.au/event/new-england-regional-meeting-8/
CATEGORIES:Regional meetings
END:VEVENT
BEGIN:VEVENT
DTSTART;TZID=Australia/Adelaide:20260219T120000
DTEND;TZID=Australia/Adelaide:20260220T130000
DTSTAMP:20260425T205441
CREATED:20251125T235042Z
LAST-MODIFIED:20251125T235042Z
UID:10001059-1771502400-1771592400@nswspc.org.au
SUMMARY:Central West Regional Meeting
DESCRIPTION:
URL:https://nswspc.org.au/event/central-west-regional-meeting-14/
CATEGORIES:Regional meetings
END:VEVENT
BEGIN:VEVENT
DTSTART;TZID=Australia/Adelaide:20260220T083000
DTEND;TZID=Australia/Adelaide:20260220T150000
DTSTAMP:20260425T205441
CREATED:20251015T014006Z
LAST-MODIFIED:20251015T014006Z
UID:10000961-1771576200-1771599600@nswspc.org.au
SUMMARY:Illawarra and South East Regional Meeting
DESCRIPTION:
URL:https://nswspc.org.au/event/illawarra-and-south-east-regional-meeting/
CATEGORIES:Regional meetings
ORGANIZER;CN="Catherine Glover":MAILTO:catherine.glover@det.nsw.edu.au
END:VEVENT
BEGIN:VEVENT
DTSTART;TZID=Australia/Adelaide:20260226T080000
DTEND;TZID=Australia/Adelaide:20260227T170000
DTSTAMP:20260425T205441
CREATED:20251125T235156Z
LAST-MODIFIED:20251125T235156Z
UID:10001060-1772092800-1772211600@nswspc.org.au
SUMMARY:Riverina Regional Meeting
DESCRIPTION:
URL:https://nswspc.org.au/event/riverina-regional-meeting-6/
LOCATION:Leeton
CATEGORIES:Regional meetings
ORGANIZER;CN="Norman Johnson-Meader":MAILTO:Norman.Meader@det.nsw.edu.au
END:VEVENT
BEGIN:VEVENT
DTSTART;TZID=Australia/Adelaide:20260313T090000
DTEND;TZID=Australia/Adelaide:20260313T150000
DTSTAMP:20260425T205441
CREATED:20251125T235332Z
LAST-MODIFIED:20251125T235332Z
UID:10001061-1773392400-1773414000@nswspc.org.au
SUMMARY:Hunter and Central Coast Combined Regional Meeting
DESCRIPTION:
URL:https://nswspc.org.au/event/hunter-and-central-coast-combined-regional-meeting/
CATEGORIES:Regional meetings
ORGANIZER;CN="Andrew Backhouse":MAILTO:Andrew.Backhouse@det.nsw.edu.au
END:VEVENT
BEGIN:VEVENT
DTSTART;TZID=Australia/Adelaide:20260501T083000
DTEND;TZID=Australia/Adelaide:20260501T153000
DTSTAMP:20260425T205441
CREATED:20251015T031621Z
LAST-MODIFIED:20251015T031621Z
UID:10000967-1777624200-1777649400@nswspc.org.au
SUMMARY:Western Sydney Regional Meeting
DESCRIPTION:
URL:https://nswspc.org.au/event/western-sydney-regional-meeting-7/
CATEGORIES:Regional meetings
ORGANIZER;CN="Sally Smithard":MAILTO:Sally.M.Smithard@det.nsw.edu.au
END:VEVENT
BEGIN:VEVENT
DTSTART;TZID=Australia/Adelaide:20260504T083000
DTEND;TZID=Australia/Adelaide:20260504T153000
DTSTAMP:20260425T205441
CREATED:20251015T031703Z
LAST-MODIFIED:20251015T031703Z
UID:10000968-1777883400-1777908600@nswspc.org.au
SUMMARY:St George Regional Meeting
DESCRIPTION:
URL:https://nswspc.org.au/event/st-george-regional-meeting-3/
CATEGORIES:Regional meetings
ORGANIZER;CN="Anna Girginis":MAILTO:Anna.Girginis@det.nsw.edu.au
END:VEVENT
BEGIN:VEVENT
DTSTART;TZID=Australia/Adelaide:20260506T083000
DTEND;TZID=Australia/Adelaide:20260506T150000
DTSTAMP:20260425T205441
CREATED:20251026T221345Z
LAST-MODIFIED:20251026T221345Z
UID:10001005-1778056200-1778079600@nswspc.org.au
SUMMARY:South Western Sydney Regional Meeting
DESCRIPTION:
URL:https://nswspc.org.au/event/south-western-sydney-regional-meeting-6/
CATEGORIES:Regional meetings
ORGANIZER;CN="Kylie Hedger":MAILTO:KYLIE.HEDGER@det.nsw.edu.au
END:VEVENT
BEGIN:VEVENT
DTSTART;TZID=Australia/Adelaide:20260507T120000
DTEND;TZID=Australia/Adelaide:20260508T153000
DTSTAMP:20260425T205441
CREATED:20251015T031823Z
LAST-MODIFIED:20251126T011639Z
UID:10000969-1778155200-1778254200@nswspc.org.au
SUMMARY:Western and Central West Combined Regional Meeting
DESCRIPTION:
URL:https://nswspc.org.au/event/north-sydney-regional-meeting-6/
CATEGORIES:Regional meetings
ORGANIZER;CN="Michael Spora":MAILTO:michael.spora@det.nsw.edu.au
END:VEVENT
BEGIN:VEVENT
DTSTART;TZID=Australia/Adelaide:20260508T083000
DTEND;TZID=Australia/Adelaide:20260508T150000
DTSTAMP:20260425T205441
CREATED:20251026T222355Z
LAST-MODIFIED:20251026T222355Z
UID:10001009-1778229000-1778252400@nswspc.org.au
SUMMARY:Hunter Regional Meeting
DESCRIPTION:
URL:https://nswspc.org.au/event/hunter-regional-meeting-5/
CATEGORIES:Regional meetings
END:VEVENT
BEGIN:VEVENT
DTSTART;TZID=Australia/Adelaide:20260508T083000
DTEND;TZID=Australia/Adelaide:20260508T153000
DTSTAMP:20260425T205441
CREATED:20251015T032915Z
LAST-MODIFIED:20251015T032915Z
UID:10000970-1778229000-1778254200@nswspc.org.au
SUMMARY:North Sydney Regional Meeting
DESCRIPTION:
URL:https://nswspc.org.au/event/north-sydney-regional-meeting-7/
CATEGORIES:Regional meetings
ORGANIZER;CN="Cassy Norris":MAILTO:carol.norris@det.nsw.edu.au
END:VEVENT
BEGIN:VEVENT
DTSTART;TZID=Australia/Adelaide:20260508T090000
DTEND;TZID=Australia/Adelaide:20260508T150000
DTSTAMP:20260425T205441
CREATED:20251126T000614Z
LAST-MODIFIED:20251126T000614Z
UID:10001062-1778230800-1778252400@nswspc.org.au
SUMMARY:Central Coast Regional Meeting
DESCRIPTION:
URL:https://nswspc.org.au/event/central-coast-regional-meeting-12/
CATEGORIES:Regional meetings
ORGANIZER;CN="Andrew Backhouse":MAILTO:Andrew.Backhouse@det.nsw.edu.au
END:VEVENT
BEGIN:VEVENT
DTSTART;TZID=Australia/Adelaide:20260508T100000
DTEND;TZID=Australia/Adelaide:20260508T143000
DTSTAMP:20260425T205441
CREATED:20251120T215641Z
LAST-MODIFIED:20251120T215641Z
UID:10001049-1778234400-1778250600@nswspc.org.au
SUMMARY:Sutherland Regional Meeting
DESCRIPTION:
URL:https://nswspc.org.au/event/sutherland-regional-meeting-6/
CATEGORIES:Regional meetings
END:VEVENT
BEGIN:VEVENT
DTSTART;TZID=Australia/Adelaide:20260514T083000
DTEND;TZID=Australia/Adelaide:20260515T150000
DTSTAMP:20260425T205441
CREATED:20251015T033005Z
LAST-MODIFIED:20251015T033005Z
UID:10000971-1778747400-1778857200@nswspc.org.au
SUMMARY:New England Regional Meeting
DESCRIPTION:
URL:https://nswspc.org.au/event/new-england-regional-meeting-9/
CATEGORIES:Regional meetings
END:VEVENT
BEGIN:VEVENT
DTSTART;TZID=Australia/Adelaide:20260515T083000
DTEND;TZID=Australia/Adelaide:20260515T153000
DTSTAMP:20260425T205441
CREATED:20251015T033052Z
LAST-MODIFIED:20251015T033052Z
UID:10000972-1778833800-1778859000@nswspc.org.au
SUMMARY:Illawarra and South East Regional Meeting
DESCRIPTION:
URL:https://nswspc.org.au/event/illawarra-and-south-east-regional-meeting-2/
CATEGORIES:Regional meetings
ORGANIZER;CN="Catherine Glover":MAILTO:catherine.glover@det.nsw.edu.au
END:VEVENT
BEGIN:VEVENT
DTSTART;TZID=Australia/Adelaide:20260515T120000
DTEND;TZID=Australia/Adelaide:20260515T170000
DTSTAMP:20260425T205441
CREATED:20251126T000926Z
LAST-MODIFIED:20260310T014821Z
UID:10001065-1778846400-1778864400@nswspc.org.au
SUMMARY:Eastern Suburbs and Port Jackson RG
DESCRIPTION:
URL:https://nswspc.org.au/event/eastern-suburbs-and-port-jackson-rg/
LOCATION:Julie Ross
CATEGORIES:Regional meetings
END:VEVENT
BEGIN:VEVENT
DTSTART;TZID=Australia/Adelaide:20260731T090000
DTEND;TZID=Australia/Adelaide:20260731T150000
DTSTAMP:20260425T205441
CREATED:20251126T001256Z
LAST-MODIFIED:20251126T001256Z
UID:10001066-1785488400-1785510000@nswspc.org.au
SUMMARY:Western Sydney Regional Meeting
DESCRIPTION:
URL:https://nswspc.org.au/event/western-sydney-regional-meeting-10/
LOCATION:Tradewynds\, Nirimba Education Precinct\, Quakers Hill\, New South Wales\, 2763\, Australia
CATEGORIES:Regional meetings
ORGANIZER;CN="Sally Smithard":MAILTO:Sally.M.Smithard@det.nsw.edu.au
END:VEVENT
BEGIN:VEVENT
DTSTART;TZID=Australia/Adelaide:20260803T083000
DTEND;TZID=Australia/Adelaide:20260803T150000
DTSTAMP:20260425T205441
CREATED:20251016T010241Z
LAST-MODIFIED:20251016T010241Z
UID:10000984-1785745800-1785769200@nswspc.org.au
SUMMARY:St George Regional Meeting
DESCRIPTION:
URL:https://nswspc.org.au/event/st-george-regional-meeting-4/
CATEGORIES:Regional meetings
ORGANIZER;CN="Anna Girginis":MAILTO:Anna.Girginis@det.nsw.edu.au
END:VEVENT
BEGIN:VEVENT
DTSTART;TZID=Australia/Adelaide:20260805T083000
DTEND;TZID=Australia/Adelaide:20260805T150000
DTSTAMP:20260425T205441
CREATED:20251026T221418Z
LAST-MODIFIED:20251026T221418Z
UID:10001006-1785918600-1785942000@nswspc.org.au
SUMMARY:South Western Sydney Regional Meeting
DESCRIPTION:
URL:https://nswspc.org.au/event/south-western-sydney-regional-meeting-7/
CATEGORIES:Regional meetings
ORGANIZER;CN="Kylie Hedger":MAILTO:KYLIE.HEDGER@det.nsw.edu.au
END:VEVENT
BEGIN:VEVENT
DTSTART;TZID=Australia/Adelaide:20260805T120000
DTEND;TZID=Australia/Adelaide:20260805T170000
DTSTAMP:20260425T205441
CREATED:20251126T013450Z
LAST-MODIFIED:20251126T013450Z
UID:10001071-1785931200-1785949200@nswspc.org.au
SUMMARY:TBC - Eastern Suburbs and Port Jackson Regional Meeting
DESCRIPTION:
URL:https://nswspc.org.au/event/tbc-eastern-suburbs-and-port-jackson-regional-meeting/
LOCATION:South Sydney Graphic Arts Club\, 182 Coward Street\, Mascot\, NSW\, 2020\, Australia
CATEGORIES:Regional meetings
END:VEVENT
END:VCALENDAR