BEGIN:VCALENDAR
VERSION:2.0
PRODID:-//New South Wales Secondary Principals&#039; Council - ECPv6.15.5//NONSGML v1.0//EN
CALSCALE:GREGORIAN
METHOD:PUBLISH
X-WR-CALNAME:New South Wales Secondary Principals&#039; Council
X-ORIGINAL-URL:https://nswspc.org.au
X-WR-CALDESC:Events for New South Wales Secondary Principals&#039; Council
REFRESH-INTERVAL;VALUE=DURATION:PT1H
X-Robots-Tag:noindex
X-PUBLISHED-TTL:PT1H
BEGIN:VTIMEZONE
TZID:Australia/Adelaide
BEGIN:STANDARD
TZOFFSETFROM:+1030
TZOFFSETTO:+0930
TZNAME:ACST
DTSTART:20260404T163000
END:STANDARD
BEGIN:DAYLIGHT
TZOFFSETFROM:+0930
TZOFFSETTO:+1030
TZNAME:ACDT
DTSTART:20261003T163000
END:DAYLIGHT
END:VTIMEZONE
BEGIN:VEVENT
DTSTART;TZID=Australia/Adelaide:20260731T090000
DTEND;TZID=Australia/Adelaide:20260731T150000
DTSTAMP:20260425T221815
CREATED:20251126T001256Z
LAST-MODIFIED:20251126T001256Z
UID:10001066-1785488400-1785510000@nswspc.org.au
SUMMARY:Western Sydney Regional Meeting
DESCRIPTION:
URL:https://nswspc.org.au/event/western-sydney-regional-meeting-10/
LOCATION:Tradewynds\, Nirimba Education Precinct\, Quakers Hill\, New South Wales\, 2763\, Australia
CATEGORIES:Regional meetings
ORGANIZER;CN="Sally Smithard":MAILTO:Sally.M.Smithard@det.nsw.edu.au
END:VEVENT
BEGIN:VEVENT
DTSTART;TZID=Australia/Adelaide:20260803T083000
DTEND;TZID=Australia/Adelaide:20260803T150000
DTSTAMP:20260425T221815
CREATED:20251016T010241Z
LAST-MODIFIED:20251016T010241Z
UID:10000984-1785745800-1785769200@nswspc.org.au
SUMMARY:St George Regional Meeting
DESCRIPTION:
URL:https://nswspc.org.au/event/st-george-regional-meeting-4/
CATEGORIES:Regional meetings
ORGANIZER;CN="Anna Girginis":MAILTO:Anna.Girginis@det.nsw.edu.au
END:VEVENT
BEGIN:VEVENT
DTSTART;TZID=Australia/Adelaide:20260805T083000
DTEND;TZID=Australia/Adelaide:20260805T150000
DTSTAMP:20260425T221815
CREATED:20251026T221418Z
LAST-MODIFIED:20251026T221418Z
UID:10001006-1785918600-1785942000@nswspc.org.au
SUMMARY:South Western Sydney Regional Meeting
DESCRIPTION:
URL:https://nswspc.org.au/event/south-western-sydney-regional-meeting-7/
CATEGORIES:Regional meetings
ORGANIZER;CN="Kylie Hedger":MAILTO:KYLIE.HEDGER@det.nsw.edu.au
END:VEVENT
BEGIN:VEVENT
DTSTART;TZID=Australia/Adelaide:20260805T120000
DTEND;TZID=Australia/Adelaide:20260805T170000
DTSTAMP:20260425T221815
CREATED:20251126T013450Z
LAST-MODIFIED:20251126T013450Z
UID:10001071-1785931200-1785949200@nswspc.org.au
SUMMARY:TBC - Eastern Suburbs and Port Jackson Regional Meeting
DESCRIPTION:
URL:https://nswspc.org.au/event/tbc-eastern-suburbs-and-port-jackson-regional-meeting/
LOCATION:South Sydney Graphic Arts Club\, 182 Coward Street\, Mascot\, NSW\, 2020\, Australia
CATEGORIES:Regional meetings
END:VEVENT
BEGIN:VEVENT
DTSTART;TZID=Australia/Adelaide:20260806T120000
DTEND;TZID=Australia/Adelaide:20260807T130000
DTSTAMP:20260425T221815
CREATED:20251016T010337Z
LAST-MODIFIED:20251016T010337Z
UID:10000985-1786017600-1786107600@nswspc.org.au
SUMMARY:Western Regional Meeting
DESCRIPTION:
URL:https://nswspc.org.au/event/western-regional-meeting/
CATEGORIES:Regional meetings
ORGANIZER;CN="Michael Spora":MAILTO:michael.spora@det.nsw.edu.au
END:VEVENT
BEGIN:VEVENT
DTSTART;TZID=Australia/Adelaide:20260807T083000
DTEND;TZID=Australia/Adelaide:20260807T150000
DTSTAMP:20260425T221815
CREATED:20251016T010609Z
LAST-MODIFIED:20251016T010609Z
UID:10000986-1786091400-1786114800@nswspc.org.au
SUMMARY:North Sydney Regional Meeting
DESCRIPTION:
URL:https://nswspc.org.au/event/north-sydney-regional-meeting-8/
CATEGORIES:Regional meetings
ORGANIZER;CN="Cassy Norris":MAILTO:carol.norris@det.nsw.edu.au
END:VEVENT
BEGIN:VEVENT
DTSTART;TZID=Australia/Adelaide:20260807T083000
DTEND;TZID=Australia/Adelaide:20260807T150000
DTSTAMP:20260425T221815
CREATED:20251026T222433Z
LAST-MODIFIED:20251026T222433Z
UID:10001010-1786091400-1786114800@nswspc.org.au
SUMMARY:Hunter Regional Meeting
DESCRIPTION:
URL:https://nswspc.org.au/event/hunter-regional-meeting-6/
CATEGORIES:Regional meetings
END:VEVENT
BEGIN:VEVENT
DTSTART;TZID=Australia/Adelaide:20260807T090000
DTEND;TZID=Australia/Adelaide:20260807T153000
DTSTAMP:20260425T221815
CREATED:20251126T001500Z
LAST-MODIFIED:20251126T001500Z
UID:10001067-1786093200-1786116600@nswspc.org.au
SUMMARY:Central Coast Regional Meeting
DESCRIPTION:
URL:https://nswspc.org.au/event/central-coast-regional-meeting-13/
CATEGORIES:Regional meetings
ORGANIZER;CN="Andrew Backhouse":MAILTO:Andrew.Backhouse@det.nsw.edu.au
END:VEVENT
BEGIN:VEVENT
DTSTART;TZID=Australia/Adelaide:20260807T100000
DTEND;TZID=Australia/Adelaide:20260807T143000
DTSTAMP:20260425T221815
CREATED:20251120T215737Z
LAST-MODIFIED:20251120T215737Z
UID:10001050-1786096800-1786113000@nswspc.org.au
SUMMARY:Sutherland Regional Meeting
DESCRIPTION:
URL:https://nswspc.org.au/event/sutherland-regional-meeting-7/
CATEGORIES:Regional meetings
END:VEVENT
BEGIN:VEVENT
DTSTART;TZID=Australia/Adelaide:20260813T083000
DTEND;TZID=Australia/Adelaide:20260814T150000
DTSTAMP:20260425T221815
CREATED:20251016T010812Z
LAST-MODIFIED:20251016T010828Z
UID:10000987-1786609800-1786719600@nswspc.org.au
SUMMARY:New England Regional Meeting
DESCRIPTION:
URL:https://nswspc.org.au/event/new-england-regional-meeting-10/
CATEGORIES:Regional meetings
END:VEVENT
BEGIN:VEVENT
DTSTART;TZID=Australia/Adelaide:20260813T120000
DTEND;TZID=Australia/Adelaide:20260814T150000
DTSTAMP:20260425T221815
CREATED:20251126T013337Z
LAST-MODIFIED:20251126T013337Z
UID:10001070-1786622400-1786719600@nswspc.org.au
SUMMARY:Central West Regional Meeting
DESCRIPTION:
URL:https://nswspc.org.au/event/central-west-regional-meeting-15/
LOCATION:Foty Loupos
CATEGORIES:Regional meetings
END:VEVENT
BEGIN:VEVENT
DTSTART;TZID=Australia/Adelaide:20260814T080000
DTEND;TZID=Australia/Adelaide:20260814T170000
DTSTAMP:20260425T221815
CREATED:20251016T011014Z
LAST-MODIFIED:20251016T011014Z
UID:10000988-1786694400-1786726800@nswspc.org.au
SUMMARY:Illawarra and South East Regional Meeting
DESCRIPTION:
URL:https://nswspc.org.au/event/illawarra-and-south-east-regional-meeting-3/
CATEGORIES:Regional meetings
ORGANIZER;CN="Catherine Glover":MAILTO:catherine.glover@det.nsw.edu.au
END:VEVENT
BEGIN:VEVENT
DTSTART;TZID=Australia/Adelaide:20261023T083000
DTEND;TZID=Australia/Adelaide:20261023T150000
DTSTAMP:20260425T221815
CREATED:20251020T224509Z
LAST-MODIFIED:20251020T224509Z
UID:10000995-1792744200-1792767600@nswspc.org.au
SUMMARY:Western Sydney Regional Meeting
DESCRIPTION:
URL:https://nswspc.org.au/event/western-sydney-regional-meeting-9/
LOCATION:Tradewynds\, Nirimba Education Precinct\, Quakers Hill\, New South Wales\, 2763\, Australia
CATEGORIES:Regional meetings
ORGANIZER;CN="Sally Smithard":MAILTO:Sally.M.Smithard@det.nsw.edu.au
END:VEVENT
BEGIN:VEVENT
DTSTART;TZID=Australia/Adelaide:20261026T083000
DTEND;TZID=Australia/Adelaide:20261026T153000
DTSTAMP:20260425T221815
CREATED:20251020T224654Z
LAST-MODIFIED:20251020T224654Z
UID:10000996-1793003400-1793028600@nswspc.org.au
SUMMARY:St George Regional Meeting
DESCRIPTION:
URL:https://nswspc.org.au/event/st-george-regional-meeting-5/
CATEGORIES:Regional meetings
ORGANIZER;CN="Anna Girginis":MAILTO:Anna.Girginis@det.nsw.edu.au
END:VEVENT
BEGIN:VEVENT
DTSTART;TZID=Australia/Adelaide:20261028T083000
DTEND;TZID=Australia/Adelaide:20261028T150000
DTSTAMP:20260425T221815
CREATED:20251026T221453Z
LAST-MODIFIED:20251026T221453Z
UID:10001007-1793176200-1793199600@nswspc.org.au
SUMMARY:South Western Sydney Regional Meeting
DESCRIPTION:
URL:https://nswspc.org.au/event/south-western-sydney-regional-meeting-8/
CATEGORIES:Regional meetings
ORGANIZER;CN="Kylie Hedger":MAILTO:KYLIE.HEDGER@det.nsw.edu.au
END:VEVENT
BEGIN:VEVENT
DTSTART;TZID=Australia/Adelaide:20261029T120000
DTEND;TZID=Australia/Adelaide:20261030T170000
DTSTAMP:20260425T221815
CREATED:20251020T224952Z
LAST-MODIFIED:20251020T224952Z
UID:10000997-1793275200-1793379600@nswspc.org.au
SUMMARY:Western Regional Meeting
DESCRIPTION:
URL:https://nswspc.org.au/event/western-regional-meeting-2/
CATEGORIES:Regional meetings
ORGANIZER;CN="Michael Spora":MAILTO:michael.spora@det.nsw.edu.au
END:VEVENT
BEGIN:VEVENT
DTSTART;TZID=Australia/Adelaide:20261030T083000
DTEND;TZID=Australia/Adelaide:20261030T150000
DTSTAMP:20260425T221815
CREATED:20251026T222511Z
LAST-MODIFIED:20251026T222511Z
UID:10001011-1793349000-1793372400@nswspc.org.au
SUMMARY:Hunter Regional Meeting
DESCRIPTION:
URL:https://nswspc.org.au/event/hunter-regional-meeting-7/
CATEGORIES:Regional meetings
END:VEVENT
BEGIN:VEVENT
DTSTART;TZID=Australia/Adelaide:20261030T083000
DTEND;TZID=Australia/Adelaide:20261030T153000
DTSTAMP:20260425T221815
CREATED:20251020T225043Z
LAST-MODIFIED:20251020T225043Z
UID:10000998-1793349000-1793374200@nswspc.org.au
SUMMARY:North Sydney Regional Meeting
DESCRIPTION:
URL:https://nswspc.org.au/event/north-sydney-regional-meeting-9/
CATEGORIES:Regional meetings
ORGANIZER;CN="Cassy Norris":MAILTO:carol.norris@det.nsw.edu.au
END:VEVENT
BEGIN:VEVENT
DTSTART;TZID=Australia/Adelaide:20261030T090000
DTEND;TZID=Australia/Adelaide:20261030T150000
DTSTAMP:20260425T221815
CREATED:20251126T212302Z
LAST-MODIFIED:20251126T212302Z
UID:10001072-1793350800-1793372400@nswspc.org.au
SUMMARY:Central Coast Regional Meeting
DESCRIPTION:
URL:https://nswspc.org.au/event/central-coast-regional-meeting-14/
CATEGORIES:Regional meetings
ORGANIZER;CN="Andrew Backhouse":MAILTO:Andrew.Backhouse@det.nsw.edu.au
END:VEVENT
BEGIN:VEVENT
DTSTART;TZID=Australia/Adelaide:20261030T100000
DTEND;TZID=Australia/Adelaide:20261030T143000
DTSTAMP:20260425T221815
CREATED:20251120T215826Z
LAST-MODIFIED:20251120T215826Z
UID:10001051-1793354400-1793370600@nswspc.org.au
SUMMARY:Sutherland Regional Meeting
DESCRIPTION:
URL:https://nswspc.org.au/event/sutherland-regional-meeting-8/
CATEGORIES:Regional meetings
END:VEVENT
BEGIN:VEVENT
DTSTART;TZID=Australia/Adelaide:20261105T083000
DTEND;TZID=Australia/Adelaide:20261106T153000
DTSTAMP:20260425T221815
CREATED:20251020T225507Z
LAST-MODIFIED:20251020T225507Z
UID:10000999-1793867400-1793979000@nswspc.org.au
SUMMARY:New England Regional Meeting
DESCRIPTION:
URL:https://nswspc.org.au/event/new-england-regional-meeting-11/
CATEGORIES:Regional meetings
END:VEVENT
BEGIN:VEVENT
DTSTART;TZID=Australia/Adelaide:20261105T120000
DTEND;TZID=Australia/Adelaide:20261106T130000
DTSTAMP:20260425T221815
CREATED:20251126T212526Z
LAST-MODIFIED:20251126T212526Z
UID:10001074-1793880000-1793970000@nswspc.org.au
SUMMARY:Central West Regional Meeting
DESCRIPTION:
URL:https://nswspc.org.au/event/central-west-regional-meeting-16/
CATEGORIES:Regional meetings
END:VEVENT
BEGIN:VEVENT
DTSTART;TZID=Australia/Adelaide:20261106T090000
DTEND;TZID=Australia/Adelaide:20261106T153000
DTSTAMP:20260425T221815
CREATED:20251126T212650Z
LAST-MODIFIED:20251126T212650Z
UID:10001075-1793955600-1793979000@nswspc.org.au
SUMMARY:Illawarra and South East Regional Meeting
DESCRIPTION:
URL:https://nswspc.org.au/event/illawarra-and-south-east-regional-meeting-4/
LOCATION:Yass HS
CATEGORIES:Regional meetings
ORGANIZER;CN="Catherine Glover":MAILTO:catherine.glover@det.nsw.edu.au
END:VEVENT
BEGIN:VEVENT
DTSTART;TZID=Australia/Adelaide:20261106T123000
DTEND;TZID=Australia/Adelaide:20261106T163000
DTSTAMP:20260425T221815
CREATED:20251126T212758Z
LAST-MODIFIED:20260310T015906Z
UID:10001076-1793968200-1793982600@nswspc.org.au
SUMMARY:Eastern Suburbs and Port Jackson Regional Meeting
DESCRIPTION:
URL:https://nswspc.org.au/event/eastern-suburbs-and-port-jackson-regional-meeting-2/
CATEGORIES:Regional meetings
END:VEVENT
END:VCALENDAR