BEGIN:VCALENDAR
VERSION:2.0
PRODID:-//New South Wales Secondary Principals&#039; Council - ECPv6.15.5//NONSGML v1.0//EN
CALSCALE:GREGORIAN
METHOD:PUBLISH
X-WR-CALNAME:New South Wales Secondary Principals&#039; Council
X-ORIGINAL-URL:https://nswspc.org.au
X-WR-CALDESC:Events for New South Wales Secondary Principals&#039; Council
REFRESH-INTERVAL;VALUE=DURATION:PT1H
X-Robots-Tag:noindex
X-PUBLISHED-TTL:PT1H
BEGIN:VTIMEZONE
TZID:Australia/Sydney
BEGIN:STANDARD
TZOFFSETFROM:+1100
TZOFFSETTO:+1000
TZNAME:AEST
DTSTART:20240406T160000
END:STANDARD
BEGIN:DAYLIGHT
TZOFFSETFROM:+1000
TZOFFSETTO:+1100
TZNAME:AEDT
DTSTART:20241005T160000
END:DAYLIGHT
END:VTIMEZONE
BEGIN:VEVENT
DTSTART;TZID=Australia/Sydney:20240223T000000
DTEND;TZID=Australia/Sydney:20240223T000000
DTSTAMP:20260425T235035
CREATED:20250211T031255Z
LAST-MODIFIED:20250211T031255Z
UID:10000722-1708646400-1708646400@nswspc.org.au
SUMMARY:Riverina Regional Group Meeting
DESCRIPTION:
URL:https://nswspc.org.au/event/riverina-regional-group-meeting-5/
LOCATION:Junee High School\, 52 Lydia Street\, Junee\, NSW\, 2663\, Australia
CATEGORIES:Regional meetings
ORGANIZER;CN="Jennifer Parrett":MAILTO:Jennifer.Parrett@det.nsw.edu.au
END:VEVENT
BEGIN:VEVENT
DTSTART;TZID=Australia/Sydney:20240226T000000
DTEND;TZID=Australia/Sydney:20240226T000000
DTSTAMP:20260425T235035
CREATED:20250211T031255Z
LAST-MODIFIED:20250211T031255Z
UID:10000725-1708905600-1708905600@nswspc.org.au
SUMMARY:Sydney – Sutherland Shire Regional Group Meeting
DESCRIPTION:
URL:https://nswspc.org.au/event/sydney-sutherland-shire-regional-group-meeting-4/
LOCATION:Venue TBC
CATEGORIES:Regional meetings
ORGANIZER;CN="James Kozlowski":MAILTO:james.kozlowski@det.nsw.edu.au
END:VEVENT
BEGIN:VEVENT
DTSTART;TZID=Australia/Sydney:20240315T000000
DTEND;TZID=Australia/Sydney:20240315T000000
DTSTAMP:20260425T235035
CREATED:20250211T031256Z
LAST-MODIFIED:20250211T031256Z
UID:10000734-1710460800-1710460800@nswspc.org.au
SUMMARY:Central Coast Regional Group Meeting
DESCRIPTION:
URL:https://nswspc.org.au/event/central-coast-regional-group-meeting-7/
LOCATION:Venue TBC
CATEGORIES:Regional meetings
ORGANIZER;CN="Andrew Backhouse":MAILTO:Andrew.Backhouse@det.nsw.edu.au
END:VEVENT
BEGIN:VEVENT
DTSTART;TZID=Australia/Sydney:20240510T000000
DTEND;TZID=Australia/Sydney:20240510T000000
DTSTAMP:20260425T235035
CREATED:20250211T031338Z
LAST-MODIFIED:20250211T031338Z
UID:10000743-1715299200-1715299200@nswspc.org.au
SUMMARY:Western Sydney Regional Group Meeting
DESCRIPTION:
URL:https://nswspc.org.au/event/western-sydney-regional-group-meeting-6/
LOCATION:Tradewynds\, Nirimba Education Precinct\, Quakers Hill\, New South Wales\, 2763\, Australia
CATEGORIES:Regional meetings
ORGANIZER;CN="Sally Smithard":MAILTO:Sally.M.Smithard@det.nsw.edu.au
END:VEVENT
BEGIN:VEVENT
DTSTART;TZID=Australia/Sydney:20240513T000000
DTEND;TZID=Australia/Sydney:20240513T000000
DTSTAMP:20260425T235035
CREATED:20250211T031338Z
LAST-MODIFIED:20250211T031338Z
UID:10000745-1715558400-1715558400@nswspc.org.au
SUMMARY:St George Regional Group Meeting
DESCRIPTION:
URL:https://nswspc.org.au/event/st-george-regional-group-meeting-2/
LOCATION:Georges River College – Oatley Campus\, Oatley Avenue\, Oatley\, New South Wales\, 2223\, Australia
CATEGORIES:Regional meetings
ORGANIZER;CN="Anna Girginis":MAILTO:Anna.Girginis@det.nsw.edu.au
END:VEVENT
BEGIN:VEVENT
DTSTART;TZID=Australia/Sydney:20240515T000000
DTEND;TZID=Australia/Sydney:20240515T000000
DTSTAMP:20260425T235035
CREATED:20250211T031338Z
LAST-MODIFIED:20250211T031338Z
UID:10000746-1715731200-1715731200@nswspc.org.au
SUMMARY:South Western Sydney Regional Group Meeting
DESCRIPTION:
URL:https://nswspc.org.au/event/south-western-sydney-regional-group-meeting-5/
LOCATION:Fairfield RSL\, 14 Anzac Avenue\, Fairfield\, NSW\, 2165\, Australia
CATEGORIES:Regional meetings
ORGANIZER;CN="Kylie Hedger":MAILTO:KYLIE.HEDGER@det.nsw.edu.au
END:VEVENT
BEGIN:VEVENT
DTSTART;TZID=Australia/Sydney:20240515T000000
DTEND;TZID=Australia/Sydney:20240515T000000
DTSTAMP:20260425T235035
CREATED:20250211T031338Z
LAST-MODIFIED:20250211T031338Z
UID:10000747-1715731200-1715731200@nswspc.org.au
SUMMARY:Central Coast Regional Group Meeting
DESCRIPTION:
URL:https://nswspc.org.au/event/central-coast-regional-group-meeting-8/
LOCATION:University of Newcastle Ourimbah Campus\, 10 Chittaway Road\, Ourimbah\, NSW\, 2258\, Australia
CATEGORIES:Regional meetings
ORGANIZER;CN="Andrew Backhouse":MAILTO:Andrew.Backhouse@det.nsw.edu.au
END:VEVENT
BEGIN:VEVENT
DTSTART;TZID=Australia/Sydney:20240516T000000
DTEND;TZID=Australia/Sydney:20240517T000000
DTSTAMP:20260425T235035
CREATED:20250211T031338Z
LAST-MODIFIED:20250211T031338Z
UID:10000748-1715817600-1715904000@nswspc.org.au
SUMMARY:Western Regional Group Meeting
DESCRIPTION:
URL:https://nswspc.org.au/event/western-regional-group-meeting/
LOCATION:Venue TBC
CATEGORIES:Regional meetings
ORGANIZER;CN="Michael Spora":MAILTO:michael.spora@det.nsw.edu.au
END:VEVENT
BEGIN:VEVENT
DTSTART;TZID=Australia/Sydney:20240517T000000
DTEND;TZID=Australia/Sydney:20240517T000000
DTSTAMP:20260425T235035
CREATED:20250211T031338Z
LAST-MODIFIED:20250211T031338Z
UID:10000749-1715904000-1715904000@nswspc.org.au
SUMMARY:North Sydney Regional Group Meeting
DESCRIPTION:
URL:https://nswspc.org.au/event/north-sydney-regional-group-meeting-6/
LOCATION:Epping Boys High School\, 213 Vimiera Road\,\, Marsfield\, NSW\, 2122\, Australia
CATEGORIES:Regional meetings
ORGANIZER;CN="Cassy Norris":MAILTO:carol.norris@det.nsw.edu.au
END:VEVENT
BEGIN:VEVENT
DTSTART;TZID=Australia/Sydney:20240517T000000
DTEND;TZID=Australia/Sydney:20240517T000000
DTSTAMP:20260425T235035
CREATED:20250211T031338Z
LAST-MODIFIED:20250211T031338Z
UID:10000750-1715904000-1715904000@nswspc.org.au
SUMMARY:Hunter Regional Group Meeting
DESCRIPTION:
URL:https://nswspc.org.au/event/hunter-regional-group-meeting-6/
LOCATION:Venue TBC
CATEGORIES:Regional meetings
ORGANIZER;CN="Mark Snedden":MAILTO:mark.sneeden@det.nsw.edu.au
END:VEVENT
BEGIN:VEVENT
DTSTART;TZID=Australia/Sydney:20240517T083000
DTEND;TZID=Australia/Sydney:20240517T150000
DTSTAMP:20260425T235035
CREATED:20250211T031338Z
LAST-MODIFIED:20250211T031338Z
UID:10000751-1715934600-1715958000@nswspc.org.au
SUMMARY:Central Coast Regional Group Meeting
DESCRIPTION:
URL:https://nswspc.org.au/event/central-coast-regional-group-meeting-9/
LOCATION:University of Newcastle Ourimbah Campus\, 10 Chittaway Road\, Ourimbah\, NSW\, 2258\, Australia
CATEGORIES:Regional meetings
ORGANIZER;CN="Andrew Backhouse":MAILTO:Andrew.Backhouse@det.nsw.edu.au
END:VEVENT
BEGIN:VEVENT
DTSTART;TZID=Australia/Sydney:20240520T000000
DTEND;TZID=Australia/Sydney:20240520T000000
DTSTAMP:20260425T235035
CREATED:20250211T031338Z
LAST-MODIFIED:20250211T031338Z
UID:10000752-1716163200-1716163200@nswspc.org.au
SUMMARY:Sydney – Sutherland Shire Regional Group Meeting
DESCRIPTION:
URL:https://nswspc.org.au/event/sydney-sutherland-shire-regional-group-meeting-5/
LOCATION:Venue TBC
CATEGORIES:Regional meetings
ORGANIZER;CN="James Kozlowski":MAILTO:james.kozlowski@det.nsw.edu.au
END:VEVENT
BEGIN:VEVENT
DTSTART;TZID=Australia/Sydney:20240523T000000
DTEND;TZID=Australia/Sydney:20240524T000000
DTSTAMP:20260425T235035
CREATED:20250211T031339Z
LAST-MODIFIED:20250211T031339Z
UID:10000754-1716422400-1716508800@nswspc.org.au
SUMMARY:Central West Regional Group Meeting
DESCRIPTION:
URL:https://nswspc.org.au/event/central-west-regional-group-meeting/
LOCATION:Venue TBC
CATEGORIES:Regional meetings
ORGANIZER;CN="Michelle Barrett":MAILTO:michelle.barrett@det.nsw.edu.au
END:VEVENT
BEGIN:VEVENT
DTSTART;TZID=Australia/Sydney:20240523T000000
DTEND;TZID=Australia/Sydney:20240524T000000
DTSTAMP:20260425T235035
CREATED:20250211T031339Z
LAST-MODIFIED:20250211T031339Z
UID:10000755-1716422400-1716508800@nswspc.org.au
SUMMARY:New England Regional Group Meeting
DESCRIPTION:
URL:https://nswspc.org.au/event/new-england-regional-group-meeting-6/
LOCATION:Tamworth
CATEGORIES:Regional meetings
ORGANIZER;CN="Michael Spora":MAILTO:michael.spora@det.nsw.edu.au
END:VEVENT
BEGIN:VEVENT
DTSTART;TZID=Australia/Sydney:20240524T000000
DTEND;TZID=Australia/Sydney:20240524T000000
DTSTAMP:20260425T235035
CREATED:20250211T031339Z
LAST-MODIFIED:20250211T031339Z
UID:10000756-1716508800-1716508800@nswspc.org.au
SUMMARY:Riverina Regional Group Meeting
DESCRIPTION:
URL:https://nswspc.org.au/event/riverina-regional-group-meeting-6/
LOCATION:Young High School\, 6 Campbell Street\, Young\, NSW\, 2594\, Australia
CATEGORIES:Regional meetings
ORGANIZER;CN="Jennifer Parrett":MAILTO:Jennifer.Parrett@det.nsw.edu.au
END:VEVENT
BEGIN:VEVENT
DTSTART;TZID=Australia/Sydney:20240524T000000
DTEND;TZID=Australia/Sydney:20240524T000000
DTSTAMP:20260425T235035
CREATED:20250211T031339Z
LAST-MODIFIED:20250211T031339Z
UID:10000757-1716508800-1716508800@nswspc.org.au
SUMMARY:Illawarra & Southeast Regional Group Meeting
DESCRIPTION:
URL:https://nswspc.org.au/event/illawarra-southeast-regional-group-meeting/
LOCATION:Jerrabomberra High School\, 101 Environa Dr\, Jerrabomberra\, NSW\, 2619\, Australia
CATEGORIES:Regional meetings
ORGANIZER;CN="Stephen Goodley":MAILTO:Stephen.Goodley@det.nsw.edu.au
END:VEVENT
BEGIN:VEVENT
DTSTART;TZID=Australia/Sydney:20240802T000000
DTEND;TZID=Australia/Sydney:20240802T000000
DTSTAMP:20260425T235035
CREATED:20250211T031429Z
LAST-MODIFIED:20250211T031429Z
UID:10000768-1722556800-1722556800@nswspc.org.au
SUMMARY:Riverina Regional Group Meeting
DESCRIPTION:
URL:https://nswspc.org.au/event/riverina-regional-group-meeting-7/
LOCATION:Temora High School\, 159 Anzac Street\, Temora\, NSW\, 2666\, Australia
CATEGORIES:Regional meetings
ORGANIZER;CN="Jennifer Parrett":MAILTO:Jennifer.Parrett@det.nsw.edu.au
END:VEVENT
BEGIN:VEVENT
DTSTART;TZID=Australia/Sydney:20240802T000000
DTEND;TZID=Australia/Sydney:20240802T000000
DTSTAMP:20260425T235035
CREATED:20250211T031429Z
LAST-MODIFIED:20250211T031429Z
UID:10000769-1722556800-1722556800@nswspc.org.au
SUMMARY:Western Sydney Regional Group Meeting
DESCRIPTION:
URL:https://nswspc.org.au/event/western-sydney-regional-group-meeting-7/
LOCATION:Tradewynds\, Nirimba Education Precinct\, Quakers Hill\, New South Wales\, 2763\, Australia
CATEGORIES:Regional meetings
ORGANIZER;CN="Sally Smithard":MAILTO:Sally.M.Smithard@det.nsw.edu.au
END:VEVENT
BEGIN:VEVENT
DTSTART;TZID=Australia/Sydney:20240808T000000
DTEND;TZID=Australia/Sydney:20240808T000000
DTSTAMP:20260425T235035
CREATED:20250211T031429Z
LAST-MODIFIED:20250211T031429Z
UID:10000770-1723075200-1723075200@nswspc.org.au
SUMMARY:South Western Sydney Regional Group Meeting
DESCRIPTION:
URL:https://nswspc.org.au/event/south-western-sydney-regional-group-meeting-6/
LOCATION:Fairfield RSL\, 14 Anzac Avenue\, Fairfield\, NSW\, 2165\, Australia
CATEGORIES:Regional meetings
ORGANIZER;CN="Kylie Hedger":MAILTO:KYLIE.HEDGER@det.nsw.edu.au
END:VEVENT
BEGIN:VEVENT
DTSTART;TZID=Australia/Sydney:20240809T083000
DTEND;TZID=Australia/Sydney:20240809T150000
DTSTAMP:20260425T235035
CREATED:20250211T031429Z
LAST-MODIFIED:20250211T031429Z
UID:10000771-1723192200-1723215600@nswspc.org.au
SUMMARY:Central Coast Regional Group Meeting
DESCRIPTION:
URL:https://nswspc.org.au/event/central-coast-regional-group-meeting-10/
LOCATION:University of Newcastle Ourimbah Campus\, 10 Chittaway Road\, Ourimbah\, NSW\, 2258\, Australia
CATEGORIES:Regional meetings
ORGANIZER;CN="Andrew Backhouse":MAILTO:Andrew.Backhouse@det.nsw.edu.au
END:VEVENT
BEGIN:VEVENT
DTSTART;TZID=Australia/Sydney:20240809T083000
DTEND;TZID=Australia/Sydney:20240809T150000
DTSTAMP:20260425T235035
CREATED:20250211T031429Z
LAST-MODIFIED:20250211T031429Z
UID:10000772-1723192200-1723215600@nswspc.org.au
SUMMARY:Northern Sydney SPC Regional Meeting
DESCRIPTION:
URL:https://nswspc.org.au/event/northern-sydney-spc-regional-meeting-4/
CATEGORIES:Regional meetings
END:VEVENT
BEGIN:VEVENT
DTSTART;TZID=Australia/Sydney:20240812T000000
DTEND;TZID=Australia/Sydney:20240812T000000
DTSTAMP:20260425T235035
CREATED:20250211T031429Z
LAST-MODIFIED:20250211T031429Z
UID:10000773-1723420800-1723420800@nswspc.org.au
SUMMARY:Sydney – Sutherland Shire Regional Group Meeting
DESCRIPTION:
URL:https://nswspc.org.au/event/sydney-sutherland-shire-regional-group-meeting-6/
LOCATION:Venue TBC
CATEGORIES:Regional meetings
ORGANIZER;CN="James Kozlowski":MAILTO:james.kozlowski@det.nsw.edu.au
END:VEVENT
BEGIN:VEVENT
DTSTART;TZID=Australia/Sydney:20240815T000000
DTEND;TZID=Australia/Sydney:20240816T000000
DTSTAMP:20260425T235035
CREATED:20250211T031429Z
LAST-MODIFIED:20250211T031429Z
UID:10000777-1723680000-1723766400@nswspc.org.au
SUMMARY:New England Regional Group Meeting
DESCRIPTION:
URL:https://nswspc.org.au/event/new-england-regional-group-meeting-7/
LOCATION:Venue TBC
CATEGORIES:Regional meetings
END:VEVENT
BEGIN:VEVENT
DTSTART;VALUE=DATE:20240815
DTEND;VALUE=DATE:20240817
DTSTAMP:20260425T235035
CREATED:20250211T031429Z
LAST-MODIFIED:20250211T031429Z
UID:10000778-1723680000-1723852799@nswspc.org.au
SUMMARY:Central West Regional Group Meeting & Western Regional Group Meeting
DESCRIPTION:
URL:https://nswspc.org.au/event/central-west-regional-group-meeting-western-regional-group-meeting/
LOCATION:Dubbo School of Distance Education\, Myall Street\, Dubbo\, New South Wales (NSW)\, 2830\, Australia
CATEGORIES:Regional meetings
ORGANIZER;CN="Michelle Barrett":MAILTO:michelle.barrett@det.nsw.edu.au
END:VEVENT
BEGIN:VEVENT
DTSTART;TZID=Australia/Sydney:20240913T083000
DTEND;TZID=Australia/Sydney:20240913T150000
DTSTAMP:20260425T235035
CREATED:20250211T031430Z
LAST-MODIFIED:20250211T031430Z
UID:10000787-1726216200-1726239600@nswspc.org.au
SUMMARY:Central Coast Regional Group Meeting
DESCRIPTION:
URL:https://nswspc.org.au/event/central-coast-regional-group-meeting-11/
LOCATION:University of Newcastle Ourimbah Campus\, 10 Chittaway Road\, Ourimbah\, NSW\, 2258\, Australia
CATEGORIES:Regional meetings
ORGANIZER;CN="Andrew Backhouse":MAILTO:Andrew.Backhouse@det.nsw.edu.au
END:VEVENT
BEGIN:VEVENT
DTSTART;TZID=Australia/Sydney:20241025T000000
DTEND;TZID=Australia/Sydney:20241025T000000
DTSTAMP:20260425T235035
CREATED:20250211T031431Z
LAST-MODIFIED:20250211T031431Z
UID:10000793-1729814400-1729814400@nswspc.org.au
SUMMARY:Western Sydney Regional Group Meeting
DESCRIPTION:
URL:https://nswspc.org.au/event/western-sydney-regional-group-meeting-8/
LOCATION:Tradewynds\, Nirimba Education Precinct\, Quakers Hill\, New South Wales\, 2763\, Australia
CATEGORIES:Regional meetings
ORGANIZER;CN="Sally Smithard":MAILTO:Sally.M.Smithard@det.nsw.edu.au
END:VEVENT
BEGIN:VEVENT
DTSTART;TZID=Australia/Sydney:20241101T083000
DTEND;TZID=Australia/Sydney:20241101T150000
DTSTAMP:20260425T235035
CREATED:20250211T031506Z
LAST-MODIFIED:20250211T031506Z
UID:10000795-1730449800-1730473200@nswspc.org.au
SUMMARY:Northern Sydney SPC Regional Meeting
DESCRIPTION:
URL:https://nswspc.org.au/event/northern-sydney-spc-regional-meeting-5/
CATEGORIES:Regional meetings
END:VEVENT
BEGIN:VEVENT
DTSTART;TZID=Australia/Sydney:20241101T083000
DTEND;TZID=Australia/Sydney:20241101T150000
DTSTAMP:20260425T235035
CREATED:20250211T031506Z
LAST-MODIFIED:20250211T031506Z
UID:10000794-1730449800-1730473200@nswspc.org.au
SUMMARY:Central Coast Regional Group Meeting
DESCRIPTION:
URL:https://nswspc.org.au/event/central-coast-regional-group-meeting-12/
LOCATION:University of Newcastle Ourimbah Campus\, 10 Chittaway Road\, Ourimbah\, NSW\, 2258\, Australia
CATEGORIES:Regional meetings
ORGANIZER;CN="Andrew Backhouse":MAILTO:Andrew.Backhouse@det.nsw.edu.au
END:VEVENT
BEGIN:VEVENT
DTSTART;TZID=Australia/Sydney:20241104T000000
DTEND;TZID=Australia/Sydney:20241104T000000
DTSTAMP:20260425T235035
CREATED:20250211T031506Z
LAST-MODIFIED:20250211T031506Z
UID:10000796-1730678400-1730678400@nswspc.org.au
SUMMARY:Sydney – Sutherland Shire Regional Group Meeting
DESCRIPTION:
URL:https://nswspc.org.au/event/sydney-sutherland-shire-regional-group-meeting-7/
LOCATION:Venue TBC
CATEGORIES:Regional meetings
ORGANIZER;CN="James Kozlowski":MAILTO:james.kozlowski@det.nsw.edu.au
END:VEVENT
BEGIN:VEVENT
DTSTART;TZID=Australia/Sydney:20241107T000000
DTEND;TZID=Australia/Sydney:20241108T000000
DTSTAMP:20260425T235035
CREATED:20250211T031506Z
LAST-MODIFIED:20250211T031506Z
UID:10000799-1730937600-1731024000@nswspc.org.au
SUMMARY:Riverina Regional Group Meeting
DESCRIPTION:
URL:https://nswspc.org.au/event/riverina-regional-group-meeting-8/
LOCATION:Murray High School\, James Fallon High School & Albury High School\, NSW\, Australia
CATEGORIES:Regional meetings
ORGANIZER;CN="Jennifer Parrett":MAILTO:Jennifer.Parrett@det.nsw.edu.au
END:VEVENT
END:VCALENDAR