BEGIN:VCALENDAR
VERSION:2.0
PRODID:-//New South Wales Secondary Principals&#039; Council - ECPv6.15.5//NONSGML v1.0//EN
CALSCALE:GREGORIAN
METHOD:PUBLISH
X-WR-CALNAME:New South Wales Secondary Principals&#039; Council
X-ORIGINAL-URL:https://nswspc.org.au
X-WR-CALDESC:Events for New South Wales Secondary Principals&#039; Council
REFRESH-INTERVAL;VALUE=DURATION:PT1H
X-Robots-Tag:noindex
X-PUBLISHED-TTL:PT1H
BEGIN:VTIMEZONE
TZID:Australia/Sydney
BEGIN:STANDARD
TZOFFSETFROM:+1100
TZOFFSETTO:+1000
TZNAME:AEST
DTSTART:20230401T160000
END:STANDARD
BEGIN:DAYLIGHT
TZOFFSETFROM:+1000
TZOFFSETTO:+1100
TZNAME:AEDT
DTSTART:20230930T160000
END:DAYLIGHT
BEGIN:STANDARD
TZOFFSETFROM:+1100
TZOFFSETTO:+1000
TZNAME:AEST
DTSTART:20240406T160000
END:STANDARD
BEGIN:DAYLIGHT
TZOFFSETFROM:+1000
TZOFFSETTO:+1100
TZNAME:AEDT
DTSTART:20241005T160000
END:DAYLIGHT
END:VTIMEZONE
BEGIN:VEVENT
DTSTART;TZID=Australia/Sydney:20231102T000000
DTEND;TZID=Australia/Sydney:20231103T000000
DTSTAMP:20260425T204537
CREATED:20250211T031219Z
LAST-MODIFIED:20250211T031219Z
UID:10000686-1698883200-1698969600@nswspc.org.au
SUMMARY:Illawarra & SE SPC Regional Meeting
DESCRIPTION:
URL:https://nswspc.org.au/event/illawarra-se-spc-regional-meeting-3/
LOCATION:Monaro\, NSW\, Australia
CATEGORIES:Regional meetings
ORGANIZER;CN="Denise Lofts":MAILTO:denise.lofts@det.nsw.edu.au
END:VEVENT
BEGIN:VEVENT
DTSTART;TZID=Australia/Sydney:20231102T000000
DTEND;TZID=Australia/Sydney:20231103T000000
DTSTAMP:20260425T204537
CREATED:20250211T031219Z
LAST-MODIFIED:20250211T031219Z
UID:10000687-1698883200-1698969600@nswspc.org.au
SUMMARY:West Central West Regional Meeting
DESCRIPTION:
URL:https://nswspc.org.au/event/west-central-west-regional-meeting/
LOCATION:Kelso\, New South Wales\, 2795\, Australia
CATEGORIES:Regional meetings
ORGANIZER;CN="Michelle Barrett":MAILTO:michelle.barrett@det.nsw.edu.au
END:VEVENT
BEGIN:VEVENT
DTSTART;TZID=Australia/Sydney:20231102T000000
DTEND;TZID=Australia/Sydney:20231103T000000
DTSTAMP:20260425T204537
CREATED:20250211T031219Z
LAST-MODIFIED:20250211T031219Z
UID:10000688-1698883200-1698969600@nswspc.org.au
SUMMARY:New England Regional Meeting
DESCRIPTION:
URL:https://nswspc.org.au/event/new-england-regional-meeting-5/
LOCATION:Glen Innes\, New South Wales\, Australia
CATEGORIES:Regional meetings
ORGANIZER;CN="Michael Rathborne":MAILTO:Michael.Rathborne@det.nsw.edu.au
END:VEVENT
BEGIN:VEVENT
DTSTART;TZID=Australia/Sydney:20231102T000000
DTEND;TZID=Australia/Sydney:20231103T000000
DTSTAMP:20260425T204537
CREATED:20250211T031219Z
LAST-MODIFIED:20250211T031219Z
UID:10000685-1698883200-1698969600@nswspc.org.au
SUMMARY:North Coast Regional Meeting
DESCRIPTION:
URL:https://nswspc.org.au/event/north-coast-regional-meeting-4/
LOCATION:Opal Cove Coffs Harbour\, Opal Blvd\, Coffs Harbour\, New South Wales\, 2450\, Australia
CATEGORIES:Regional meetings
ORGANIZER;CN="Daryl Irvine":MAILTO:daryl.irvine@det.nsw.edu.au
END:VEVENT
BEGIN:VEVENT
DTSTART;TZID=Australia/Sydney:20231103T000000
DTEND;TZID=Australia/Sydney:20231103T000000
DTSTAMP:20260425T204537
CREATED:20250211T031219Z
LAST-MODIFIED:20250211T031219Z
UID:10000689-1698969600-1698969600@nswspc.org.au
SUMMARY:Riverina SPC Regional Meeting
DESCRIPTION:
URL:https://nswspc.org.au/event/riverina-spc-regional-meeting-4/
LOCATION:Kooringal/Wagga High School\, Ziegler Ave\, Kooringal\, NSW\, 2650\, Australia
CATEGORIES:Regional meetings
ORGANIZER;CN="Jennifer Parrett":MAILTO:Jennifer.Parrett@det.nsw.edu.au
END:VEVENT
BEGIN:VEVENT
DTSTART;TZID=Australia/Sydney:20231110T000000
DTEND;TZID=Australia/Sydney:20231110T000000
DTSTAMP:20260425T204537
CREATED:20250211T031220Z
LAST-MODIFIED:20250211T031220Z
UID:10000694-1699574400-1699574400@nswspc.org.au
SUMMARY:Sydney Eastern Suburbs & Sydney Port Jackson Regional Meeting
DESCRIPTION:
URL:https://nswspc.org.au/event/sydney-eastern-suburbs-sydney-port-jackson-regional-meeting/
LOCATION:South Sydney Graphic Arts Club\, 182 Coward Street\, Mascot\, NSW\, 2020\, Australia
CATEGORIES:Regional meetings
ORGANIZER;CN="Craig Wheele":MAILTO:craig.wheele@det.nsw.edu.au
END:VEVENT
BEGIN:VEVENT
DTSTART;TZID=Australia/Sydney:20231124T000000
DTEND;TZID=Australia/Sydney:20231124T000000
DTSTAMP:20260425T204537
CREATED:20250211T031220Z
LAST-MODIFIED:20250211T031220Z
UID:10000702-1700784000-1700784000@nswspc.org.au
SUMMARY:Central Coast SPC Regional Meeting
DESCRIPTION:
URL:https://nswspc.org.au/event/central-coast-spc-regional-meeting-5/
LOCATION:Venue TBC
CATEGORIES:Regional meetings
ORGANIZER;CN="Andrew Backhouse":MAILTO:Andrew.Backhouse@det.nsw.edu.au
END:VEVENT
BEGIN:VEVENT
DTSTART;TZID=Australia/Sydney:20240212T000000
DTEND;TZID=Australia/Sydney:20240212T000000
DTSTAMP:20260425T204537
CREATED:20250211T031254Z
LAST-MODIFIED:20250211T031254Z
UID:10000712-1707696000-1707696000@nswspc.org.au
SUMMARY:St George Regional Group Meeting
DESCRIPTION:
URL:https://nswspc.org.au/event/st-george-regional-group-meeting/
LOCATION:Georges River College – Oatley Campus\, Oatley Avenue\, Oatley\, New South Wales\, 2223\, Australia
CATEGORIES:Regional meetings
ORGANIZER;CN="Anna Girginis":MAILTO:Anna.Girginis@det.nsw.edu.au
END:VEVENT
BEGIN:VEVENT
DTSTART;TZID=Australia/Sydney:20240214T000000
DTEND;TZID=Australia/Sydney:20240214T000000
DTSTAMP:20260425T204537
CREATED:20250211T031254Z
LAST-MODIFIED:20250211T031254Z
UID:10000713-1707868800-1707868800@nswspc.org.au
SUMMARY:South Western Sydney Regional Group Meeting
DESCRIPTION:
URL:https://nswspc.org.au/event/south-western-sydney-regional-group-meeting-4/
LOCATION:Liverpool Catholic Club\, 424 - 458 Hoxton Park Road\, Prestons\, NSW\, 2170
CATEGORIES:Regional meetings
ORGANIZER;CN="Kylie Hedger":MAILTO:KYLIE.HEDGER@det.nsw.edu.au
END:VEVENT
BEGIN:VEVENT
DTSTART;TZID=Australia/Sydney:20240215T000000
DTEND;TZID=Australia/Sydney:20240216T000000
DTSTAMP:20260425T204537
CREATED:20250211T031254Z
LAST-MODIFIED:20250211T031254Z
UID:10000714-1707955200-1708041600@nswspc.org.au
SUMMARY:Western & Central West Combined Regional Group Meeting
DESCRIPTION:
URL:https://nswspc.org.au/event/western-central-west-combined-regional-group-meeting/
LOCATION:Venue TBC
CATEGORIES:Regional meetings
ORGANIZER;CN="Wayne Eade":MAILTO:wayne.eade@det.nsw.edu.au
END:VEVENT
BEGIN:VEVENT
DTSTART;TZID=Australia/Sydney:20240215T000000
DTEND;TZID=Australia/Sydney:20240216T000000
DTSTAMP:20260425T204537
CREATED:20250211T031254Z
LAST-MODIFIED:20250211T031254Z
UID:10000715-1707955200-1708041600@nswspc.org.au
SUMMARY:North Coast Combined Regional Group Meeting
DESCRIPTION:
URL:https://nswspc.org.au/event/north-coast-combined-regional-group-meeting/
LOCATION:Opal Cove Coffs Harbour\, Opal Blvd\, Coffs Harbour\, New South Wales\, 2450\, Australia
CATEGORIES:Regional meetings
ORGANIZER;CN="Daryl Irvine":MAILTO:daryl.irvine@det.nsw.edu.au
END:VEVENT
BEGIN:VEVENT
DTSTART;TZID=Australia/Sydney:20240216T000000
DTEND;TZID=Australia/Sydney:20240216T000000
DTSTAMP:20260425T204537
CREATED:20250211T031254Z
LAST-MODIFIED:20250211T031254Z
UID:10000716-1708041600-1708041600@nswspc.org.au
SUMMARY:Western Sydney Regional Group Meeting
DESCRIPTION:
URL:https://nswspc.org.au/event/western-sydney-regional-group-meeting-5/
LOCATION:Tradewynds\, Nirimba Education Precinct\, Quakers Hill\, New South Wales\, 2763\, Australia
CATEGORIES:Regional meetings
ORGANIZER;CN="Sally Smithard":MAILTO:Sally.M.Smithard@det.nsw.edu.au
END:VEVENT
BEGIN:VEVENT
DTSTART;TZID=Australia/Sydney:20240216T000000
DTEND;TZID=Australia/Sydney:20240216T000000
DTSTAMP:20260425T204537
CREATED:20250211T031254Z
LAST-MODIFIED:20250211T031254Z
UID:10000717-1708041600-1708041600@nswspc.org.au
SUMMARY:North Sydney Regional Group Meeting
DESCRIPTION:
URL:https://nswspc.org.au/event/north-sydney-regional-group-meeting-5/
LOCATION:Epping Boys High School\, 213 Vimiera Road\,\, Marsfield\, NSW\, 2122\, Australia
CATEGORIES:Regional meetings
ORGANIZER;CN="Cassy Norris":MAILTO:carol.norris@det.nsw.edu.au
END:VEVENT
BEGIN:VEVENT
DTSTART;TZID=Australia/Sydney:20240216T000000
DTEND;TZID=Australia/Sydney:20240216T000000
DTSTAMP:20260425T204537
CREATED:20250211T031254Z
LAST-MODIFIED:20250211T031254Z
UID:10000718-1708041600-1708041600@nswspc.org.au
SUMMARY:Central Coast Regional Group Meeting
DESCRIPTION:
URL:https://nswspc.org.au/event/central-coast-regional-group-meeting-6/
LOCATION:University of Newcastle Ourimbah Campus\, 10 Chittaway Road\, Ourimbah\, NSW\, 2258\, Australia
CATEGORIES:Regional meetings
ORGANIZER;CN="Andrew Backhouse":MAILTO:Andrew.Backhouse@det.nsw.edu.au
END:VEVENT
BEGIN:VEVENT
DTSTART;TZID=Australia/Sydney:20240216T000000
DTEND;TZID=Australia/Sydney:20240216T000000
DTSTAMP:20260425T204537
CREATED:20250211T031255Z
LAST-MODIFIED:20250211T031255Z
UID:10000719-1708041600-1708041600@nswspc.org.au
SUMMARY:Hunter Regional Group Meeting
DESCRIPTION:
URL:https://nswspc.org.au/event/hunter-regional-group-meeting-5/
LOCATION:Venue TBC
CATEGORIES:Regional meetings
ORGANIZER;CN="Mark Snedden":MAILTO:mark.sneeden@det.nsw.edu.au
END:VEVENT
BEGIN:VEVENT
DTSTART;TZID=Australia/Sydney:20240222T000000
DTEND;TZID=Australia/Sydney:20240223T000000
DTSTAMP:20260425T204537
CREATED:20250211T031255Z
LAST-MODIFIED:20250211T031255Z
UID:10000720-1708560000-1708646400@nswspc.org.au
SUMMARY:Central West Regional Goup Meeting
DESCRIPTION:
URL:https://nswspc.org.au/event/central-west-regional-goup-meeting/
LOCATION:Venue TBC
CATEGORIES:Regional meetings
ORGANIZER;CN="Michelle Barrett":MAILTO:michelle.barrett@det.nsw.edu.au
END:VEVENT
BEGIN:VEVENT
DTSTART;TZID=Australia/Sydney:20240222T000000
DTEND;TZID=Australia/Sydney:20240223T000000
DTSTAMP:20260425T204537
CREATED:20250211T031255Z
LAST-MODIFIED:20250211T031255Z
UID:10000721-1708560000-1708646400@nswspc.org.au
SUMMARY:New England Regional Group Meeting
DESCRIPTION:
URL:https://nswspc.org.au/event/new-england-regional-group-meeting-5/
LOCATION:Armidale
CATEGORIES:Regional meetings
ORGANIZER;CN="Michael Spora":MAILTO:michael.spora@det.nsw.edu.au
END:VEVENT
BEGIN:VEVENT
DTSTART;TZID=Australia/Sydney:20240223T000000
DTEND;TZID=Australia/Sydney:20240223T000000
DTSTAMP:20260425T204537
CREATED:20250211T031255Z
LAST-MODIFIED:20250211T031255Z
UID:10000722-1708646400-1708646400@nswspc.org.au
SUMMARY:Riverina Regional Group Meeting
DESCRIPTION:
URL:https://nswspc.org.au/event/riverina-regional-group-meeting-5/
LOCATION:Junee High School\, 52 Lydia Street\, Junee\, NSW\, 2663\, Australia
CATEGORIES:Regional meetings
ORGANIZER;CN="Jennifer Parrett":MAILTO:Jennifer.Parrett@det.nsw.edu.au
END:VEVENT
BEGIN:VEVENT
DTSTART;TZID=Australia/Sydney:20240226T000000
DTEND;TZID=Australia/Sydney:20240226T000000
DTSTAMP:20260425T204537
CREATED:20250211T031255Z
LAST-MODIFIED:20250211T031255Z
UID:10000725-1708905600-1708905600@nswspc.org.au
SUMMARY:Sydney – Sutherland Shire Regional Group Meeting
DESCRIPTION:
URL:https://nswspc.org.au/event/sydney-sutherland-shire-regional-group-meeting-4/
LOCATION:Venue TBC
CATEGORIES:Regional meetings
ORGANIZER;CN="James Kozlowski":MAILTO:james.kozlowski@det.nsw.edu.au
END:VEVENT
BEGIN:VEVENT
DTSTART;TZID=Australia/Sydney:20240315T000000
DTEND;TZID=Australia/Sydney:20240315T000000
DTSTAMP:20260425T204537
CREATED:20250211T031256Z
LAST-MODIFIED:20250211T031256Z
UID:10000734-1710460800-1710460800@nswspc.org.au
SUMMARY:Central Coast Regional Group Meeting
DESCRIPTION:
URL:https://nswspc.org.au/event/central-coast-regional-group-meeting-7/
LOCATION:Venue TBC
CATEGORIES:Regional meetings
ORGANIZER;CN="Andrew Backhouse":MAILTO:Andrew.Backhouse@det.nsw.edu.au
END:VEVENT
BEGIN:VEVENT
DTSTART;TZID=Australia/Sydney:20240510T000000
DTEND;TZID=Australia/Sydney:20240510T000000
DTSTAMP:20260425T204537
CREATED:20250211T031338Z
LAST-MODIFIED:20250211T031338Z
UID:10000743-1715299200-1715299200@nswspc.org.au
SUMMARY:Western Sydney Regional Group Meeting
DESCRIPTION:
URL:https://nswspc.org.au/event/western-sydney-regional-group-meeting-6/
LOCATION:Tradewynds\, Nirimba Education Precinct\, Quakers Hill\, New South Wales\, 2763\, Australia
CATEGORIES:Regional meetings
ORGANIZER;CN="Sally Smithard":MAILTO:Sally.M.Smithard@det.nsw.edu.au
END:VEVENT
BEGIN:VEVENT
DTSTART;TZID=Australia/Sydney:20240513T000000
DTEND;TZID=Australia/Sydney:20240513T000000
DTSTAMP:20260425T204537
CREATED:20250211T031338Z
LAST-MODIFIED:20250211T031338Z
UID:10000745-1715558400-1715558400@nswspc.org.au
SUMMARY:St George Regional Group Meeting
DESCRIPTION:
URL:https://nswspc.org.au/event/st-george-regional-group-meeting-2/
LOCATION:Georges River College – Oatley Campus\, Oatley Avenue\, Oatley\, New South Wales\, 2223\, Australia
CATEGORIES:Regional meetings
ORGANIZER;CN="Anna Girginis":MAILTO:Anna.Girginis@det.nsw.edu.au
END:VEVENT
BEGIN:VEVENT
DTSTART;TZID=Australia/Sydney:20240515T000000
DTEND;TZID=Australia/Sydney:20240515T000000
DTSTAMP:20260425T204537
CREATED:20250211T031338Z
LAST-MODIFIED:20250211T031338Z
UID:10000746-1715731200-1715731200@nswspc.org.au
SUMMARY:South Western Sydney Regional Group Meeting
DESCRIPTION:
URL:https://nswspc.org.au/event/south-western-sydney-regional-group-meeting-5/
LOCATION:Fairfield RSL\, 14 Anzac Avenue\, Fairfield\, NSW\, 2165\, Australia
CATEGORIES:Regional meetings
ORGANIZER;CN="Kylie Hedger":MAILTO:KYLIE.HEDGER@det.nsw.edu.au
END:VEVENT
BEGIN:VEVENT
DTSTART;TZID=Australia/Sydney:20240515T000000
DTEND;TZID=Australia/Sydney:20240515T000000
DTSTAMP:20260425T204537
CREATED:20250211T031338Z
LAST-MODIFIED:20250211T031338Z
UID:10000747-1715731200-1715731200@nswspc.org.au
SUMMARY:Central Coast Regional Group Meeting
DESCRIPTION:
URL:https://nswspc.org.au/event/central-coast-regional-group-meeting-8/
LOCATION:University of Newcastle Ourimbah Campus\, 10 Chittaway Road\, Ourimbah\, NSW\, 2258\, Australia
CATEGORIES:Regional meetings
ORGANIZER;CN="Andrew Backhouse":MAILTO:Andrew.Backhouse@det.nsw.edu.au
END:VEVENT
BEGIN:VEVENT
DTSTART;TZID=Australia/Sydney:20240516T000000
DTEND;TZID=Australia/Sydney:20240517T000000
DTSTAMP:20260425T204537
CREATED:20250211T031338Z
LAST-MODIFIED:20250211T031338Z
UID:10000748-1715817600-1715904000@nswspc.org.au
SUMMARY:Western Regional Group Meeting
DESCRIPTION:
URL:https://nswspc.org.au/event/western-regional-group-meeting/
LOCATION:Venue TBC
CATEGORIES:Regional meetings
ORGANIZER;CN="Michael Spora":MAILTO:michael.spora@det.nsw.edu.au
END:VEVENT
BEGIN:VEVENT
DTSTART;TZID=Australia/Sydney:20240517T000000
DTEND;TZID=Australia/Sydney:20240517T000000
DTSTAMP:20260425T204537
CREATED:20250211T031338Z
LAST-MODIFIED:20250211T031338Z
UID:10000749-1715904000-1715904000@nswspc.org.au
SUMMARY:North Sydney Regional Group Meeting
DESCRIPTION:
URL:https://nswspc.org.au/event/north-sydney-regional-group-meeting-6/
LOCATION:Epping Boys High School\, 213 Vimiera Road\,\, Marsfield\, NSW\, 2122\, Australia
CATEGORIES:Regional meetings
ORGANIZER;CN="Cassy Norris":MAILTO:carol.norris@det.nsw.edu.au
END:VEVENT
BEGIN:VEVENT
DTSTART;TZID=Australia/Sydney:20240517T000000
DTEND;TZID=Australia/Sydney:20240517T000000
DTSTAMP:20260425T204537
CREATED:20250211T031338Z
LAST-MODIFIED:20250211T031338Z
UID:10000750-1715904000-1715904000@nswspc.org.au
SUMMARY:Hunter Regional Group Meeting
DESCRIPTION:
URL:https://nswspc.org.au/event/hunter-regional-group-meeting-6/
LOCATION:Venue TBC
CATEGORIES:Regional meetings
ORGANIZER;CN="Mark Snedden":MAILTO:mark.sneeden@det.nsw.edu.au
END:VEVENT
BEGIN:VEVENT
DTSTART;TZID=Australia/Sydney:20240517T083000
DTEND;TZID=Australia/Sydney:20240517T150000
DTSTAMP:20260425T204537
CREATED:20250211T031338Z
LAST-MODIFIED:20250211T031338Z
UID:10000751-1715934600-1715958000@nswspc.org.au
SUMMARY:Central Coast Regional Group Meeting
DESCRIPTION:
URL:https://nswspc.org.au/event/central-coast-regional-group-meeting-9/
LOCATION:University of Newcastle Ourimbah Campus\, 10 Chittaway Road\, Ourimbah\, NSW\, 2258\, Australia
CATEGORIES:Regional meetings
ORGANIZER;CN="Andrew Backhouse":MAILTO:Andrew.Backhouse@det.nsw.edu.au
END:VEVENT
BEGIN:VEVENT
DTSTART;TZID=Australia/Sydney:20240520T000000
DTEND;TZID=Australia/Sydney:20240520T000000
DTSTAMP:20260425T204537
CREATED:20250211T031338Z
LAST-MODIFIED:20250211T031338Z
UID:10000752-1716163200-1716163200@nswspc.org.au
SUMMARY:Sydney – Sutherland Shire Regional Group Meeting
DESCRIPTION:
URL:https://nswspc.org.au/event/sydney-sutherland-shire-regional-group-meeting-5/
LOCATION:Venue TBC
CATEGORIES:Regional meetings
ORGANIZER;CN="James Kozlowski":MAILTO:james.kozlowski@det.nsw.edu.au
END:VEVENT
BEGIN:VEVENT
DTSTART;TZID=Australia/Sydney:20240523T000000
DTEND;TZID=Australia/Sydney:20240524T000000
DTSTAMP:20260425T204537
CREATED:20250211T031339Z
LAST-MODIFIED:20250211T031339Z
UID:10000754-1716422400-1716508800@nswspc.org.au
SUMMARY:Central West Regional Group Meeting
DESCRIPTION:
URL:https://nswspc.org.au/event/central-west-regional-group-meeting/
LOCATION:Venue TBC
CATEGORIES:Regional meetings
ORGANIZER;CN="Michelle Barrett":MAILTO:michelle.barrett@det.nsw.edu.au
END:VEVENT
END:VCALENDAR