BEGIN:VCALENDAR
VERSION:2.0
PRODID:-//New South Wales Secondary Principals&#039; Council - ECPv6.15.5//NONSGML v1.0//EN
CALSCALE:GREGORIAN
METHOD:PUBLISH
X-ORIGINAL-URL:https://nswspc.org.au
X-WR-CALDESC:Events for New South Wales Secondary Principals&#039; Council
REFRESH-INTERVAL;VALUE=DURATION:PT1H
X-Robots-Tag:noindex
X-PUBLISHED-TTL:PT1H
BEGIN:VTIMEZONE
TZID:Australia/Sydney
BEGIN:STANDARD
TZOFFSETFROM:+1100
TZOFFSETTO:+1000
TZNAME:AEST
DTSTART:20220402T160000
END:STANDARD
BEGIN:DAYLIGHT
TZOFFSETFROM:+1000
TZOFFSETTO:+1100
TZNAME:AEDT
DTSTART:20221001T160000
END:DAYLIGHT
BEGIN:STANDARD
TZOFFSETFROM:+1100
TZOFFSETTO:+1000
TZNAME:AEST
DTSTART:20230401T160000
END:STANDARD
BEGIN:DAYLIGHT
TZOFFSETFROM:+1000
TZOFFSETTO:+1100
TZNAME:AEDT
DTSTART:20230930T160000
END:DAYLIGHT
END:VTIMEZONE
BEGIN:VEVENT
DTSTART;TZID=Australia/Sydney:20220811T000000
DTEND;TZID=Australia/Sydney:20220812T000000
DTSTAMP:20260426T013100
CREATED:20250211T030713Z
LAST-MODIFIED:20250211T030713Z
UID:10000510-1660176000-1660262400@nswspc.org.au
SUMMARY:Riverina Regional Group Meeting
DESCRIPTION:
URL:https://nswspc.org.au/event/riverina-regional-group-meeting-3/
CATEGORIES:Regional meetings
END:VEVENT
BEGIN:VEVENT
DTSTART;TZID=Australia/Sydney:20220811T000000
DTEND;TZID=Australia/Sydney:20220812T000000
DTSTAMP:20260426T013100
CREATED:20250211T030714Z
LAST-MODIFIED:20250211T030714Z
UID:10000511-1660176000-1660262400@nswspc.org.au
SUMMARY:Illawarra/South Coast Regional Group Meeting
DESCRIPTION:
URL:https://nswspc.org.au/event/illawarra-south-coast-regional-group-meeting-3/
CATEGORIES:Regional meetings
END:VEVENT
BEGIN:VEVENT
DTSTART;TZID=Australia/Sydney:20220811T123000
DTEND;TZID=Australia/Sydney:20220812T140000
DTSTAMP:20260426T013100
CREATED:20250211T030714Z
LAST-MODIFIED:20250211T030714Z
UID:10000512-1660221000-1660312800@nswspc.org.au
SUMMARY:New England Regional Group Meeting
DESCRIPTION:
URL:https://nswspc.org.au/event/new-england-regional-group-meeting-3/
CATEGORIES:Regional meetings
END:VEVENT
BEGIN:VEVENT
DTSTART;TZID=Australia/Sydney:20220811T180000
DTEND;TZID=Australia/Sydney:20220812T140000
DTSTAMP:20260426T013100
CREATED:20250211T030714Z
LAST-MODIFIED:20250211T030714Z
UID:10000513-1660240800-1660312800@nswspc.org.au
SUMMARY:Central West Regional Meeting
DESCRIPTION:
URL:https://nswspc.org.au/event/central-west-regional-meeting-6/
CATEGORIES:Regional meetings
END:VEVENT
BEGIN:VEVENT
DTSTART;TZID=Australia/Sydney:20220819T123000
DTEND;TZID=Australia/Sydney:20220819T153000
DTSTAMP:20260426T013100
CREATED:20250211T030714Z
LAST-MODIFIED:20250211T030714Z
UID:10000516-1660912200-1660923000@nswspc.org.au
SUMMARY:Sydney: Eastern Suburbs Regional Group Meeting
DESCRIPTION:
URL:https://nswspc.org.au/event/sydney-eastern-suburbs-regional-group-meeting-3/
LOCATION:Graphic Arts Club\, 182 Coward Street\, Mascot\, NSW\, 2020\, Australia
CATEGORIES:Regional meetings
ORGANIZER;CN="Ralph David":MAILTO:ralph.david@det.nsw.edu.au
END:VEVENT
BEGIN:VEVENT
DTSTART;TZID=Australia/Sydney:20220909T000000
DTEND;TZID=Australia/Sydney:20220909T000000
DTSTAMP:20260426T013100
CREATED:20250211T030715Z
LAST-MODIFIED:20250211T030715Z
UID:10000526-1662681600-1662681600@nswspc.org.au
SUMMARY:Central Coast Regional Group Meeting
DESCRIPTION:
URL:https://nswspc.org.au/event/central-coast-regional-group-meeting-4/
CATEGORIES:Regional meetings
END:VEVENT
BEGIN:VEVENT
DTSTART;TZID=Australia/Sydney:20221017T000000
DTEND;TZID=Australia/Sydney:20221017T000000
DTSTAMP:20260426T013100
CREATED:20250211T030715Z
LAST-MODIFIED:20250211T030715Z
UID:10000534-1665964800-1665964800@nswspc.org.au
SUMMARY:Sydney: St George Regional Group Meeting
DESCRIPTION:
URL:https://nswspc.org.au/event/sydney-st-george-regional-group-meeting-4/
CATEGORIES:Regional meetings
END:VEVENT
BEGIN:VEVENT
DTSTART;TZID=Australia/Sydney:20221021T000000
DTEND;TZID=Australia/Sydney:20221021T000000
DTSTAMP:20260426T013100
CREATED:20250211T030715Z
LAST-MODIFIED:20250211T030715Z
UID:10000536-1666310400-1666310400@nswspc.org.au
SUMMARY:Western Sydney Regional Group Meeting
DESCRIPTION:
URL:https://nswspc.org.au/event/western-sydney-regional-group-meeting-4/
CATEGORIES:Regional meetings
END:VEVENT
BEGIN:VEVENT
DTSTART;TZID=Australia/Sydney:20221025T000000
DTEND;TZID=Australia/Sydney:20221025T000000
DTSTAMP:20260426T013100
CREATED:20250211T030716Z
LAST-MODIFIED:20250211T030716Z
UID:10000538-1666656000-1666656000@nswspc.org.au
SUMMARY:Hunter Regional Group Meeting
DESCRIPTION:
URL:https://nswspc.org.au/event/hunter-regional-group-meeting-4/
CATEGORIES:Regional meetings
END:VEVENT
BEGIN:VEVENT
DTSTART;TZID=Australia/Sydney:20221026T000000
DTEND;TZID=Australia/Sydney:20221026T000000
DTSTAMP:20260426T013100
CREATED:20250211T030716Z
LAST-MODIFIED:20250211T030716Z
UID:10000539-1666742400-1666742400@nswspc.org.au
SUMMARY:South Western Sydney Regional Group Meeting
DESCRIPTION:
URL:https://nswspc.org.au/event/south-western-sydney-regional-group-meeting-3/
CATEGORIES:Regional meetings
ORGANIZER;CN="Kylie Hedger":MAILTO:KYLIE.HEDGER@det.nsw.edu.au
END:VEVENT
BEGIN:VEVENT
DTSTART;TZID=Australia/Sydney:20221027T000000
DTEND;TZID=Australia/Sydney:20221028T000000
DTSTAMP:20260426T013100
CREATED:20250211T030716Z
LAST-MODIFIED:20250211T030716Z
UID:10000540-1666828800-1666915200@nswspc.org.au
SUMMARY:Western NSW: Western Regional Group Meeting
DESCRIPTION:
URL:https://nswspc.org.au/event/western-nsw-western-regional-group-meeting-3/
CATEGORIES:Regional meetings
END:VEVENT
BEGIN:VEVENT
DTSTART;TZID=Australia/Sydney:20221028T000000
DTEND;TZID=Australia/Sydney:20221028T000000
DTSTAMP:20260426T013100
CREATED:20250211T030716Z
LAST-MODIFIED:20250211T030716Z
UID:10000542-1666915200-1666915200@nswspc.org.au
SUMMARY:North Sydney Regional Group Meeting
DESCRIPTION:
URL:https://nswspc.org.au/event/north-sydney-regional-group-meeting-4/
CATEGORIES:Regional meetings
END:VEVENT
BEGIN:VEVENT
DTSTART;TZID=Australia/Sydney:20221028T000000
DTEND;TZID=Australia/Sydney:20221028T000000
DTSTAMP:20260426T013100
CREATED:20250211T030716Z
LAST-MODIFIED:20250211T030716Z
UID:10000543-1666915200-1666915200@nswspc.org.au
SUMMARY:Central Coast Regional Group Meeting
DESCRIPTION:
URL:https://nswspc.org.au/event/central-coast-regional-group-meeting-5/
CATEGORIES:Regional meetings
END:VEVENT
BEGIN:VEVENT
DTSTART;TZID=Australia/Sydney:20221028T000000
DTEND;TZID=Australia/Sydney:20221028T000000
DTSTAMP:20260426T013100
CREATED:20250211T030716Z
LAST-MODIFIED:20250211T030716Z
UID:10000541-1666915200-1666915200@nswspc.org.au
SUMMARY:Sydney: Port Jackson Regional Group Meeting
DESCRIPTION:
URL:https://nswspc.org.au/event/sydney-port-jackson-regional-group-meeting-4/
CATEGORIES:Regional meetings
END:VEVENT
BEGIN:VEVENT
DTSTART;TZID=Australia/Sydney:20221103T000000
DTEND;TZID=Australia/Sydney:20221104T000000
DTSTAMP:20260426T013100
CREATED:20250211T030810Z
LAST-MODIFIED:20250211T030810Z
UID:10000547-1667433600-1667520000@nswspc.org.au
SUMMARY:North Coast: North Regional Group Meeting
DESCRIPTION:
URL:https://nswspc.org.au/event/north-coast-north-regional-group-meeting-3/
CATEGORIES:Regional meetings
END:VEVENT
BEGIN:VEVENT
DTSTART;TZID=Australia/Sydney:20221103T000000
DTEND;TZID=Australia/Sydney:20221104T000000
DTSTAMP:20260426T013100
CREATED:20250211T030810Z
LAST-MODIFIED:20250211T030810Z
UID:10000548-1667433600-1667520000@nswspc.org.au
SUMMARY:Riverina Regional Group Meeting
DESCRIPTION:
URL:https://nswspc.org.au/event/riverina-regional-group-meeting-4/
CATEGORIES:Regional meetings
END:VEVENT
BEGIN:VEVENT
DTSTART;TZID=Australia/Sydney:20221103T000000
DTEND;TZID=Australia/Sydney:20221104T000000
DTSTAMP:20260426T013100
CREATED:20250211T030810Z
LAST-MODIFIED:20250211T030810Z
UID:10000549-1667433600-1667520000@nswspc.org.au
SUMMARY:Illawarra/South Coast Regional Group Meeting
DESCRIPTION:
URL:https://nswspc.org.au/event/illawarra-south-coast-regional-group-meeting-4/
CATEGORIES:Regional meetings
END:VEVENT
BEGIN:VEVENT
DTSTART;TZID=Australia/Sydney:20221103T123000
DTEND;TZID=Australia/Sydney:20221104T140000
DTSTAMP:20260426T013100
CREATED:20250211T030810Z
LAST-MODIFIED:20250211T030810Z
UID:10000550-1667478600-1667570400@nswspc.org.au
SUMMARY:New England Regional Group Meeting
DESCRIPTION:
URL:https://nswspc.org.au/event/new-england-regional-group-meeting-4/
CATEGORIES:Regional meetings
END:VEVENT
BEGIN:VEVENT
DTSTART;TZID=Australia/Sydney:20221103T173000
DTEND;TZID=Australia/Sydney:20221104T140000
DTSTAMP:20260426T013100
CREATED:20250211T030810Z
LAST-MODIFIED:20250211T030810Z
UID:10000551-1667496600-1667570400@nswspc.org.au
SUMMARY:Central West Regional Meeting
DESCRIPTION:
URL:https://nswspc.org.au/event/central-west-regional-meeting-7/
CATEGORIES:Regional meetings
END:VEVENT
BEGIN:VEVENT
DTSTART;TZID=Australia/Sydney:20221111T123000
DTEND;TZID=Australia/Sydney:20221111T153000
DTSTAMP:20260426T013100
CREATED:20250211T030810Z
LAST-MODIFIED:20250211T030810Z
UID:10000555-1668169800-1668180600@nswspc.org.au
SUMMARY:Sydney: Eastern Suburbs Regional Group Meeting
DESCRIPTION:
URL:https://nswspc.org.au/event/sydney-eastern-suburbs-regional-group-meeting-4/
LOCATION:Graphic Arts Club\, 182 Coward Street\, Mascot\, NSW\, 2020\, Australia
CATEGORIES:Regional meetings
ORGANIZER;CN="Ralph David":MAILTO:ralph.david@det.nsw.edu.au
END:VEVENT
BEGIN:VEVENT
DTSTART;TZID=Australia/Sydney:20221125T000000
DTEND;TZID=Australia/Sydney:20221125T000000
DTSTAMP:20260426T013100
CREATED:20250211T030811Z
LAST-MODIFIED:20250211T030811Z
UID:10000560-1669334400-1669334400@nswspc.org.au
SUMMARY:Central Coast Regional Meetings
DESCRIPTION:
URL:https://nswspc.org.au/event/central-coast-regional-meetings-3/
CATEGORIES:Regional meetings
END:VEVENT
BEGIN:VEVENT
DTSTART;TZID=Australia/Sydney:20230206T000000
DTEND;TZID=Australia/Sydney:20230206T000000
DTSTAMP:20260426T013100
CREATED:20250211T030912Z
LAST-MODIFIED:20250211T030912Z
UID:10000567-1675641600-1675641600@nswspc.org.au
SUMMARY:St George SPC Regional Meeting
DESCRIPTION:
URL:https://nswspc.org.au/event/st-george-spc-regional-meeting/
CATEGORIES:Regional meetings
ORGANIZER;CN="Anna Girginis":MAILTO:Anna.Girginis@det.nsw.edu.au
END:VEVENT
BEGIN:VEVENT
DTSTART;TZID=Australia/Sydney:20230208T000000
DTEND;TZID=Australia/Sydney:20230208T000000
DTSTAMP:20260426T013100
CREATED:20250211T030912Z
LAST-MODIFIED:20250211T030912Z
UID:10000569-1675814400-1675814400@nswspc.org.au
SUMMARY:South Western Sydney SPC Regional Meeting
DESCRIPTION:
URL:https://nswspc.org.au/event/south-western-sydney-spc-regional-meeting/
LOCATION:Fairfield RSL\, 14 Anzac Avenue\, Fairfield\, NSW\, 2165\, Australia
CATEGORIES:Regional meetings
ORGANIZER;CN="Kylie Hedger":MAILTO:KYLIE.HEDGER@det.nsw.edu.au
END:VEVENT
BEGIN:VEVENT
DTSTART;TZID=Australia/Sydney:20230210T000000
DTEND;TZID=Australia/Sydney:20230210T000000
DTSTAMP:20260426T013100
CREATED:20250211T030912Z
LAST-MODIFIED:20250211T030912Z
UID:10000570-1675987200-1675987200@nswspc.org.au
SUMMARY:Northern Sydney SPC Regional Meeting
DESCRIPTION:
URL:https://nswspc.org.au/event/northern-sydney-spc-regional-meeting/
LOCATION:Epping Boys High School\, 213 Vimiera Road\,\, Marsfield\, NSW\, 2122\, Australia
CATEGORIES:Regional meetings
ORGANIZER;CN="Christine Del Gallo":MAILTO:Christine.DelGallo@det.nsw.edu.au
END:VEVENT
BEGIN:VEVENT
DTSTART;TZID=Australia/Sydney:20230210T000000
DTEND;TZID=Australia/Sydney:20230210T000000
DTSTAMP:20260426T013100
CREATED:20250211T030912Z
LAST-MODIFIED:20250211T030912Z
UID:10000571-1675987200-1675987200@nswspc.org.au
SUMMARY:Port Jackson SPC Regional Meeting
DESCRIPTION:
URL:https://nswspc.org.au/event/port-jackson-spc-regional-meeting/
CATEGORIES:Regional meetings
ORGANIZER;CN="Ross Dummett":MAILTO:Ross.Dummett@det.nsw.edu.au
END:VEVENT
BEGIN:VEVENT
DTSTART;TZID=Australia/Sydney:20230216T000000
DTEND;TZID=Australia/Sydney:20230217T000000
DTSTAMP:20260426T013100
CREATED:20250211T030912Z
LAST-MODIFIED:20250211T030912Z
UID:10000573-1676505600-1676592000@nswspc.org.au
SUMMARY:Western Plains SPC Regional Meeting
DESCRIPTION:
URL:https://nswspc.org.au/event/western-plains-spc-regional-meeting/
LOCATION:Mudgee\, NSW\, Australia
CATEGORIES:Regional meetings
ORGANIZER;CN="Mary Doolan":MAILTO:Mary.Doolan@det.nsw.edu.au
END:VEVENT
BEGIN:VEVENT
DTSTART;TZID=Australia/Sydney:20230216T000000
DTEND;TZID=Australia/Sydney:20230217T000000
DTSTAMP:20260426T013100
CREATED:20250211T030913Z
LAST-MODIFIED:20250211T030913Z
UID:10000575-1676505600-1676592000@nswspc.org.au
SUMMARY:Riverina SPC Regional Meeting
DESCRIPTION:
URL:https://nswspc.org.au/event/riverina-spc-regional-meeting/
LOCATION:Corowa High School\, 69 Redlands Rd\, Corowa\, NSW\, 2646\, Australia
CATEGORIES:Regional meetings
ORGANIZER;CN="Jennifer Parrett":MAILTO:Jennifer.Parrett@det.nsw.edu.au
END:VEVENT
BEGIN:VEVENT
DTSTART;TZID=Australia/Sydney:20230216T000000
DTEND;TZID=Australia/Sydney:20230217T000000
DTSTAMP:20260426T013100
CREATED:20250211T030913Z
LAST-MODIFIED:20250211T030913Z
UID:10000576-1676505600-1676592000@nswspc.org.au
SUMMARY:Central West SPC Regional Meeting
DESCRIPTION:
URL:https://nswspc.org.au/event/central-west-spc-regional-meeting-5/
LOCATION:Venue TBC
CATEGORIES:Regional meetings
ORGANIZER;CN="Michelle Barrett":MAILTO:michelle.barrett@det.nsw.edu.au
END:VEVENT
BEGIN:VEVENT
DTSTART;TZID=Australia/Sydney:20230217T000000
DTEND;TZID=Australia/Sydney:20230217T000000
DTSTAMP:20260426T013100
CREATED:20250211T030913Z
LAST-MODIFIED:20250211T030913Z
UID:10000579-1676592000-1676592000@nswspc.org.au
SUMMARY:Western Plains SPC Regional Meeting
DESCRIPTION:
URL:https://nswspc.org.au/event/western-plains-spc-regional-meeting-2/
CATEGORIES:Regional meetings
END:VEVENT
BEGIN:VEVENT
DTSTART;TZID=Australia/Sydney:20230217T000000
DTEND;TZID=Australia/Sydney:20230217T000000
DTSTAMP:20260426T013100
CREATED:20250211T030913Z
LAST-MODIFIED:20250211T030913Z
UID:10000580-1676592000-1676592000@nswspc.org.au
SUMMARY:Central Coast SPC Regional Meeting
DESCRIPTION:
URL:https://nswspc.org.au/event/central-coast-spc-regional-meeting/
LOCATION:Venue TBC
CATEGORIES:Regional meetings
ORGANIZER;CN="Andrew Backhouse":MAILTO:Andrew.Backhouse@det.nsw.edu.au
END:VEVENT
END:VCALENDAR