BEGIN:VCALENDAR
VERSION:2.0
PRODID:-//New South Wales Secondary Principals&#039; Council - ECPv6.15.5//NONSGML v1.0//EN
CALSCALE:GREGORIAN
METHOD:PUBLISH
X-WR-CALNAME:New South Wales Secondary Principals&#039; Council
X-ORIGINAL-URL:https://nswspc.org.au
X-WR-CALDESC:Events for New South Wales Secondary Principals&#039; Council
REFRESH-INTERVAL;VALUE=DURATION:PT1H
X-Robots-Tag:noindex
X-PUBLISHED-TTL:PT1H
BEGIN:VTIMEZONE
TZID:Australia/Sydney
BEGIN:STANDARD
TZOFFSETFROM:+1100
TZOFFSETTO:+1000
TZNAME:AEST
DTSTART:20230401T160000
END:STANDARD
BEGIN:DAYLIGHT
TZOFFSETFROM:+1000
TZOFFSETTO:+1100
TZNAME:AEDT
DTSTART:20230930T160000
END:DAYLIGHT
END:VTIMEZONE
BEGIN:VEVENT
DTSTART;TZID=Australia/Sydney:20230508T000000
DTEND;TZID=Australia/Sydney:20230508T000000
DTSTAMP:20260425T223324
CREATED:20250211T031042Z
LAST-MODIFIED:20250211T031042Z
UID:10000607-1683504000-1683504000@nswspc.org.au
SUMMARY:St George SPC Regional Meeting
DESCRIPTION:
URL:https://nswspc.org.au/event/st-george-spc-regional-meeting-2/
CATEGORIES:Regional meetings
ORGANIZER;CN="Anna Girginis":MAILTO:Anna.Girginis@det.nsw.edu.au
END:VEVENT
BEGIN:VEVENT
DTSTART;TZID=Australia/Sydney:20230510T000000
DTEND;TZID=Australia/Sydney:20230510T000000
DTSTAMP:20260425T223324
CREATED:20250211T031042Z
LAST-MODIFIED:20250211T031042Z
UID:10000608-1683676800-1683676800@nswspc.org.au
SUMMARY:South Western Sydney SPC Regional Meeting
DESCRIPTION:
URL:https://nswspc.org.au/event/south-western-sydney-spc-regional-meeting-2/
LOCATION:Fairfield RSL\, 14 Anzac Avenue\, Fairfield\, NSW\, 2165\, Australia
CATEGORIES:Regional meetings
ORGANIZER;CN="Kylie Hedger":MAILTO:KYLIE.HEDGER@det.nsw.edu.au
END:VEVENT
BEGIN:VEVENT
DTSTART;TZID=Australia/Sydney:20230512T000000
DTEND;TZID=Australia/Sydney:20230512T000000
DTSTAMP:20260425T223324
CREATED:20250211T031042Z
LAST-MODIFIED:20250211T031042Z
UID:10000609-1683849600-1683849600@nswspc.org.au
SUMMARY:North Coast SPC Regional Meeting
DESCRIPTION:
URL:https://nswspc.org.au/event/north-coast-spc-regional-meeting-2/
CATEGORIES:Regional meetings
ORGANIZER;CN="Greg Wilson":MAILTO:Greg.Wilson@det.nsw.edu.au
END:VEVENT
BEGIN:VEVENT
DTSTART;TZID=Australia/Sydney:20230512T000000
DTEND;TZID=Australia/Sydney:20230512T000000
DTSTAMP:20260425T223324
CREATED:20250211T031042Z
LAST-MODIFIED:20250211T031042Z
UID:10000610-1683849600-1683849600@nswspc.org.au
SUMMARY:Northern Sydney SPC Regional Meeting
DESCRIPTION:
URL:https://nswspc.org.au/event/northern-sydney-spc-regional-meeting-2/
LOCATION:Epping Boys High School\, 213 Vimiera Road\,\, Marsfield\, NSW\, 2122\, Australia
CATEGORIES:Regional meetings
ORGANIZER;CN="Christine Del Gallo":MAILTO:Christine.DelGallo@det.nsw.edu.au
END:VEVENT
BEGIN:VEVENT
DTSTART;TZID=Australia/Sydney:20230512T000000
DTEND;TZID=Australia/Sydney:20230512T000000
DTSTAMP:20260425T223324
CREATED:20250211T031042Z
LAST-MODIFIED:20250211T031042Z
UID:10000611-1683849600-1683849600@nswspc.org.au
SUMMARY:Central Coast SPC Regional Meeting combined with Hunter SPC Regional Meeting
DESCRIPTION:
URL:https://nswspc.org.au/event/central-coast-spc-regional-meeting-combined-with-hunter-spc-regional-meeting/
LOCATION:Venue TBC
CATEGORIES:Regional meetings
ORGANIZER;CN="Andrew Backhouse":MAILTO:Andrew.Backhouse@det.nsw.edu.au
END:VEVENT
BEGIN:VEVENT
DTSTART;TZID=Australia/Sydney:20230512T130000
DTEND;TZID=Australia/Sydney:20230512T130000
DTSTAMP:20260425T223324
CREATED:20250211T031042Z
LAST-MODIFIED:20250211T031042Z
UID:10000613-1683896400-1683896400@nswspc.org.au
SUMMARY:Port Jackson SPC Regional Meeting
DESCRIPTION:
URL:https://nswspc.org.au/event/port-jackson-spc-regional-meeting-2/
CATEGORIES:Regional meetings
ORGANIZER;CN="Ross Dummett":MAILTO:Ross.Dummett@det.nsw.edu.au
END:VEVENT
BEGIN:VEVENT
DTSTART;TZID=Australia/Sydney:20230518T000000
DTEND;TZID=Australia/Sydney:20230518T000000
DTSTAMP:20260425T223324
CREATED:20250211T031043Z
LAST-MODIFIED:20250211T031043Z
UID:10000617-1684368000-1684368000@nswspc.org.au
SUMMARY:Illawarra Southeast SPC Regional Meeting
DESCRIPTION:
URL:https://nswspc.org.au/event/illawarra-southeast-spc-regional-meeting/
LOCATION:Oak Flats – Killalea\, NSW\, Australia
CATEGORIES:Regional meetings
ORGANIZER;CN="Denise Lofts":MAILTO:denise.lofts@det.nsw.edu.au
END:VEVENT
BEGIN:VEVENT
DTSTART;TZID=Australia/Sydney:20230518T000000
DTEND;TZID=Australia/Sydney:20230519T000000
DTSTAMP:20260425T223324
CREATED:20250211T031043Z
LAST-MODIFIED:20250211T031043Z
UID:10000618-1684368000-1684454400@nswspc.org.au
SUMMARY:Central West SPC Regional Meeting
DESCRIPTION:
URL:https://nswspc.org.au/event/central-west-spc-regional-meeting-6/
LOCATION:Venue TBC
CATEGORIES:Regional meetings
ORGANIZER;CN="Michelle Barrett":MAILTO:michelle.barrett@det.nsw.edu.au
END:VEVENT
BEGIN:VEVENT
DTSTART;TZID=Australia/Sydney:20230519T000000
DTEND;TZID=Australia/Sydney:20230519T000000
DTSTAMP:20260425T223324
CREATED:20250211T031043Z
LAST-MODIFIED:20250211T031043Z
UID:10000619-1684454400-1684454400@nswspc.org.au
SUMMARY:Western Plains SPC Regional Meeting
DESCRIPTION:
URL:https://nswspc.org.au/event/western-plains-spc-regional-meeting-3/
CATEGORIES:Regional meetings
ORGANIZER;CN="Mary Doolan":MAILTO:Mary.Doolan@det.nsw.edu.au
END:VEVENT
BEGIN:VEVENT
DTSTART;TZID=Australia/Sydney:20230519T000000
DTEND;TZID=Australia/Sydney:20230519T000000
DTSTAMP:20260425T223324
CREATED:20250211T031043Z
LAST-MODIFIED:20250211T031043Z
UID:10000620-1684454400-1684454400@nswspc.org.au
SUMMARY:Illawarra Southeast SPC Regional Meetings
DESCRIPTION:
URL:https://nswspc.org.au/event/illawarra-southeast-spc-regional-meetings/
LOCATION:Oak Flats – Killalea\, NSW\, Australia
CATEGORIES:Regional meetings
ORGANIZER;CN="Denise Lofts":MAILTO:denise.lofts@det.nsw.edu.au
END:VEVENT
BEGIN:VEVENT
DTSTART;TZID=Australia/Sydney:20230519T000000
DTEND;TZID=Australia/Sydney:20230519T000000
DTSTAMP:20260425T223324
CREATED:20250211T031043Z
LAST-MODIFIED:20250211T031043Z
UID:10000621-1684454400-1684454400@nswspc.org.au
SUMMARY:Riverina SPC Regional Meeting
DESCRIPTION:
URL:https://nswspc.org.au/event/riverina-spc-regional-meeting-2/
LOCATION:West Wyalong High School\, 30 Dumaresq St\, West Wyalong\, NSW\, 2671\, Australia
CATEGORIES:Regional meetings
ORGANIZER;CN="Jennifer Parrett":MAILTO:Jennifer.Parrett@det.nsw.edu.au
END:VEVENT
BEGIN:VEVENT
DTSTART;TZID=Australia/Sydney:20230728T000000
DTEND;TZID=Australia/Sydney:20230728T000000
DTSTAMP:20260425T223324
CREATED:20250211T031045Z
LAST-MODIFIED:20250211T031045Z
UID:10000640-1690502400-1690502400@nswspc.org.au
SUMMARY:Western Sydney SPC Regional Meeting
DESCRIPTION:
URL:https://nswspc.org.au/event/western-sydney-spc-regional-meeting-3/
CATEGORIES:Regional meetings
ORGANIZER;CN="Sally Smithard":MAILTO:Sally.M.Smithard@det.nsw.edu.au
END:VEVENT
BEGIN:VEVENT
DTSTART;TZID=Australia/Sydney:20230802T000000
DTEND;TZID=Australia/Sydney:20230802T000000
DTSTAMP:20260425T223324
CREATED:20250211T031133Z
LAST-MODIFIED:20250211T031133Z
UID:10000641-1690934400-1690934400@nswspc.org.au
SUMMARY:South Western Sydney SPC Regional Meeting
DESCRIPTION:
URL:https://nswspc.org.au/event/south-western-sydney-spc-regional-meeting-3/
LOCATION:Fairfield RSL\, 14 Anzac Avenue\, Fairfield\, NSW\, 2165\, Australia
CATEGORIES:Regional meetings
ORGANIZER;CN="Kylie Hedger":MAILTO:KYLIE.HEDGER@det.nsw.edu.au
END:VEVENT
BEGIN:VEVENT
DTSTART;TZID=Australia/Sydney:20230803T080000
DTEND;TZID=Australia/Sydney:20230804T170000
DTSTAMP:20260425T223324
CREATED:20250211T031133Z
LAST-MODIFIED:20250211T031133Z
UID:10000642-1691049600-1691168400@nswspc.org.au
SUMMARY:Western NSW Regional Group Meeting
DESCRIPTION:
URL:https://nswspc.org.au/event/western-nsw-regional-group-meeting/
LOCATION:Venue TBC
CATEGORIES:Regional meetings
ORGANIZER;CN="Michael Spora":MAILTO:michael.spora@det.nsw.edu.au
END:VEVENT
BEGIN:VEVENT
DTSTART;TZID=Australia/Sydney:20230804T000000
DTEND;TZID=Australia/Sydney:20230804T000000
DTSTAMP:20260425T223324
CREATED:20250211T031133Z
LAST-MODIFIED:20250211T031133Z
UID:10000644-1691107200-1691107200@nswspc.org.au
SUMMARY:North Coast SPC Regional Meeting
DESCRIPTION:
URL:https://nswspc.org.au/event/north-coast-spc-regional-meeting-3/
CATEGORIES:Regional meetings
ORGANIZER;CN="Greg Wilson":MAILTO:Greg.Wilson@det.nsw.edu.au
END:VEVENT
BEGIN:VEVENT
DTSTART;TZID=Australia/Sydney:20230804T000000
DTEND;TZID=Australia/Sydney:20230804T000000
DTSTAMP:20260425T223324
CREATED:20250211T031133Z
LAST-MODIFIED:20250211T031133Z
UID:10000645-1691107200-1691107200@nswspc.org.au
SUMMARY:Central Coast SPC Regional Meeting
DESCRIPTION:
URL:https://nswspc.org.au/event/central-coast-spc-regional-meeting-3/
LOCATION:Venue TBC
CATEGORIES:Regional meetings
ORGANIZER;CN="Andrew Backhouse":MAILTO:Andrew.Backhouse@det.nsw.edu.au
END:VEVENT
BEGIN:VEVENT
DTSTART;TZID=Australia/Sydney:20230804T000000
DTEND;TZID=Australia/Sydney:20230804T000000
DTSTAMP:20260425T223324
CREATED:20250211T031133Z
LAST-MODIFIED:20250211T031133Z
UID:10000643-1691107200-1691107200@nswspc.org.au
SUMMARY:Northern Sydney SPC Regional Meeting
DESCRIPTION:
URL:https://nswspc.org.au/event/northern-sydney-spc-regional-meeting-3/
LOCATION:Epping Boys High School\, 213 Vimiera Road\,\, Marsfield\, NSW\, 2122\, Australia
CATEGORIES:Regional meetings
ORGANIZER;CN="Christine Del Gallo":MAILTO:Christine.DelGallo@det.nsw.edu.au
END:VEVENT
BEGIN:VEVENT
DTSTART;TZID=Australia/Sydney:20230804T130000
DTEND;TZID=Australia/Sydney:20230804T130000
DTSTAMP:20260425T223324
CREATED:20250211T031133Z
LAST-MODIFIED:20250211T031133Z
UID:10000646-1691154000-1691154000@nswspc.org.au
SUMMARY:Port Jackson SPC Regional Meeting
DESCRIPTION:
URL:https://nswspc.org.au/event/port-jackson-spc-regional-meeting-3/
CATEGORIES:Regional meetings
ORGANIZER;CN="Ross Dummett":MAILTO:Ross.Dummett@det.nsw.edu.au
END:VEVENT
BEGIN:VEVENT
DTSTART;TZID=Australia/Sydney:20230810T000000
DTEND;TZID=Australia/Sydney:20230810T000000
DTSTAMP:20260425T223324
CREATED:20250211T031134Z
LAST-MODIFIED:20250211T031134Z
UID:10000648-1691625600-1691625600@nswspc.org.au
SUMMARY:Illawarra & SE SPC Regional Meeting
DESCRIPTION:
URL:https://nswspc.org.au/event/illawarra-se-spc-regional-meeting/
LOCATION:Narooma High School\, NSW\, Australia
CATEGORIES:Regional meetings
ORGANIZER;CN="Denise Lofts":MAILTO:denise.lofts@det.nsw.edu.au
END:VEVENT
BEGIN:VEVENT
DTSTART;TZID=Australia/Sydney:20230810T000000
DTEND;TZID=Australia/Sydney:20230811T000000
DTSTAMP:20260425T223325
CREATED:20250211T031134Z
LAST-MODIFIED:20250211T031134Z
UID:10000649-1691625600-1691712000@nswspc.org.au
SUMMARY:Central West SPC Regional Meeting
DESCRIPTION:
URL:https://nswspc.org.au/event/central-west-spc-regional-meeting-7/
LOCATION:Venue TBC
CATEGORIES:Regional meetings
ORGANIZER;CN="Michelle Barrett":MAILTO:michelle.barrett@det.nsw.edu.au
END:VEVENT
BEGIN:VEVENT
DTSTART;TZID=Australia/Sydney:20230811T000000
DTEND;TZID=Australia/Sydney:20230811T000000
DTSTAMP:20260425T223325
CREATED:20250211T031134Z
LAST-MODIFIED:20250211T031134Z
UID:10000650-1691712000-1691712000@nswspc.org.au
SUMMARY:Illawarra & SE SPC Regional Meeting
DESCRIPTION:
URL:https://nswspc.org.au/event/illawarra-se-spc-regional-meeting-2/
LOCATION:Narooma High School\, NSW\, Australia
CATEGORIES:Regional meetings
ORGANIZER;CN="Denise Lofts":MAILTO:denise.lofts@det.nsw.edu.au
END:VEVENT
BEGIN:VEVENT
DTSTART;TZID=Australia/Sydney:20230811T000000
DTEND;TZID=Australia/Sydney:20230811T000000
DTSTAMP:20260425T223325
CREATED:20250211T031134Z
LAST-MODIFIED:20250211T031134Z
UID:10000651-1691712000-1691712000@nswspc.org.au
SUMMARY:Western Plains SPC Regional Meeting
DESCRIPTION:
URL:https://nswspc.org.au/event/western-plains-spc-regional-meeting-4/
CATEGORIES:Regional meetings
ORGANIZER;CN="Mary Doolan":MAILTO:Mary.Doolan@det.nsw.edu.au
END:VEVENT
BEGIN:VEVENT
DTSTART;TZID=Australia/Sydney:20230811T000000
DTEND;TZID=Australia/Sydney:20230811T000000
DTSTAMP:20260425T223325
CREATED:20250211T031134Z
LAST-MODIFIED:20250211T031134Z
UID:10000652-1691712000-1691712000@nswspc.org.au
SUMMARY:Riverina SPC Regional Meeting
DESCRIPTION:
URL:https://nswspc.org.au/event/riverina-spc-regional-meeting-3/
LOCATION:Finley High School\, Tocumwal St\, Finley\, NSW\, 2713\, Australia
CATEGORIES:Regional meetings
ORGANIZER;CN="Jennifer Parrett":MAILTO:Jennifer.Parrett@det.nsw.edu.au
END:VEVENT
BEGIN:VEVENT
DTSTART;TZID=Australia/Sydney:20230901T000000
DTEND;TZID=Australia/Sydney:20230901T000000
DTSTAMP:20260425T223325
CREATED:20250211T031135Z
LAST-MODIFIED:20250211T031135Z
UID:10000662-1693526400-1693526400@nswspc.org.au
SUMMARY:Central Coast SPC Regional Meeting
DESCRIPTION:
URL:https://nswspc.org.au/event/central-coast-spc-regional-meeting-4/
LOCATION:Venue TBC
CATEGORIES:Regional meetings
ORGANIZER;CN="Andrew Backhouse":MAILTO:Andrew.Backhouse@det.nsw.edu.au
END:VEVENT
BEGIN:VEVENT
DTSTART;TZID=Australia/Sydney:20231020T000000
DTEND;TZID=Australia/Sydney:20231020T000000
DTSTAMP:20260425T223325
CREATED:20250211T031136Z
LAST-MODIFIED:20250211T031136Z
UID:10000675-1697760000-1697760000@nswspc.org.au
SUMMARY:Western Sydney Regional Meeting
DESCRIPTION:
URL:https://nswspc.org.au/event/western-sydney-regional-meeting-2/
LOCATION:Tradewynds\, Nirimba Education Precinct\, Quakers Hill\, New South Wales\, 2763\, Australia
CATEGORIES:Regional meetings
ORGANIZER;CN="Sally Smithard":MAILTO:Sally.M.Smithard@det.nsw.edu.au
END:VEVENT
BEGIN:VEVENT
DTSTART;TZID=Australia/Sydney:20231023T000000
DTEND;TZID=Australia/Sydney:20231023T000000
DTSTAMP:20260425T223325
CREATED:20250211T031136Z
LAST-MODIFIED:20250211T031136Z
UID:10000676-1698019200-1698019200@nswspc.org.au
SUMMARY:St George Regional Meeting
DESCRIPTION:
URL:https://nswspc.org.au/event/st-george-regional-meeting/
LOCATION:Georges River College – Oatley Campus\, Oatley Avenue\, Oatley\, New South Wales\, 2223\, Australia
CATEGORIES:Regional meetings
ORGANIZER;CN="Anna Girginis":MAILTO:Anna.Girginis@det.nsw.edu.au
END:VEVENT
BEGIN:VEVENT
DTSTART;TZID=Australia/Sydney:20231025T000000
DTEND;TZID=Australia/Sydney:20231026T000000
DTSTAMP:20260425T223325
CREATED:20250211T031136Z
LAST-MODIFIED:20250211T031136Z
UID:10000677-1698192000-1698278400@nswspc.org.au
SUMMARY:South Western Sydney Regional Meeting
DESCRIPTION:
URL:https://nswspc.org.au/event/south-western-sydney-regional-meeting-4/
LOCATION:Hydro Majestic Blue Mountains\, 52-88 Great Western Highway\, Medlow Bath\, New South Wales\, 2780\, Australia
CATEGORIES:Regional meetings
ORGANIZER;CN="Kylie Hedger":MAILTO:KYLIE.HEDGER@det.nsw.edu.au
END:VEVENT
BEGIN:VEVENT
DTSTART;TZID=Australia/Sydney:20231026T000000
DTEND;TZID=Australia/Sydney:20231027T000000
DTSTAMP:20260425T223325
CREATED:20250211T031136Z
LAST-MODIFIED:20250211T031136Z
UID:10000678-1698278400-1698364800@nswspc.org.au
SUMMARY:Western NSW Western Regional Meeting
DESCRIPTION:
URL:https://nswspc.org.au/event/western-nsw-western-regional-meeting/
LOCATION:Narromine High School\, 13 Merilba Street\, Narromine\, New South Wales\, 2821\, Australia
CATEGORIES:Regional meetings
ORGANIZER;CN="Wayne Eade":MAILTO:wayne.eade@det.nsw.edu.au
END:VEVENT
BEGIN:VEVENT
DTSTART;TZID=Australia/Sydney:20231027T000000
DTEND;TZID=Australia/Sydney:20231027T000000
DTSTAMP:20260425T223325
CREATED:20250211T031136Z
LAST-MODIFIED:20250211T031136Z
UID:10000679-1698364800-1698364800@nswspc.org.au
SUMMARY:North Sydney Regional Meeting
DESCRIPTION:
URL:https://nswspc.org.au/event/north-sydney-regional-meeting-4/
LOCATION:Epping Boys High School\, 213 Vimiera Road\,\, Marsfield\, NSW\, 2122\, Australia
CATEGORIES:Regional meetings
ORGANIZER;CN="Cassy Norris":MAILTO:carol.norris@det.nsw.edu.au
END:VEVENT
BEGIN:VEVENT
DTSTART;TZID=Australia/Sydney:20231027T000000
DTEND;TZID=Australia/Sydney:20231027T000000
DTSTAMP:20260425T223325
CREATED:20250211T031137Z
LAST-MODIFIED:20250211T031137Z
UID:10000680-1698364800-1698364800@nswspc.org.au
SUMMARY:Hunter Regional Meeting
DESCRIPTION:
URL:https://nswspc.org.au/event/hunter-regional-meeting/
LOCATION:Toronto Workers Club\, 9 James Street\, Toronto\, New South Wales\, 2283\, Australia
CATEGORIES:Regional meetings
ORGANIZER;CN="Mark Snedden":MAILTO:mark.sneeden@det.nsw.edu.au
END:VEVENT
END:VCALENDAR