BEGIN:VCALENDAR
VERSION:2.0
PRODID:-//New South Wales Secondary Principals&#039; Council - ECPv6.15.5//NONSGML v1.0//EN
CALSCALE:GREGORIAN
METHOD:PUBLISH
X-WR-CALNAME:New South Wales Secondary Principals&#039; Council
X-ORIGINAL-URL:https://nswspc.org.au
X-WR-CALDESC:Events for New South Wales Secondary Principals&#039; Council
REFRESH-INTERVAL;VALUE=DURATION:PT1H
X-Robots-Tag:noindex
X-PUBLISHED-TTL:PT1H
BEGIN:VTIMEZONE
TZID:Australia/Sydney
BEGIN:STANDARD
TZOFFSETFROM:+1100
TZOFFSETTO:+1000
TZNAME:AEST
DTSTART:20220402T160000
END:STANDARD
BEGIN:DAYLIGHT
TZOFFSETFROM:+1000
TZOFFSETTO:+1100
TZNAME:AEDT
DTSTART:20221001T160000
END:DAYLIGHT
END:VTIMEZONE
BEGIN:VEVENT
DTSTART;TZID=Australia/Sydney:20220513T000000
DTEND;TZID=Australia/Sydney:20220513T000000
DTSTAMP:20260425T204342
CREATED:20250211T030505Z
LAST-MODIFIED:20250211T030505Z
UID:10000465-1652400000-1652400000@nswspc.org.au
SUMMARY:Sydney: Port Jackson Regional Group Meeting
DESCRIPTION:
URL:https://nswspc.org.au/event/sydney-port-jackson-regional-group-meeting-2/
CATEGORIES:Regional meetings
END:VEVENT
BEGIN:VEVENT
DTSTART;TZID=Australia/Sydney:20220516T000000
DTEND;TZID=Australia/Sydney:20220516T000000
DTSTAMP:20260425T204342
CREATED:20250211T030506Z
LAST-MODIFIED:20250211T030506Z
UID:10000469-1652659200-1652659200@nswspc.org.au
SUMMARY:Sydney: Sutherland Shire Regional Group Meeting
DESCRIPTION:
URL:https://nswspc.org.au/event/sydney-sutherland-shire-regional-group-meeting-2/
CATEGORIES:Regional meetings
END:VEVENT
BEGIN:VEVENT
DTSTART;TZID=Australia/Sydney:20220519T000000
DTEND;TZID=Australia/Sydney:20220520T000000
DTSTAMP:20260425T204342
CREATED:20250211T030506Z
LAST-MODIFIED:20250211T030506Z
UID:10000476-1652918400-1653004800@nswspc.org.au
SUMMARY:Riverina Regional Group Meeting
DESCRIPTION:
URL:https://nswspc.org.au/event/riverina-regional-group-meeting-2/
CATEGORIES:Regional meetings
END:VEVENT
BEGIN:VEVENT
DTSTART;TZID=Australia/Sydney:20220519T000000
DTEND;TZID=Australia/Sydney:20220520T000000
DTSTAMP:20260425T204342
CREATED:20250211T030506Z
LAST-MODIFIED:20250211T030506Z
UID:10000477-1652918400-1653004800@nswspc.org.au
SUMMARY:Illawarra/South Coast Regional Group Meeting
DESCRIPTION:
URL:https://nswspc.org.au/event/illawarra-south-coast-regional-group-meeting-2/
CATEGORIES:Regional meetings
END:VEVENT
BEGIN:VEVENT
DTSTART;TZID=Australia/Sydney:20220519T000000
DTEND;TZID=Australia/Sydney:20220520T000000
DTSTAMP:20260425T204342
CREATED:20250211T030506Z
LAST-MODIFIED:20250211T030506Z
UID:10000478-1652918400-1653004800@nswspc.org.au
SUMMARY:Western NSW: Western Group Regional Meeting
DESCRIPTION:
URL:https://nswspc.org.au/event/western-nsw-western-group-regional-meeting/
CATEGORIES:Regional meetings
ORGANIZER;CN="Mary Doolan":MAILTO:Mary.Doolan@det.nsw.edu.au
END:VEVENT
BEGIN:VEVENT
DTSTART;TZID=Australia/Sydney:20220519T173000
DTEND;TZID=Australia/Sydney:20220520T140000
DTSTAMP:20260425T204342
CREATED:20250211T030506Z
LAST-MODIFIED:20250211T030506Z
UID:10000479-1652981400-1653055200@nswspc.org.au
SUMMARY:Central West Regional Meeting
DESCRIPTION:
URL:https://nswspc.org.au/event/central-west-regional-meeting-5/
CATEGORIES:Regional meetings
END:VEVENT
BEGIN:VEVENT
DTSTART;TZID=Australia/Sydney:20220520T000000
DTEND;TZID=Australia/Sydney:20220520T000000
DTSTAMP:20260425T204342
CREATED:20250211T030506Z
LAST-MODIFIED:20250211T030506Z
UID:10000480-1653004800-1653004800@nswspc.org.au
SUMMARY:Sydney: Eastern Suburbs Regional Group Meeting
DESCRIPTION:
URL:https://nswspc.org.au/event/sydney-eastern-suburbs-regional-group-meeting-2/
LOCATION:Graphic Arts Club\, 182 Coward Street\, Mascot\, NSW\, 2020\, Australia
CATEGORIES:Regional meetings
ORGANIZER;CN="Ralph David":MAILTO:ralph.david@det.nsw.edu.au
END:VEVENT
BEGIN:VEVENT
DTSTART;TZID=Australia/Sydney:20220729T000000
DTEND;TZID=Australia/Sydney:20220729T000000
DTSTAMP:20260425T204342
CREATED:20250211T030507Z
LAST-MODIFIED:20250211T030507Z
UID:10000493-1659052800-1659052800@nswspc.org.au
SUMMARY:Western Sydney Regional Group Meeting
DESCRIPTION:
URL:https://nswspc.org.au/event/western-sydney-regional-group-meeting-3/
CATEGORIES:Regional meetings
END:VEVENT
BEGIN:VEVENT
DTSTART;TZID=Australia/Sydney:20220801T000000
DTEND;TZID=Australia/Sydney:20220801T000000
DTSTAMP:20260425T204342
CREATED:20250211T030712Z
LAST-MODIFIED:20250211T030712Z
UID:10000494-1659312000-1659312000@nswspc.org.au
SUMMARY:Sydney: St George Regional Group Meeting
DESCRIPTION:
URL:https://nswspc.org.au/event/sydney-st-george-regional-group-meeting-3/
CATEGORIES:Regional meetings
END:VEVENT
BEGIN:VEVENT
DTSTART;TZID=Australia/Sydney:20220803T000000
DTEND;TZID=Australia/Sydney:20220803T000000
DTSTAMP:20260425T204342
CREATED:20250211T030713Z
LAST-MODIFIED:20250211T030713Z
UID:10000497-1659484800-1659484800@nswspc.org.au
SUMMARY:South Western Sydney Regional Group Meeting
DESCRIPTION:
URL:https://nswspc.org.au/event/south-western-sydney-regional-group-meeting-2/
CATEGORIES:Regional meetings
END:VEVENT
BEGIN:VEVENT
DTSTART;TZID=Australia/Sydney:20220804T000000
DTEND;TZID=Australia/Sydney:20220805T000000
DTSTAMP:20260425T204342
CREATED:20250211T030713Z
LAST-MODIFIED:20250211T030713Z
UID:10000498-1659571200-1659657600@nswspc.org.au
SUMMARY:Western NSW: Western Regional Group Meeting
DESCRIPTION:
URL:https://nswspc.org.au/event/western-nsw-western-regional-group-meeting-2/
CATEGORIES:Regional meetings
END:VEVENT
BEGIN:VEVENT
DTSTART;TZID=Australia/Sydney:20220805T000000
DTEND;TZID=Australia/Sydney:20220805T000000
DTSTAMP:20260425T204342
CREATED:20250211T030713Z
LAST-MODIFIED:20250211T030713Z
UID:10000502-1659657600-1659657600@nswspc.org.au
SUMMARY:Hunter Regional Group Meeting
DESCRIPTION:
URL:https://nswspc.org.au/event/hunter-regional-group-meeting-3/
CATEGORIES:Regional meetings
END:VEVENT
BEGIN:VEVENT
DTSTART;TZID=Australia/Sydney:20220805T000000
DTEND;TZID=Australia/Sydney:20220805T000000
DTSTAMP:20260425T204342
CREATED:20250211T030713Z
LAST-MODIFIED:20250211T030713Z
UID:10000503-1659657600-1659657600@nswspc.org.au
SUMMARY:Central Coast Regional Group Meeting
DESCRIPTION:
URL:https://nswspc.org.au/event/central-coast-regional-group-meeting-3/
CATEGORIES:Regional meetings
END:VEVENT
BEGIN:VEVENT
DTSTART;TZID=Australia/Sydney:20220805T000000
DTEND;TZID=Australia/Sydney:20220805T000000
DTSTAMP:20260425T204342
CREATED:20250211T030713Z
LAST-MODIFIED:20250211T030713Z
UID:10000499-1659657600-1659657600@nswspc.org.au
SUMMARY:Sydney: Port Jackson Regional Group Meeting
DESCRIPTION:
URL:https://nswspc.org.au/event/sydney-port-jackson-regional-group-meeting-3/
CATEGORIES:Regional meetings
END:VEVENT
BEGIN:VEVENT
DTSTART;TZID=Australia/Sydney:20220805T000000
DTEND;TZID=Australia/Sydney:20220805T000000
DTSTAMP:20260425T204342
CREATED:20250211T030713Z
LAST-MODIFIED:20250211T030713Z
UID:10000500-1659657600-1659657600@nswspc.org.au
SUMMARY:North Coast: North Regional Group Meeting
DESCRIPTION:
URL:https://nswspc.org.au/event/north-coast-north-regional-group-meeting-2/
CATEGORIES:Regional meetings
END:VEVENT
BEGIN:VEVENT
DTSTART;TZID=Australia/Sydney:20220805T000000
DTEND;TZID=Australia/Sydney:20220805T000000
DTSTAMP:20260425T204342
CREATED:20250211T030713Z
LAST-MODIFIED:20250211T030713Z
UID:10000501-1659657600-1659657600@nswspc.org.au
SUMMARY:North Sydney Regional Group Meeting
DESCRIPTION:
URL:https://nswspc.org.au/event/north-sydney-regional-group-meeting-3/
CATEGORIES:Regional meetings
END:VEVENT
BEGIN:VEVENT
DTSTART;TZID=Australia/Sydney:20220808T000000
DTEND;TZID=Australia/Sydney:20220808T000000
DTSTAMP:20260425T204342
CREATED:20250211T030713Z
LAST-MODIFIED:20250211T030713Z
UID:10000504-1659916800-1659916800@nswspc.org.au
SUMMARY:Sydney: Sutherland Shire Regional Group Meeting
DESCRIPTION:
URL:https://nswspc.org.au/event/sydney-sutherland-shire-regional-group-meeting-3/
CATEGORIES:Regional meetings
END:VEVENT
BEGIN:VEVENT
DTSTART;TZID=Australia/Sydney:20220811T000000
DTEND;TZID=Australia/Sydney:20220812T000000
DTSTAMP:20260425T204342
CREATED:20250211T030713Z
LAST-MODIFIED:20250211T030713Z
UID:10000510-1660176000-1660262400@nswspc.org.au
SUMMARY:Riverina Regional Group Meeting
DESCRIPTION:
URL:https://nswspc.org.au/event/riverina-regional-group-meeting-3/
CATEGORIES:Regional meetings
END:VEVENT
BEGIN:VEVENT
DTSTART;TZID=Australia/Sydney:20220811T000000
DTEND;TZID=Australia/Sydney:20220812T000000
DTSTAMP:20260425T204342
CREATED:20250211T030714Z
LAST-MODIFIED:20250211T030714Z
UID:10000511-1660176000-1660262400@nswspc.org.au
SUMMARY:Illawarra/South Coast Regional Group Meeting
DESCRIPTION:
URL:https://nswspc.org.au/event/illawarra-south-coast-regional-group-meeting-3/
CATEGORIES:Regional meetings
END:VEVENT
BEGIN:VEVENT
DTSTART;TZID=Australia/Sydney:20220811T123000
DTEND;TZID=Australia/Sydney:20220812T140000
DTSTAMP:20260425T204342
CREATED:20250211T030714Z
LAST-MODIFIED:20250211T030714Z
UID:10000512-1660221000-1660312800@nswspc.org.au
SUMMARY:New England Regional Group Meeting
DESCRIPTION:
URL:https://nswspc.org.au/event/new-england-regional-group-meeting-3/
CATEGORIES:Regional meetings
END:VEVENT
BEGIN:VEVENT
DTSTART;TZID=Australia/Sydney:20220811T180000
DTEND;TZID=Australia/Sydney:20220812T140000
DTSTAMP:20260425T204342
CREATED:20250211T030714Z
LAST-MODIFIED:20250211T030714Z
UID:10000513-1660240800-1660312800@nswspc.org.au
SUMMARY:Central West Regional Meeting
DESCRIPTION:
URL:https://nswspc.org.au/event/central-west-regional-meeting-6/
CATEGORIES:Regional meetings
END:VEVENT
BEGIN:VEVENT
DTSTART;TZID=Australia/Sydney:20220819T123000
DTEND;TZID=Australia/Sydney:20220819T153000
DTSTAMP:20260425T204342
CREATED:20250211T030714Z
LAST-MODIFIED:20250211T030714Z
UID:10000516-1660912200-1660923000@nswspc.org.au
SUMMARY:Sydney: Eastern Suburbs Regional Group Meeting
DESCRIPTION:
URL:https://nswspc.org.au/event/sydney-eastern-suburbs-regional-group-meeting-3/
LOCATION:Graphic Arts Club\, 182 Coward Street\, Mascot\, NSW\, 2020\, Australia
CATEGORIES:Regional meetings
ORGANIZER;CN="Ralph David":MAILTO:ralph.david@det.nsw.edu.au
END:VEVENT
BEGIN:VEVENT
DTSTART;TZID=Australia/Sydney:20220909T000000
DTEND;TZID=Australia/Sydney:20220909T000000
DTSTAMP:20260425T204342
CREATED:20250211T030715Z
LAST-MODIFIED:20250211T030715Z
UID:10000526-1662681600-1662681600@nswspc.org.au
SUMMARY:Central Coast Regional Group Meeting
DESCRIPTION:
URL:https://nswspc.org.au/event/central-coast-regional-group-meeting-4/
CATEGORIES:Regional meetings
END:VEVENT
BEGIN:VEVENT
DTSTART;TZID=Australia/Sydney:20221017T000000
DTEND;TZID=Australia/Sydney:20221017T000000
DTSTAMP:20260425T204342
CREATED:20250211T030715Z
LAST-MODIFIED:20250211T030715Z
UID:10000534-1665964800-1665964800@nswspc.org.au
SUMMARY:Sydney: St George Regional Group Meeting
DESCRIPTION:
URL:https://nswspc.org.au/event/sydney-st-george-regional-group-meeting-4/
CATEGORIES:Regional meetings
END:VEVENT
BEGIN:VEVENT
DTSTART;TZID=Australia/Sydney:20221021T000000
DTEND;TZID=Australia/Sydney:20221021T000000
DTSTAMP:20260425T204342
CREATED:20250211T030715Z
LAST-MODIFIED:20250211T030715Z
UID:10000536-1666310400-1666310400@nswspc.org.au
SUMMARY:Western Sydney Regional Group Meeting
DESCRIPTION:
URL:https://nswspc.org.au/event/western-sydney-regional-group-meeting-4/
CATEGORIES:Regional meetings
END:VEVENT
BEGIN:VEVENT
DTSTART;TZID=Australia/Sydney:20221025T000000
DTEND;TZID=Australia/Sydney:20221025T000000
DTSTAMP:20260425T204342
CREATED:20250211T030716Z
LAST-MODIFIED:20250211T030716Z
UID:10000538-1666656000-1666656000@nswspc.org.au
SUMMARY:Hunter Regional Group Meeting
DESCRIPTION:
URL:https://nswspc.org.au/event/hunter-regional-group-meeting-4/
CATEGORIES:Regional meetings
END:VEVENT
BEGIN:VEVENT
DTSTART;TZID=Australia/Sydney:20221026T000000
DTEND;TZID=Australia/Sydney:20221026T000000
DTSTAMP:20260425T204342
CREATED:20250211T030716Z
LAST-MODIFIED:20250211T030716Z
UID:10000539-1666742400-1666742400@nswspc.org.au
SUMMARY:South Western Sydney Regional Group Meeting
DESCRIPTION:
URL:https://nswspc.org.au/event/south-western-sydney-regional-group-meeting-3/
CATEGORIES:Regional meetings
ORGANIZER;CN="Kylie Hedger":MAILTO:KYLIE.HEDGER@det.nsw.edu.au
END:VEVENT
BEGIN:VEVENT
DTSTART;TZID=Australia/Sydney:20221027T000000
DTEND;TZID=Australia/Sydney:20221028T000000
DTSTAMP:20260425T204342
CREATED:20250211T030716Z
LAST-MODIFIED:20250211T030716Z
UID:10000540-1666828800-1666915200@nswspc.org.au
SUMMARY:Western NSW: Western Regional Group Meeting
DESCRIPTION:
URL:https://nswspc.org.au/event/western-nsw-western-regional-group-meeting-3/
CATEGORIES:Regional meetings
END:VEVENT
BEGIN:VEVENT
DTSTART;TZID=Australia/Sydney:20221028T000000
DTEND;TZID=Australia/Sydney:20221028T000000
DTSTAMP:20260425T204342
CREATED:20250211T030716Z
LAST-MODIFIED:20250211T030716Z
UID:10000543-1666915200-1666915200@nswspc.org.au
SUMMARY:Central Coast Regional Group Meeting
DESCRIPTION:
URL:https://nswspc.org.au/event/central-coast-regional-group-meeting-5/
CATEGORIES:Regional meetings
END:VEVENT
BEGIN:VEVENT
DTSTART;TZID=Australia/Sydney:20221028T000000
DTEND;TZID=Australia/Sydney:20221028T000000
DTSTAMP:20260425T204342
CREATED:20250211T030716Z
LAST-MODIFIED:20250211T030716Z
UID:10000541-1666915200-1666915200@nswspc.org.au
SUMMARY:Sydney: Port Jackson Regional Group Meeting
DESCRIPTION:
URL:https://nswspc.org.au/event/sydney-port-jackson-regional-group-meeting-4/
CATEGORIES:Regional meetings
END:VEVENT
END:VCALENDAR