BEGIN:VCALENDAR
VERSION:2.0
PRODID:-//New South Wales Secondary Principals&#039; Council - ECPv6.15.5//NONSGML v1.0//EN
CALSCALE:GREGORIAN
METHOD:PUBLISH
X-WR-CALNAME:New South Wales Secondary Principals&#039; Council
X-ORIGINAL-URL:https://nswspc.org.au
X-WR-CALDESC:Events for New South Wales Secondary Principals&#039; Council
REFRESH-INTERVAL;VALUE=DURATION:PT1H
X-Robots-Tag:noindex
X-PUBLISHED-TTL:PT1H
BEGIN:VTIMEZONE
TZID:Australia/Sydney
BEGIN:STANDARD
TZOFFSETFROM:+1100
TZOFFSETTO:+1000
TZNAME:AEST
DTSTART:20210403T160000
END:STANDARD
BEGIN:DAYLIGHT
TZOFFSETFROM:+1000
TZOFFSETTO:+1100
TZNAME:AEDT
DTSTART:20211002T160000
END:DAYLIGHT
BEGIN:STANDARD
TZOFFSETFROM:+1100
TZOFFSETTO:+1000
TZNAME:AEST
DTSTART:20220402T160000
END:STANDARD
BEGIN:DAYLIGHT
TZOFFSETFROM:+1000
TZOFFSETTO:+1100
TZNAME:AEDT
DTSTART:20221001T160000
END:DAYLIGHT
END:VTIMEZONE
BEGIN:VEVENT
DTSTART;TZID=Australia/Sydney:20211022T080000
DTEND;TZID=Australia/Sydney:20211022T170000
DTSTAMP:20260425T235029
CREATED:20250211T013939Z
LAST-MODIFIED:20250211T013939Z
UID:10000401-1634889600-1634922000@nswspc.org.au
SUMMARY:North Sydney Regional Meeting
DESCRIPTION:
URL:https://nswspc.org.au/event/north-sydney-regional-meeting-3/
CATEGORIES:Regional meetings
END:VEVENT
BEGIN:VEVENT
DTSTART;TZID=Australia/Sydney:20211022T080000
DTEND;TZID=Australia/Sydney:20211022T170000
DTSTAMP:20260425T235029
CREATED:20250211T013939Z
LAST-MODIFIED:20250211T013939Z
UID:10000402-1634889600-1634922000@nswspc.org.au
SUMMARY:Sydney / Port Jackson Regional Meeting
DESCRIPTION:
URL:https://nswspc.org.au/event/sydney-port-jackson-regional-meeting-3/
CATEGORIES:Regional meetings
END:VEVENT
BEGIN:VEVENT
DTSTART;TZID=Australia/Sydney:20211025T080000
DTEND;TZID=Australia/Sydney:20211025T170000
DTSTAMP:20260425T235029
CREATED:20250211T013939Z
LAST-MODIFIED:20250211T013939Z
UID:10000403-1635148800-1635181200@nswspc.org.au
SUMMARY:Sutherland Shire Regional Meeting
DESCRIPTION:
URL:https://nswspc.org.au/event/sutherland-shire-regional-meeting-3/
CATEGORIES:Regional meetings
END:VEVENT
BEGIN:VEVENT
DTSTART;TZID=Australia/Sydney:20211028T080000
DTEND;TZID=Australia/Sydney:20211029T170000
DTSTAMP:20260425T235029
CREATED:20250211T013940Z
LAST-MODIFIED:20250211T013940Z
UID:10000405-1635408000-1635526800@nswspc.org.au
SUMMARY:North Coast Regional Meeting
DESCRIPTION:
URL:https://nswspc.org.au/event/north-coast-regional-meeting-3/
CATEGORIES:Regional meetings
END:VEVENT
BEGIN:VEVENT
DTSTART;TZID=Australia/Sydney:20211028T080000
DTEND;TZID=Australia/Sydney:20211029T170000
DTSTAMP:20260425T235029
CREATED:20250211T013940Z
LAST-MODIFIED:20250211T013940Z
UID:10000406-1635408000-1635526800@nswspc.org.au
SUMMARY:Central West Regional Meeting
DESCRIPTION:
URL:https://nswspc.org.au/event/central-west-regional-meeting-3/
CATEGORIES:Regional meetings
END:VEVENT
BEGIN:VEVENT
DTSTART;TZID=Australia/Sydney:20211028T080000
DTEND;TZID=Australia/Sydney:20211029T170000
DTSTAMP:20260425T235029
CREATED:20250211T013940Z
LAST-MODIFIED:20250211T013940Z
UID:10000407-1635408000-1635526800@nswspc.org.au
SUMMARY:Illawarra/South Coast Regional Meeting
DESCRIPTION:
URL:https://nswspc.org.au/event/illawarra-south-coast-regional-meeting-3/
CATEGORIES:Regional meetings
END:VEVENT
BEGIN:VEVENT
DTSTART;TZID=Australia/Sydney:20211029T080000
DTEND;TZID=Australia/Sydney:20211029T170000
DTSTAMP:20260425T235029
CREATED:20250211T013940Z
LAST-MODIFIED:20250211T013940Z
UID:10000408-1635494400-1635526800@nswspc.org.au
SUMMARY:Riverina Regional Meeting
DESCRIPTION:
URL:https://nswspc.org.au/event/riverina-regional-meeting-3/
CATEGORIES:Regional meetings
END:VEVENT
BEGIN:VEVENT
DTSTART;TZID=Australia/Sydney:20211029T080000
DTEND;TZID=Australia/Sydney:20211029T170000
DTSTAMP:20260425T235029
CREATED:20250211T013940Z
LAST-MODIFIED:20250211T013940Z
UID:10000409-1635494400-1635526800@nswspc.org.au
SUMMARY:Sydney / Eastern Suburbs Regional Meeting
DESCRIPTION:
URL:https://nswspc.org.au/event/sydney-eastern-suburbs-regional-meeting-3/
CATEGORIES:Regional meetings
END:VEVENT
BEGIN:VEVENT
DTSTART;TZID=Australia/Sydney:20211104T080000
DTEND;TZID=Australia/Sydney:20211105T170000
DTSTAMP:20260425T235029
CREATED:20250211T014318Z
LAST-MODIFIED:20250211T014318Z
UID:10000412-1636012800-1636131600@nswspc.org.au
SUMMARY:New England Regional Meeting
DESCRIPTION:
URL:https://nswspc.org.au/event/new-england-regional-meeting-4/
CATEGORIES:Regional meetings
END:VEVENT
BEGIN:VEVENT
DTSTART;TZID=Australia/Sydney:20211119T080000
DTEND;TZID=Australia/Sydney:20211119T170000
DTSTAMP:20260425T235029
CREATED:20250211T014318Z
LAST-MODIFIED:20250211T014318Z
UID:10000418-1637308800-1637341200@nswspc.org.au
SUMMARY:Central Coast Regional Meetings
DESCRIPTION:
URL:https://nswspc.org.au/event/central-coast-regional-meetings-2/
CATEGORIES:Regional meetings
END:VEVENT
BEGIN:VEVENT
DTSTART;TZID=Australia/Sydney:20220211T000000
DTEND;TZID=Australia/Sydney:20220211T000000
DTSTAMP:20260425T235029
CREATED:20250211T014357Z
LAST-MODIFIED:20250211T014357Z
UID:10000426-1644537600-1644537600@nswspc.org.au
SUMMARY:Western Sydney Regional Group Meeting
DESCRIPTION:
URL:https://nswspc.org.au/event/western-sydney-regional-group-meeting/
CATEGORIES:Regional meetings
END:VEVENT
BEGIN:VEVENT
DTSTART;TZID=Australia/Sydney:20220211T000000
DTEND;TZID=Australia/Sydney:20220211T000000
DTSTAMP:20260425T235029
CREATED:20250211T014357Z
LAST-MODIFIED:20250211T014357Z
UID:10000427-1644537600-1644537600@nswspc.org.au
SUMMARY:North Sydney Regional Group Meeting
DESCRIPTION:
URL:https://nswspc.org.au/event/north-sydney-regional-group-meeting/
CATEGORIES:Regional meetings
END:VEVENT
BEGIN:VEVENT
DTSTART;TZID=Australia/Sydney:20220211T000000
DTEND;TZID=Australia/Sydney:20220211T000000
DTSTAMP:20260425T235029
CREATED:20250211T014357Z
LAST-MODIFIED:20250211T014357Z
UID:10000425-1644537600-1644537600@nswspc.org.au
SUMMARY:Sydney: Port Jackson Regional Group Meeting
DESCRIPTION:
URL:https://nswspc.org.au/event/sydney-port-jackson-regional-group-meeting/
CATEGORIES:Regional meetings
END:VEVENT
BEGIN:VEVENT
DTSTART;TZID=Australia/Sydney:20220214T000000
DTEND;TZID=Australia/Sydney:20220214T000000
DTSTAMP:20260425T235029
CREATED:20250211T014357Z
LAST-MODIFIED:20250211T014357Z
UID:10000428-1644796800-1644796800@nswspc.org.au
SUMMARY:Sydney: Sutherland Shire Regional Group Meeting
DESCRIPTION:
URL:https://nswspc.org.au/event/sydney-sutherland-shire-regional-group-meeting/
CATEGORIES:Regional meetings
END:VEVENT
BEGIN:VEVENT
DTSTART;TZID=Australia/Sydney:20220214T000000
DTEND;TZID=Australia/Sydney:20220214T000000
DTSTAMP:20260425T235029
CREATED:20250211T014357Z
LAST-MODIFIED:20250211T014357Z
UID:10000429-1644796800-1644796800@nswspc.org.au
SUMMARY:Sydney: St George Regional Group Meeting
DESCRIPTION:
URL:https://nswspc.org.au/event/sydney-st-george-regional-group-meeting/
CATEGORIES:Regional meetings
END:VEVENT
BEGIN:VEVENT
DTSTART;TZID=Australia/Sydney:20220216T000000
DTEND;TZID=Australia/Sydney:20220216T000000
DTSTAMP:20260425T235029
CREATED:20250211T014358Z
LAST-MODIFIED:20250211T014358Z
UID:10000434-1644969600-1644969600@nswspc.org.au
SUMMARY:South Western Sydney Regional Group Meeting
DESCRIPTION:
URL:https://nswspc.org.au/event/south-western-sydney-regional-group-meeting/
CATEGORIES:Regional meetings
END:VEVENT
BEGIN:VEVENT
DTSTART;TZID=Australia/Sydney:20220217T173000
DTEND;TZID=Australia/Sydney:20220218T140000
DTSTAMP:20260425T235029
CREATED:20250211T014358Z
LAST-MODIFIED:20250211T014358Z
UID:10000435-1645119000-1645192800@nswspc.org.au
SUMMARY:Central West Regional Meeting
DESCRIPTION:
URL:https://nswspc.org.au/event/central-west-regional-meeting-4/
CATEGORIES:Regional meetings
END:VEVENT
BEGIN:VEVENT
DTSTART;TZID=Australia/Sydney:20220218T000000
DTEND;TZID=Australia/Sydney:20220218T000000
DTSTAMP:20260425T235029
CREATED:20250211T014358Z
LAST-MODIFIED:20250211T014358Z
UID:10000436-1645142400-1645142400@nswspc.org.au
SUMMARY:Hunter Regional Group Meeting
DESCRIPTION:
URL:https://nswspc.org.au/event/hunter-regional-group-meeting/
CATEGORIES:Regional meetings
END:VEVENT
BEGIN:VEVENT
DTSTART;TZID=Australia/Sydney:20220218T000000
DTEND;TZID=Australia/Sydney:20220218T000000
DTSTAMP:20260425T235030
CREATED:20250211T014358Z
LAST-MODIFIED:20250211T014358Z
UID:10000437-1645142400-1645142400@nswspc.org.au
SUMMARY:Central Coast Regional Group Meeting
DESCRIPTION:
URL:https://nswspc.org.au/event/central-coast-regional-group-meeting/
CATEGORIES:Regional meetings
END:VEVENT
BEGIN:VEVENT
DTSTART;TZID=Australia/Sydney:20220224T000000
DTEND;TZID=Australia/Sydney:20220224T000000
DTSTAMP:20260425T235030
CREATED:20250211T014358Z
LAST-MODIFIED:20250211T014358Z
UID:10000440-1645660800-1645660800@nswspc.org.au
SUMMARY:Western NSW: Western Regional Group Meeting
DESCRIPTION:
URL:https://nswspc.org.au/event/western-nsw-western-regional-group-meeting/
CATEGORIES:Regional meetings
END:VEVENT
BEGIN:VEVENT
DTSTART;TZID=Australia/Sydney:20220224T000000
DTEND;TZID=Australia/Sydney:20220225T000000
DTSTAMP:20260425T235030
CREATED:20250211T014358Z
LAST-MODIFIED:20250211T014358Z
UID:10000441-1645660800-1645747200@nswspc.org.au
SUMMARY:Illawarra/South Coast Regional Group Meeting
DESCRIPTION:
URL:https://nswspc.org.au/event/illawarra-south-coast-regional-group-meeting/
CATEGORIES:Regional meetings
END:VEVENT
BEGIN:VEVENT
DTSTART;TZID=Australia/Sydney:20220224T080000
DTEND;TZID=Australia/Sydney:20220225T170000
DTSTAMP:20260425T235030
CREATED:20250211T014358Z
LAST-MODIFIED:20250211T014358Z
UID:10000442-1645689600-1645808400@nswspc.org.au
SUMMARY:Riverina Regional Group Meeting
DESCRIPTION:
URL:https://nswspc.org.au/event/riverina-regional-group-meeting/
CATEGORIES:Regional meetings
END:VEVENT
BEGIN:VEVENT
DTSTART;TZID=Australia/Sydney:20220224T130000
DTEND;TZID=Australia/Sydney:20220224T150000
DTSTAMP:20260425T235030
CREATED:20250211T014358Z
LAST-MODIFIED:20250211T014358Z
UID:10000443-1645707600-1645714800@nswspc.org.au
SUMMARY:New England Regional Group Meeting
DESCRIPTION:
URL:https://nswspc.org.au/event/new-england-regional-group-meeting/
CATEGORIES:Regional meetings
END:VEVENT
BEGIN:VEVENT
DTSTART;TZID=Australia/Sydney:20220225T000000
DTEND;TZID=Australia/Sydney:20220225T000000
DTSTAMP:20260425T235030
CREATED:20250211T014358Z
LAST-MODIFIED:20250211T014358Z
UID:10000444-1645747200-1645747200@nswspc.org.au
SUMMARY:North Coast Regional Group Meeting
DESCRIPTION:
URL:https://nswspc.org.au/event/north-coast-regional-group-meeting/
CATEGORIES:Regional meetings
END:VEVENT
BEGIN:VEVENT
DTSTART;TZID=Australia/Sydney:20220304T123000
DTEND;TZID=Australia/Sydney:20220304T153000
DTSTAMP:20260425T235030
CREATED:20250211T014359Z
LAST-MODIFIED:20250211T014359Z
UID:10000448-1646397000-1646407800@nswspc.org.au
SUMMARY:Sydney: Eastern Suburbs Regional Group Meeting
DESCRIPTION:
URL:https://nswspc.org.au/event/sydney-eastern-suburbs-regional-group-meeting/
LOCATION:Graphic Arts Club\, 182 Coward Street\, Mascot\, NSW\, 2020\, Australia
CATEGORIES:Regional meetings
ORGANIZER;CN="Ralph David":MAILTO:ralph.david@det.nsw.edu.au
END:VEVENT
BEGIN:VEVENT
DTSTART;TZID=Australia/Sydney:20220318T000000
DTEND;TZID=Australia/Sydney:20220318T000000
DTSTAMP:20260425T235030
CREATED:20250211T014359Z
LAST-MODIFIED:20250211T014359Z
UID:10000455-1647561600-1647561600@nswspc.org.au
SUMMARY:Central Coast Regional Group Meeting
DESCRIPTION:
URL:https://nswspc.org.au/event/central-coast-regional-group-meeting-2/
CATEGORIES:Regional meetings
END:VEVENT
BEGIN:VEVENT
DTSTART;TZID=Australia/Sydney:20220506T000000
DTEND;TZID=Australia/Sydney:20220506T000000
DTSTAMP:20260425T235030
CREATED:20250211T030505Z
LAST-MODIFIED:20250211T030505Z
UID:10000460-1651795200-1651795200@nswspc.org.au
SUMMARY:Western Sydney Regional Group Meeting
DESCRIPTION:
URL:https://nswspc.org.au/event/western-sydney-regional-group-meeting-2/
CATEGORIES:Regional meetings
END:VEVENT
BEGIN:VEVENT
DTSTART;TZID=Australia/Sydney:20220509T000000
DTEND;TZID=Australia/Sydney:20220509T000000
DTSTAMP:20260425T235030
CREATED:20250211T030505Z
LAST-MODIFIED:20250211T030505Z
UID:10000461-1652054400-1652054400@nswspc.org.au
SUMMARY:Sydney: St George Regional Group Meeting
DESCRIPTION:
URL:https://nswspc.org.au/event/sydney-st-george-regional-group-meeting-2/
CATEGORIES:Regional meetings
END:VEVENT
BEGIN:VEVENT
DTSTART;TZID=Australia/Sydney:20220511T000000
DTEND;TZID=Australia/Sydney:20220511T000000
DTSTAMP:20260425T235030
CREATED:20250211T030505Z
LAST-MODIFIED:20250211T030505Z
UID:10000463-1652227200-1652227200@nswspc.org.au
SUMMARY:South Western Sydney Regional Group
DESCRIPTION:
URL:https://nswspc.org.au/event/south-western-sydney-regional-group/
CATEGORIES:Regional meetings
END:VEVENT
BEGIN:VEVENT
DTSTART;TZID=Australia/Sydney:20220512T123000
DTEND;TZID=Australia/Sydney:20220513T140000
DTSTAMP:20260425T235030
CREATED:20250211T030505Z
LAST-MODIFIED:20250211T030505Z
UID:10000464-1652358600-1652450400@nswspc.org.au
SUMMARY:New England Regional Group Meeting
DESCRIPTION:
URL:https://nswspc.org.au/event/new-england-regional-group-meeting-2/
CATEGORIES:Regional meetings
END:VEVENT
END:VCALENDAR