BEGIN:VCALENDAR
VERSION:2.0
PRODID:-//New South Wales Secondary Principals&#039; Council - ECPv6.15.5//NONSGML v1.0//EN
CALSCALE:GREGORIAN
METHOD:PUBLISH
X-WR-CALNAME:New South Wales Secondary Principals&#039; Council
X-ORIGINAL-URL:https://nswspc.org.au
X-WR-CALDESC:Events for New South Wales Secondary Principals&#039; Council
REFRESH-INTERVAL;VALUE=DURATION:PT1H
X-Robots-Tag:noindex
X-PUBLISHED-TTL:PT1H
BEGIN:VTIMEZONE
TZID:Australia/Adelaide
BEGIN:STANDARD
TZOFFSETFROM:+1030
TZOFFSETTO:+0930
TZNAME:ACST
DTSTART:20260404T163000
END:STANDARD
BEGIN:DAYLIGHT
TZOFFSETFROM:+0930
TZOFFSETTO:+1030
TZNAME:ACDT
DTSTART:20261003T163000
END:DAYLIGHT
END:VTIMEZONE
BEGIN:VEVENT
DTSTART;TZID=Australia/Adelaide:20260514T083000
DTEND;TZID=Australia/Adelaide:20260515T150000
DTSTAMP:20260425T043926
CREATED:20251015T033005Z
LAST-MODIFIED:20251015T033005Z
UID:10000971-1778747400-1778857200@nswspc.org.au
SUMMARY:New England Regional Meeting
DESCRIPTION:
URL:https://nswspc.org.au/event/new-england-regional-meeting-9/
CATEGORIES:Regional meetings
END:VEVENT
BEGIN:VEVENT
DTSTART;TZID=Australia/Adelaide:20260515T083000
DTEND;TZID=Australia/Adelaide:20260515T153000
DTSTAMP:20260425T043926
CREATED:20251015T033052Z
LAST-MODIFIED:20251015T033052Z
UID:10000972-1778833800-1778859000@nswspc.org.au
SUMMARY:Illawarra and South East Regional Meeting
DESCRIPTION:
URL:https://nswspc.org.au/event/illawarra-and-south-east-regional-meeting-2/
CATEGORIES:Regional meetings
ORGANIZER;CN="Catherine Glover":MAILTO:catherine.glover@det.nsw.edu.au
END:VEVENT
BEGIN:VEVENT
DTSTART;TZID=Australia/Adelaide:20260515T120000
DTEND;TZID=Australia/Adelaide:20260515T170000
DTSTAMP:20260425T043926
CREATED:20251126T000926Z
LAST-MODIFIED:20260310T014821Z
UID:10001065-1778846400-1778864400@nswspc.org.au
SUMMARY:Eastern Suburbs and Port Jackson RG
DESCRIPTION:
URL:https://nswspc.org.au/event/eastern-suburbs-and-port-jackson-rg/
LOCATION:Julie Ross
CATEGORIES:Regional meetings
END:VEVENT
END:VCALENDAR