BEGIN:VCALENDAR
VERSION:2.0
PRODID:-//New South Wales Secondary Principals&#039; Council - ECPv6.15.5//NONSGML v1.0//EN
CALSCALE:GREGORIAN
METHOD:PUBLISH
X-WR-CALNAME:New South Wales Secondary Principals&#039; Council
X-ORIGINAL-URL:https://nswspc.org.au
X-WR-CALDESC:Events for New South Wales Secondary Principals&#039; Council
REFRESH-INTERVAL;VALUE=DURATION:PT1H
X-Robots-Tag:noindex
X-PUBLISHED-TTL:PT1H
BEGIN:VTIMEZONE
TZID:Australia/Sydney
BEGIN:STANDARD
TZOFFSETFROM:+1100
TZOFFSETTO:+1000
TZNAME:AEST
DTSTART:20250405T160000
END:STANDARD
BEGIN:DAYLIGHT
TZOFFSETFROM:+1000
TZOFFSETTO:+1100
TZNAME:AEDT
DTSTART:20251004T160000
END:DAYLIGHT
END:VTIMEZONE
BEGIN:VEVENT
DTSTART;TZID=Australia/Sydney:20250509T080000
DTEND;TZID=Australia/Sydney:20250509T170000
DTSTAMP:20260425T234532
CREATED:20250211T031630Z
LAST-MODIFIED:20250211T031630Z
UID:10000859-1746777600-1746810000@nswspc.org.au
SUMMARY:Western Sydney Regional Meeting
DESCRIPTION:
URL:https://nswspc.org.au/event/western-sydney-regional-meeting-4/
CATEGORIES:Regional meetings
END:VEVENT
BEGIN:VEVENT
DTSTART;TZID=Australia/Sydney:20250512T083000
DTEND;TZID=Australia/Sydney:20250512T153000
DTSTAMP:20260425T234532
CREATED:20250211T031630Z
LAST-MODIFIED:20250211T031630Z
UID:10000860-1747038600-1747063800@nswspc.org.au
SUMMARY:St George Regional Group Meeting
DESCRIPTION:
URL:https://nswspc.org.au/event/st-george-regional-group-meeting-4/
CATEGORIES:Regional meetings
END:VEVENT
BEGIN:VEVENT
DTSTART;TZID=Australia/Sydney:20250514T083000
DTEND;TZID=Australia/Sydney:20250514T153000
DTSTAMP:20260425T234532
CREATED:20250211T031630Z
LAST-MODIFIED:20250211T031630Z
UID:10000862-1747211400-1747236600@nswspc.org.au
SUMMARY:South Western Sydney Regional Group Meeting
DESCRIPTION:
URL:https://nswspc.org.au/event/south-western-sydney-regional-group-meeting-8/
LOCATION:Liverpool Catholic Club\, 424 - 458 Hoxton Park Road\, Prestons\, NSW\, 2170
CATEGORIES:Regional meetings
ORGANIZER;CN="Kylie Hedger":MAILTO:KYLIE.HEDGER@det.nsw.edu.au
END:VEVENT
BEGIN:VEVENT
DTSTART;TZID=Australia/Sydney:20250515T083000
DTEND;TZID=Australia/Sydney:20250516T153000
DTSTAMP:20260425T234532
CREATED:20250211T031630Z
LAST-MODIFIED:20250211T031630Z
UID:10000863-1747297800-1747409400@nswspc.org.au
SUMMARY:Western Regional Group Meeting
DESCRIPTION:
URL:https://nswspc.org.au/event/western-regional-group-meeting-3/
CATEGORIES:Ref. & Int. Group meetings,Regional meetings
END:VEVENT
BEGIN:VEVENT
DTSTART;TZID=Australia/Sydney:20250516T080000
DTEND;TZID=Australia/Sydney:20250516T170000
DTSTAMP:20260425T234532
CREATED:20250211T031630Z
LAST-MODIFIED:20250211T031630Z
UID:10000864-1747382400-1747414800@nswspc.org.au
SUMMARY:Hunter Regional Meeting
DESCRIPTION:
URL:https://nswspc.org.au/event/hunter-regional-meeting-3/
CATEGORIES:Regional meetings
END:VEVENT
BEGIN:VEVENT
DTSTART;TZID=Australia/Sydney:20250516T080000
DTEND;TZID=Australia/Sydney:20250516T170000
DTSTAMP:20260425T234532
CREATED:20250211T031630Z
LAST-MODIFIED:20250211T031630Z
UID:10000865-1747382400-1747414800@nswspc.org.au
SUMMARY:Central Coast Regional Meeting
DESCRIPTION:
URL:https://nswspc.org.au/event/central-coast-regional-meeting-7/
CATEGORIES:Regional meetings
END:VEVENT
BEGIN:VEVENT
DTSTART;TZID=Australia/Sydney:20250516T080000
DTEND;TZID=Australia/Sydney:20250516T170000
DTSTAMP:20260425T234532
CREATED:20250211T031630Z
LAST-MODIFIED:20250211T031630Z
UID:10000866-1747382400-1747414800@nswspc.org.au
SUMMARY:Northern Sydney Regional Meeting
DESCRIPTION:
URL:https://nswspc.org.au/event/northern-sydney-regional-meeting-2/
CATEGORIES:Regional meetings
END:VEVENT
BEGIN:VEVENT
DTSTART;TZID=Australia/Sydney:20250519T083000
DTEND;TZID=Australia/Sydney:20250519T153000
DTSTAMP:20260425T234532
CREATED:20250211T031630Z
LAST-MODIFIED:20250211T031630Z
UID:10000868-1747643400-1747668600@nswspc.org.au
SUMMARY:Sutherland Regional Meeting
DESCRIPTION:
URL:https://nswspc.org.au/event/sutherland-regional-meeting-2/
CATEGORIES:Regional meetings
END:VEVENT
BEGIN:VEVENT
DTSTART;TZID=Australia/Sydney:20250522T083000
DTEND;TZID=Australia/Sydney:20250523T153000
DTSTAMP:20260425T234532
CREATED:20250211T031631Z
LAST-MODIFIED:20250211T031631Z
UID:10000874-1747902600-1748014200@nswspc.org.au
SUMMARY:Illawarra and South East Regional Group Meeting
DESCRIPTION:
URL:https://nswspc.org.au/event/illawarra-and-south-east-regional-group-meeting-2/
LOCATION:Karabar High School
CATEGORIES:Regional meetings
ORGANIZER;CN="Catherine Glover":MAILTO:catherine.glover@det.nsw.edu.au
END:VEVENT
BEGIN:VEVENT
DTSTART;TZID=Australia/Sydney:20250522T150000
DTEND;TZID=Australia/Sydney:20250522T170000
DTSTAMP:20260425T234532
CREATED:20250211T031631Z
LAST-MODIFIED:20250211T031631Z
UID:10000876-1747926000-1747933200@nswspc.org.au
SUMMARY:Central West Regional Meeting
DESCRIPTION:
URL:https://nswspc.org.au/event/central-west-regional-meeting-10/
CATEGORIES:Regional meetings
END:VEVENT
BEGIN:VEVENT
DTSTART;TZID=Australia/Sydney:20250523T083000
DTEND;TZID=Australia/Sydney:20250523T153000
DTSTAMP:20260425T234532
CREATED:20250211T031631Z
LAST-MODIFIED:20250211T031631Z
UID:10000877-1747989000-1748014200@nswspc.org.au
SUMMARY:Riverina Regional Group Meeting
DESCRIPTION:
URL:https://nswspc.org.au/event/riverina-regional-group-meeting-9/
CATEGORIES:Regional meetings
END:VEVENT
BEGIN:VEVENT
DTSTART;TZID=Australia/Sydney:20250523T090000
DTEND;TZID=Australia/Sydney:20250523T130000
DTSTAMP:20260425T234532
CREATED:20250211T031631Z
LAST-MODIFIED:20250211T031631Z
UID:10000878-1747990800-1748005200@nswspc.org.au
SUMMARY:Central West Regional Meeting
DESCRIPTION:
URL:https://nswspc.org.au/event/central-west-regional-meeting-11/
CATEGORIES:Regional meetings
END:VEVENT
END:VCALENDAR