BEGIN:VCALENDAR
VERSION:2.0
PRODID:-//New South Wales Secondary Principals&#039; Council - ECPv6.15.5//NONSGML v1.0//EN
CALSCALE:GREGORIAN
METHOD:PUBLISH
X-WR-CALNAME:New South Wales Secondary Principals&#039; Council
X-ORIGINAL-URL:https://nswspc.org.au
X-WR-CALDESC:Events for New South Wales Secondary Principals&#039; Council
REFRESH-INTERVAL;VALUE=DURATION:PT1H
X-Robots-Tag:noindex
X-PUBLISHED-TTL:PT1H
BEGIN:VTIMEZONE
TZID:Australia/Sydney
BEGIN:STANDARD
TZOFFSETFROM:+1100
TZOFFSETTO:+1000
TZNAME:AEST
DTSTART:20170401T160000
END:STANDARD
BEGIN:DAYLIGHT
TZOFFSETFROM:+1000
TZOFFSETTO:+1100
TZNAME:AEDT
DTSTART:20170930T160000
END:DAYLIGHT
BEGIN:STANDARD
TZOFFSETFROM:+1100
TZOFFSETTO:+1000
TZNAME:AEST
DTSTART:20180331T160000
END:STANDARD
BEGIN:DAYLIGHT
TZOFFSETFROM:+1000
TZOFFSETTO:+1100
TZNAME:AEDT
DTSTART:20181006T160000
END:DAYLIGHT
BEGIN:STANDARD
TZOFFSETFROM:+1100
TZOFFSETTO:+1000
TZNAME:AEST
DTSTART:20190406T160000
END:STANDARD
BEGIN:DAYLIGHT
TZOFFSETFROM:+1000
TZOFFSETTO:+1100
TZNAME:AEDT
DTSTART:20191005T160000
END:DAYLIGHT
BEGIN:STANDARD
TZOFFSETFROM:+1100
TZOFFSETTO:+1000
TZNAME:AEST
DTSTART:20200404T160000
END:STANDARD
BEGIN:DAYLIGHT
TZOFFSETFROM:+1000
TZOFFSETTO:+1100
TZNAME:AEDT
DTSTART:20201003T160000
END:DAYLIGHT
BEGIN:STANDARD
TZOFFSETFROM:+1100
TZOFFSETTO:+1000
TZNAME:AEST
DTSTART:20210403T160000
END:STANDARD
BEGIN:DAYLIGHT
TZOFFSETFROM:+1000
TZOFFSETTO:+1100
TZNAME:AEDT
DTSTART:20211002T160000
END:DAYLIGHT
BEGIN:STANDARD
TZOFFSETFROM:+1100
TZOFFSETTO:+1000
TZNAME:AEST
DTSTART:20220402T160000
END:STANDARD
BEGIN:DAYLIGHT
TZOFFSETFROM:+1000
TZOFFSETTO:+1100
TZNAME:AEDT
DTSTART:20221001T160000
END:DAYLIGHT
BEGIN:STANDARD
TZOFFSETFROM:+1100
TZOFFSETTO:+1000
TZNAME:AEST
DTSTART:20230401T160000
END:STANDARD
BEGIN:DAYLIGHT
TZOFFSETFROM:+1000
TZOFFSETTO:+1100
TZNAME:AEDT
DTSTART:20230930T160000
END:DAYLIGHT
BEGIN:STANDARD
TZOFFSETFROM:+1100
TZOFFSETTO:+1000
TZNAME:AEST
DTSTART:20240406T160000
END:STANDARD
BEGIN:DAYLIGHT
TZOFFSETFROM:+1000
TZOFFSETTO:+1100
TZNAME:AEDT
DTSTART:20241005T160000
END:DAYLIGHT
BEGIN:STANDARD
TZOFFSETFROM:+1100
TZOFFSETTO:+1000
TZNAME:AEST
DTSTART:20250405T160000
END:STANDARD
BEGIN:DAYLIGHT
TZOFFSETFROM:+1000
TZOFFSETTO:+1100
TZNAME:AEDT
DTSTART:20251004T160000
END:DAYLIGHT
END:VTIMEZONE
BEGIN:VEVENT
DTSTART;VALUE=DATE:20250610
DTEND;VALUE=DATE:20250613
DTSTAMP:20260425T060058
CREATED:20250211T031632Z
LAST-MODIFIED:20250211T031632Z
UID:10000885-1749513600-1749772799@nswspc.org.au
SUMMARY:SPC Annual Conference
DESCRIPTION:
URL:https://nswspc.org.au/event/spc-annual-conference-4/
CATEGORIES:Conferences
END:VEVENT
BEGIN:VEVENT
DTSTART;TZID=Australia/Sydney:20240611T000000
DTEND;TZID=Australia/Sydney:20240613T000000
DTSTAMP:20260425T060058
CREATED:20250211T031339Z
LAST-MODIFIED:20250211T031339Z
UID:10000763-1718064000-1718236800@nswspc.org.au
SUMMARY:SPC Annual Conference
DESCRIPTION:
URL:https://nswspc.org.au/event/spc-annual-conference-3/
LOCATION:Hyatt Regency Sydney\, 161 Sussex Street\, Sydney\, NSW\, 2000\, Australia
CATEGORIES:Conferences
ORGANIZER;CN="Kylie Hedger":MAILTO:KYLIE.HEDGER@det.nsw.edu.au
END:VEVENT
BEGIN:VEVENT
DTSTART;TZID=Australia/Sydney:20240314T000000
DTEND;TZID=Australia/Sydney:20240315T000000
DTSTAMP:20260425T060058
CREATED:20250211T031256Z
LAST-MODIFIED:20250211T031256Z
UID:10000733-1710374400-1710460800@nswspc.org.au
SUMMARY:Western Sydney Conference
DESCRIPTION:
URL:https://nswspc.org.au/event/western-sydney-conference/
CATEGORIES:Conferences
ORGANIZER;CN="Sally Smithard":MAILTO:Sally.M.Smithard@det.nsw.edu.au
END:VEVENT
BEGIN:VEVENT
DTSTART;TZID=Australia/Sydney:20230822T000000
DTEND;TZID=Australia/Sydney:20230822T000000
DTSTAMP:20260425T060058
CREATED:20250211T031134Z
LAST-MODIFIED:20250211T031134Z
UID:10000655-1692662400-1692662400@nswspc.org.au
SUMMARY:VET SPC Reference Group Conference
DESCRIPTION:
URL:https://nswspc.org.au/event/vet-spc-reference-group-conference/
LOCATION:Venue TBC
CATEGORIES:Conferences
ORGANIZER;CN="Andrew FitzSimons":MAILTO:Andrew.FitzSimons@det.nsw.edu.au
END:VEVENT
BEGIN:VEVENT
DTSTART;TZID=Australia/Sydney:20230613T000000
DTEND;TZID=Australia/Sydney:20230615T000000
DTSTAMP:20260425T060058
CREATED:20250211T031044Z
LAST-MODIFIED:20250211T031044Z
UID:10000633-1686614400-1686787200@nswspc.org.au
SUMMARY:SPC Annual Conference
DESCRIPTION:
URL:https://nswspc.org.au/event/spc-annual-conference-2/
LOCATION:Tamworth
CATEGORIES:Conferences
ORGANIZER;CN="Michael Rathborne":MAILTO:Michael.Rathborne@det.nsw.edu.au
END:VEVENT
BEGIN:VEVENT
DTSTART;TZID=Australia/Sydney:20220614T083000
DTEND;TZID=Australia/Sydney:20220616T160000
DTSTAMP:20260425T060058
CREATED:20250211T030507Z
LAST-MODIFIED:20250211T030507Z
UID:10000489-1655195400-1655395200@nswspc.org.au
SUMMARY:Annual Conference
DESCRIPTION:
URL:https://nswspc.org.au/event/annual-conference-3/
CATEGORIES:Conferences
END:VEVENT
BEGIN:VEVENT
DTSTART;TZID=Australia/Sydney:20210616T080000
DTEND;TZID=Australia/Sydney:20210617T153000
DTSTAMP:20260425T060058
CREATED:20250211T013901Z
LAST-MODIFIED:20250211T013901Z
UID:10000361-1623830400-1623943800@nswspc.org.au
SUMMARY:2021 Annual NSW SPC Conference
DESCRIPTION:Each year the Annual Conference attracts hundreds of SPC members and is an unrivalled platform for NSW public school principals to engage in a vibrant discussion about the future directions for education in the 21st century. The theme for the 2021 Conference is “2021: Re-Visioned” and we are excited to welcome a broad range of keynote speakers to explore the latest trends in education and learning in a post-COVID world.
URL:https://nswspc.org.au/event/2021-annual-nsw-spc-conference/
CATEGORIES:Conferences
END:VEVENT
BEGIN:VEVENT
DTSTART;TZID=Australia/Sydney:20200609T080000
DTEND;TZID=Australia/Sydney:20200611T140000
DTSTAMP:20260425T060058
CREATED:20250211T013242Z
LAST-MODIFIED:20250211T013242Z
UID:10000304-1591689600-1591884000@nswspc.org.au
SUMMARY:SPC Annual Conference (Albury)
DESCRIPTION:
URL:https://nswspc.org.au/event/spc-annual-conference-albury/
CATEGORIES:Conferences
END:VEVENT
BEGIN:VEVENT
DTSTART;VALUE=DATE:20190611
DTEND;VALUE=DATE:20190614
DTSTAMP:20260425T060058
CREATED:20250211T012726Z
LAST-MODIFIED:20250211T012726Z
UID:10000235-1560211200-1560470399@nswspc.org.au
SUMMARY:SPC Annual Conference
DESCRIPTION:
URL:https://nswspc.org.au/event/spc-annual-conference/
LOCATION:Novotel Sydney Manly Pacific
CATEGORIES:Conferences
END:VEVENT
BEGIN:VEVENT
DTSTART;VALUE=DATE:20170917
DTEND;VALUE=DATE:20170927
DTSTAMP:20260425T060058
CREATED:20250211T012007Z
LAST-MODIFIED:20250211T012007Z
UID:10000032-1505606400-1506470399@nswspc.org.au
SUMMARY:ICP Conference
DESCRIPTION:Capetown\, South Africa.
URL:https://nswspc.org.au/event/icp-conference/
CATEGORIES:Conferences
END:VEVENT
BEGIN:VEVENT
DTSTART;VALUE=DATE:20170907
DTEND;VALUE=DATE:20170909
DTSTAMP:20260425T060058
CREATED:20250211T012007Z
LAST-MODIFIED:20250211T012007Z
UID:10000030-1504742400-1504915199@nswspc.org.au
SUMMARY:Rural and Remote Education Conference 2017 – What works! Sharing our success
DESCRIPTION:
URL:https://nswspc.org.au/event/rural-and-remote-education-conference-2017-what-works-sharing-our-success/
CATEGORIES:Conferences
END:VEVENT
BEGIN:VEVENT
DTSTART;VALUE=DATE:20170817
DTEND;VALUE=DATE:20170819
DTSTAMP:20260425T060058
CREATED:20250211T012007Z
LAST-MODIFIED:20250211T012007Z
UID:10000023-1502928000-1503100799@nswspc.org.au
SUMMARY:North Coast SPC Conference
DESCRIPTION:
URL:https://nswspc.org.au/event/north-coast-spc-conference/
CATEGORIES:Conferences
END:VEVENT
BEGIN:VEVENT
DTSTART;VALUE=DATE:20170613
DTEND;VALUE=DATE:20170616
DTSTAMP:20260425T060058
CREATED:20250211T011825Z
LAST-MODIFIED:20250211T011825Z
UID:10000003-1497312000-1497571199@nswspc.org.au
SUMMARY:Annual Conference
DESCRIPTION:
URL:https://nswspc.org.au/event/annual-conference/
LOCATION:Sofitel Sydney Wentworth
CATEGORIES:Conferences
END:VEVENT
END:VCALENDAR