BEGIN:VCALENDAR
VERSION:2.0
PRODID:-//New South Wales Secondary Principals&#039; Council - ECPv6.15.5//NONSGML v1.0//EN
CALSCALE:GREGORIAN
METHOD:PUBLISH
X-WR-CALNAME:New South Wales Secondary Principals&#039; Council
X-ORIGINAL-URL:https://nswspc.org.au
X-WR-CALDESC:Events for New South Wales Secondary Principals&#039; Council
REFRESH-INTERVAL;VALUE=DURATION:PT1H
X-Robots-Tag:noindex
X-PUBLISHED-TTL:PT1H
BEGIN:VTIMEZONE
TZID:Australia/Adelaide
BEGIN:STANDARD
TZOFFSETFROM:+1030
TZOFFSETTO:+0930
TZNAME:ACST
DTSTART:20260404T163000
END:STANDARD
BEGIN:DAYLIGHT
TZOFFSETFROM:+0930
TZOFFSETTO:+1030
TZNAME:ACDT
DTSTART:20261003T163000
END:DAYLIGHT
END:VTIMEZONE
BEGIN:VEVENT
DTSTART;TZID=Australia/Adelaide:20260812T083000
DTEND;TZID=Australia/Adelaide:20260812T153000
DTSTAMP:20260421T192235
CREATED:20251204T024742Z
LAST-MODIFIED:20251204T024742Z
UID:10001082-1786523400-1786548600@nswspc.org.au
SUMMARY:Legal Reference Group
DESCRIPTION:
URL:https://nswspc.org.au/event/legal-reference-group-3/
LOCATION:NSW Department of Education (Parramatta)\, Room 103 / 105 Phillip St\, Parramatta\, NSW\, 2150\, Australia
CATEGORIES:Ref. & Int. Group meetings
ORGANIZER;CN="Norman Johnson-Meader":MAILTO:Norman.Meader@det.nsw.edu.au
END:VEVENT
BEGIN:VEVENT
DTSTART;TZID=Australia/Adelaide:20260812T090000
DTEND;TZID=Australia/Adelaide:20260812T150000
DTSTAMP:20260421T192235
CREATED:20251126T013239Z
LAST-MODIFIED:20251126T013239Z
UID:10001069-1786525200-1786546800@nswspc.org.au
SUMMARY:HPGE
DESCRIPTION:
URL:https://nswspc.org.au/event/hpge/
CATEGORIES:Ref. & Int. Group meetings
ORGANIZER;CN="Cassy Norris":MAILTO:carol.norris@det.nsw.edu.au
END:VEVENT
BEGIN:VEVENT
DTSTART;TZID=Australia/Adelaide:20260812T140000
DTEND;TZID=Australia/Adelaide:20260812T153000
DTSTAMP:20260421T192235
CREATED:20251123T212801Z
LAST-MODIFIED:20251123T212801Z
UID:10001054-1786543200-1786548600@nswspc.org.au
SUMMARY:Health\, Safety and Staff Wellbeing RG
DESCRIPTION:
URL:https://nswspc.org.au/event/health-safety-and-staff-wellbeing-rg-2/
LOCATION:Online\, NSW\, Australia
CATEGORIES:Ref. & Int. Group meetings
END:VEVENT
END:VCALENDAR