BEGIN:VCALENDAR
VERSION:2.0
PRODID:-//New South Wales Secondary Principals&#039; Council - ECPv6.15.5//NONSGML v1.0//EN
CALSCALE:GREGORIAN
METHOD:PUBLISH
X-ORIGINAL-URL:https://nswspc.org.au
X-WR-CALDESC:Events for New South Wales Secondary Principals&#039; Council
REFRESH-INTERVAL;VALUE=DURATION:PT1H
X-Robots-Tag:noindex
X-PUBLISHED-TTL:PT1H
BEGIN:VTIMEZONE
TZID:Australia/Adelaide
BEGIN:STANDARD
TZOFFSETFROM:+1030
TZOFFSETTO:+0930
TZNAME:ACST
DTSTART:20260404T163000
END:STANDARD
BEGIN:DAYLIGHT
TZOFFSETFROM:+0930
TZOFFSETTO:+1030
TZNAME:ACDT
DTSTART:20261003T163000
END:DAYLIGHT
END:VTIMEZONE
BEGIN:VEVENT
DTSTART;TZID=Australia/Adelaide:20260811T080000
DTEND;TZID=Australia/Adelaide:20260811T170000
DTSTAMP:20260420T000619
CREATED:20251117T040119Z
LAST-MODIFIED:20251117T040119Z
UID:10001018-1786435200-1786467600@nswspc.org.au
SUMMARY:Comms and Engagement RG
DESCRIPTION:
URL:https://nswspc.org.au/event/comms-and-engagement-rg-3/
LOCATION:Venue TBC
CATEGORIES:Ref. & Int. Group meetings
ORGANIZER;CN="David Taylor":MAILTO:David.Taylor165@det.nsw.edu.au
END:VEVENT
BEGIN:VEVENT
DTSTART;TZID=Australia/Adelaide:20260811T090000
DTEND;TZID=Australia/Adelaide:20260811T123000
DTSTAMP:20260420T000619
CREATED:20251126T003421Z
LAST-MODIFIED:20251126T003421Z
UID:10001068-1786438800-1786451400@nswspc.org.au
SUMMARY:Sustainability RG - ONLINE
DESCRIPTION:
URL:https://nswspc.org.au/event/sustainability-rg-online-3/
CATEGORIES:Ref. & Int. Group meetings
ORGANIZER;CN="Catherine Glover":MAILTO:catherine.glover@det.nsw.edu.au
END:VEVENT
BEGIN:VEVENT
DTSTART;TZID=Australia/Adelaide:20260811T093000
DTEND;TZID=Australia/Adelaide:20260811T110000
DTSTAMP:20260420T000619
CREATED:20260409T223258Z
LAST-MODIFIED:20260409T223258Z
UID:10001110-1786440600-1786446000@nswspc.org.au
SUMMARY:PES RG
DESCRIPTION:
URL:https://nswspc.org.au/event/pes-rg/2026-08-11/
CATEGORIES:Ref. & Int. Group meetings
ORGANIZER;CN="Susan Wyatt":MAILTO:Susan.Wyatt@det.nsw.edu.au
END:VEVENT
END:VCALENDAR