BEGIN:VCALENDAR
VERSION:2.0
PRODID:-//New South Wales Secondary Principals&#039; Council - ECPv6.15.5//NONSGML v1.0//EN
CALSCALE:GREGORIAN
METHOD:PUBLISH
X-ORIGINAL-URL:https://nswspc.org.au
X-WR-CALDESC:Events for New South Wales Secondary Principals&#039; Council
REFRESH-INTERVAL;VALUE=DURATION:PT1H
X-Robots-Tag:noindex
X-PUBLISHED-TTL:PT1H
BEGIN:VTIMEZONE
TZID:Australia/Sydney
BEGIN:STANDARD
TZOFFSETFROM:+1100
TZOFFSETTO:+1000
TZNAME:AEST
DTSTART:20170401T160000
END:STANDARD
BEGIN:DAYLIGHT
TZOFFSETFROM:+1000
TZOFFSETTO:+1100
TZNAME:AEDT
DTSTART:20170930T160000
END:DAYLIGHT
END:VTIMEZONE
BEGIN:VEVENT
DTSTART;VALUE=DATE:20171117
DTEND;VALUE=DATE:20171118
DTSTAMP:20260425T114709
CREATED:20250211T012056Z
LAST-MODIFIED:20250211T012056Z
UID:10000060-1510876800-1510963199@nswspc.org.au
SUMMARY:NSWSPC Professional Learning Day
DESCRIPTION:Learning and Leading with Technology\nThe Term 4 Professional Learning Day will examine the accelerating pace of technological change and the implications for leaders who want to make the learning in public schools relevant to students who will emerge from education in the third decade of the 21st century. The keynote and workshops will focus on practice and thinking that equips current students to take advantage of emerging technological innovation.
URL:https://nswspc.org.au/event/nswspc-professional-learning-day-2/
LOCATION:UTS Aerial Function Centre\, Level 7\, Building 10\, 235 Jones Street\, Ultimo\, NSW\, 2007\, Australia
CATEGORIES:Professional Learning
ORGANIZER;CN="Director of PL":MAILTO:pldirector@nswspc.org.au
END:VEVENT
END:VCALENDAR